Workbook

Sheet 報名總表及收費
A1: 香港中華業餘游泳聯會 比賽報名總表及收據 | H1: 比賽名稱 | I1: 比賽日期 | J1: 比賽地點 | M1: A | N1: B | O1: C | P1: D | Q1: E | R1: F | AO1: Fee (Ind) | AP1: Fee (Relay)
H2: 屬會新秀游泳比賽(第一天) | I2: 45053 | J2: 大環山游泳池 | L2: 新秀1 | S2: 新秀賽3項 | T2: 4 | U2: 4X50米四式階梯接力 | V2: 32 | W2: 4X50米自由式階梯接力 | X2: 34 | AE2: 4X50米四式階梯接力 | AF2: 31 | AG2: 4X50米自由式階梯接力 | AH2: 33 | AO2: 15 | AP2: 30
A3: 填表注意事項: | H3: 屬會新秀游泳比賽(第二天) | I3: 45060 | J3: 大環山游泳池 | L3: 新秀2 | S3: 新秀賽3項 | T3: 4 | U3: 4X50米四式階梯接力 | V3: 34 | W3: 4X50米自由式階梯接力 | X3: 36 | AE3: 4X50米四式階梯接力 | AF3: 33 | AG3: 4X50米自由式階梯接力 | AH3: 35 | AO3: 15 | AP3: 30
H4: 周年(長池)游泳錦標賽 | I4: 7,23/7/2023 | J4: 中山公園游泳池 | L4: 周年 | M4: 2007 | N4: 2008 | O4: 2008 | P4: 2009 | S4: 週年賽4項 | T4: 4 | U4: 男甲 4X100米混合泳接力 | V4: 28 | W4: 男乙 4X100米混合泳接力 | X4: 30 | Y4: 男甲 4X100米自由泳接力 | Z4: 58 | AA4: 男乙 4X100米自由泳接力 | AB4: 60 | AE4: 女甲 4X100米混合泳接力 | AF4: 27 | AG4: 女乙 4X100米混合泳接力 | AH4: 29 | AI4: 女甲 4X100米自由泳接力 | AJ4: 57 | AK4: 女乙 4X100米自由泳接力 | AL4: 59 | AO4: 15 | AP4: 30
A5: 1. 請先在此版面先填寫基本資料，其後相關資料會自動顯示所屬版面及位置上 | H5: 周年(短池)游泳錦標賽 | I5: 45256 | J5: 城門谷游泳池 | L5: 短池 | M5: 2007 | N5: 2008 | O5: 2008 | P5: 2009 | Q5: 2013 | R5: 2014 | S5: 週年賽4項 | T5: 4 | U5: 男甲 4X50米自由泳接力 | V5: 22 | W5: 男乙 4X50米自由泳接力 | X5: 24 | Y5: 男丙 4X50米自由泳接力 | Z5: 26 | AA5: 男甲 4X50米四式接力 | AB5: 52 | AC5: 男乙 4X50米四式接力 | AD5: 54 | AE5: 女甲 4X50米自由泳接力 | AF5: 21 | AG5: 女乙 4X50米自由泳接力 | AH5: 23 | AI5: 女丙 4X50米自由泳接力 | AJ5: 25 | AK5: 女甲 4X50米四式接力 | AL5: 41 | AM5: 女乙 4X50米四式接力 | AN5: 43 | AO5: 15 | AP5: 30
A6: 2. 報名格式及要求，請參閱報名版面 | H6: 第一屆嶺南杯少年游泳分齡邀請賽 | I6: 45151 | J6: 中山公園游泳池 | L6: 嶺南杯 | S6: 3項 | T6: 3 | U6: 男女子混合4X50米四式接力 | V6: 81 | W6: 男女子混合4x50米自由泳接力 | X6: 82 | AO6: 50 | AP6: 100
A7: 3. 請盡量使用Microsoft Excel填寫報名表，以獲得最佳效果。表格內所有提示只供參考。
A8: Google sheet 報名連結 | H8: 年齡 | I8: 1 | J8: 2 | K8: 3 | L8: 4 | M8: 5 | N8: 6 | O8: 7 | P8: 8 | Q8: 9 | R8: 10 | S8: 11 | T8: 12 | U8: 13 | V8: 14 | W8: 15 | X8: 16 | Y8: 17 | Z8: 18 | AA8: 19 | AB8: 20 | AC8: 21 | AD8: 22 | AE8: 23 | AF8: 24 | AG8: 25 | AH8: 26 | AI8: 27 | AJ8: 28 | AK8: 29 | AL8: 30 | AM8: 31 | AN8: 32 | AO8: 33 | AP8: 34 | AQ8: 35 | AR8: 36 | AS8: 37 | AT8: 38 | AU8: 39 | AV8: 40 | AW8: 41 | AX8: 42 | AY8: 43 | AZ8: 44 | BA8: 45 | BB8: 46 | BC8: 47 | BD8: 48 | BE8: 49 | BF8: 50 | BG8: 51 | BH8: 52 | BI8: 53 | BJ8: 54 | BK8: 55 | BL8: 56 | BM8: 57 | BN8: 58 | BO8: 59 | BP8: 60 | BQ8: 61 | BR8: 62 | BS8: 63 | BT8: 64 | BU8: 65 | BV8: 66 | BW8: 67 | BX8: 68 | BY8: 69 | BZ8: 70 | CA8: 71 | CB8: 72 | CC8: 73 | CD8: 74 | CE8: 75 | CF8: 76 | CG8: 77 | CH8: 78 | CI8: 79 | CJ8: 80 | CK8: 81 | CL8: 82
H9: 新秀1 | I9: 10 | J9: 10 | K9: 11 | L9: 11 | M9: 10 | N9: 10 | O9: 11 | P9: 11 | Q9: 10 | R9: 10 | S9: 11 | T9: 11 | U9: 10 | V9: 10 | W9: 11 | X9: 11 | Y9: 10 | Z9: 10 | AA9: 11 | AB9: 11 | AC9: 10 | AD9: 10 | AE9: 11 | AF9: 11 | AG9: 11 | AH9: 11 | AI9: 10 | AJ9: 10 | AK9: 11 | AL9: 11 | AQ9: 8 | AR9: 8 | AS9: 9 | AT9: 9 | AU9: 7D | AV9: 7D | AW9: 8 | AX9: 8 | AY9: 9 | AZ9: 9 | BA9: 8 | BB9: 8 | BC9: 9 | BD9: 9 | BE9: 7D | BF9: 7D | BG9: 8 | BH9: 8 | BI9: 9 | BJ9: 9 | BK9: 9 | BL9: 9 | BM9: 9 | BN9: 9
A10: 團體名稱: | E10: 比賽名稱: | F10: 周年(短池)游泳錦標賽 | H10: 新秀2 | I10: 14 | J10: 14 | K10: 15U | L10: 15U | M10: 14 | N10: 14 | O10: 15U | P10: 15U | Q10: 14 | R10: 14 | S10: 15U | T10: 15U | U10: 14 | V10: 14 | W10: 15U | X10: 15U | Y10: 14 | Z10: 14 | AA10: 15U | AB10: 15U | AC10: 14 | AD10: 14 | AE10: 15U | AF10: 15U | AG10: 14 | AH10: 14 | AI10: 15U | AJ10: 15U | AK10: 14 | AL10: 14 | AM10: 15U | AN10: 15U | AS10: 12 | AT10: 12 | AU10: 13 | AV10: 13 | AW10: 12 | AX10: 12 | AY10: 13 | AZ10: 13 | BA10: 12 | BB10: 12 | BC10: 13 | BD10: 13 | BE10: 12 | BF10: 12 | BG10: 13 | BH10: 13 | BI10: 12 | BJ10: 12 | BK10: 13 | BL10: 13 | BM10: 12 | BN10: 12 | BO10: 13 | BP10: 13 | BQ10: 12 | BR10: 12 | BS10: 13 | BT10: 13 | BU10: 12 | BV10: 12 | BW10: 13 | BX10: 13
A11: 負責人: | E11: 比賽日期: | F11: =IF($F$10="","",VLOOKUP($F$10,$H$2:$J$6,2,FALSE)) -> 45256 | H11: 周年 | I11: C | J11: A | K11: D | L11: B | M11: C | N11: A | O11: D | P11: B | Q11: C | R11: A | S11: C | T11: A | U11: D | V11: B | W11: C | X11: A | Y11: D | Z11: B | AA11: C | AB11: A | AC11: D | AD11: B | AE11: C | AF11: A | AG11: D | AH11: B | AI11: C | AJ11: A | AK11: D | AL11: B | AM11: C | AN11: A | AO11: D | AP11: B | AQ11: C | AR11: A | AS11: D | AT11: B | AU11: C | AV11: A | AW11: C | AX11: A | AY11: D | AZ11: B | BA11: C | BB11: A | BC11: D | BD11: B | BE11: C | BF11: A | BG11: D | BH11: B | BI11: C | BJ11: A | BK11: D | BL11: B | BM11: C | BN11: A | BO11: D | BP11: B
A12: 聯絡電話: | E12: 比賽地點: | F12: =IF($F$10="","",VLOOKUP($F$10,$H$2:$J$6,3,FALSE)) -> 城門谷游泳池 | H12: 短池 | I12: C | J12: A | K12: D | L12: B | M12: C | N12: A | O12: D | P12: B | Q12: F | R12: E | S12: C | T12: A | U12: D | V12: B | W12: C | X12: A | Y12: D | Z12: B | AA12: F | AB12: E | AC12: C | AD12: A | AE12: D | AF12: B | AG12: F | AH12: E | AI12: C | AJ12: A | AK12: D | AL12: B | AM12: C | AN12: A | AO12: D | AP12: B | AQ12: F | AR12: E | AS12: C | AT12: A | AU12: D | AV12: B | AW12: C | AX12: A | AY12: D | AZ12: B | BA12: F | BB12: E | BC12: C | BD12: A | BE12: D | BF12: B | BG12: C | BH12: A | BI12: D | BJ12: B
H13: 嶺南杯 | I13: 9U | J13: 9U | K13: 10 | L13: 10 | M13: 11 | N13: 11 | O13: 12 | P13: 12 | Q13: 13 | R13: 13 | S13: 9U | T13: 9U | U13: 10 | V13: 10 | W13: 11 | X13: 11 | Y13: 12 | Z13: 12 | AA13: 13 | AB13: 13 | AC13: 9U | AD13: 9U | AE13: 10 | AF13: 10 | AG13: 11 | AH13: 11 | AI13: 12 | AJ13: 12 | AK13: 13 | AL13: 13 | AM13: 9U | AN13: 9U | AO13: 10 | AP13: 10 | AQ13: 11 | AR13: 11 | AS13: 12 | AT13: 12 | AU13: 13 | AV13: 13 | AW13: 9U | AX13: 9U | AY13: 10 | AZ13: 10 | BA13: 11 | BB13: 11 | BC13: 12 | BD13: 12 | BE13: 13 | BF13: 13 | BG13: 9U | BH13: 9U | BI13: 10 | BJ13: 10 | BK13: 11 | BL13: 11 | BM13: 12 | BN13: 12 | BO13: 13 | BP13: 13 | BQ13: 9U | BR13: 9U | BS13: 10 | BT13: 10 | BU13: 11 | BV13: 11 | BW13: 12 | BX13: 12 | BY13: 13 | BZ13: 13 | CA13: 9U | CB13: 9U | CC13: 10 | CD13: 10 | CE13: 11 | CF13: 11 | CG13: 12 | CH13: 12 | CI13: 13 | CJ13: 13 | CK13: Open | CL13: Open
D14: 數量 | E14: 費用 | F14: 收費
C15: 單項(男) | D15: =COUNTA(男!E24:E163) -> 0 | E15: =H31 -> 15 | F15: =E15*D15 -> 0 | H15: 達標時間
H16: 新秀1
C17: 單項(女) | D17: =COUNTA(女!E24:E159) -> 0 | E17: =H31 -> 15 | F17: =E17*D17 -> 0 | H17: 新秀2
H18: 周年 | I18: 30000 | J18: 11003 | K18: 30000 | L18: 11003 | M18: 13656 | N18: 32000 | O18: 13656 | P18: 32000 | Q18: 33000 | R18: 31500 | S18: 14200 | T18: 14000 | U18: 14200 | V18: 14000 | W18: 3701 | X18: 3755 | Y18: 3701 | Z18: 3755 | AA18: 32500 | AB18: 60000 | AC18: 32500 | AD18: 60000 | AE18: 4300 | AF18: 3497 | AG18: 4300 | AH18: 3564 | AI18: 0 | AJ18: 0 | AK18: 0 | AL18: 0 | AM18: 13199 | AN18: 25000 | AO18: 13199 | AP18: 25000 | AQ18: 32000 | AR18: 12792 | AS18: 32000 | AT18: 12792 | AU18: 32000 | AV18: 32000 | AW18: 15000 | AX18: 12915 | AY18: 15000 | AZ18: 12915 | BA18: 4406 | BB18: 3108 | BC18: 4406 | BD18: 3108 | BE18: 63000 | BF18: 30370 | BG18: 63000 | BH18: 30370 | BI18: 4000 | BJ18: 3834 | BK18: 4000 | BL18: 3834 | BM18: 0 | BN18: 0 | BO18: 0 | BP18: 0
C19: 接力 | D19: =COUNTA(男!G16:G19)+COUNTA(女!G16:G20) -> 0 | E19: =H32 -> 30 | F19: =E19*D19 -> 0 | H19: 短池 | I19: 13400 | J19: 13000 | K19: 13600 | L19: 13200 | M19: 4200 | N19: 3900 | O19: 4500 | P19: 4200 | Q19: 5500 | R19: 5000 | S19: 13200 | T19: 12600 | U19: 13400 | V19: 12800 | W19: 3600 | X19: 3300 | Y19: 3900 | Z19: 3600 | AA19: 4300 | AB19: 4000 | AI19: 13300 | AJ19: 12600 | AK19: 13700 | AL19: 13200 | AM19: 4000 | AN19: 3600 | AO19: 4300 | AP19: 3800 | AQ19: 5000 | AR19: 4500 | AS19: 13700 | AT19: 12900 | AU19: 14200 | AV19: 13400 | AW19: 3800 | AX19: 3500 | AY19: 4000 | AZ19: 3800 | BA19: 5000 | BB19: 4500 | BC19: 12000 | BD19: 11400 | BE19: 12400 | BF19: 11900
H20: 嶺南杯 | I20: 4500 | J20: 4400 | K20: 4300 | L20: 4200 | M20: 4100 | N20: 4000 | O20: 4000 | P20: 3900 | Q20: 4000 | R20: 3900 | S20: 4700 | T20: 4600 | U20: 4600 | V20: 4500 | W20: 4500 | X20: 4400 | Y20: 4400 | Z20: 4300 | AA20: 4300 | AB20: 4200 | AC20: 15500 | AD20: 15300 | AE20: 15300 | AF20: 15100 | AG20: 15100 | AH20: 14900 | AI20: 14900 | AJ20: 14700 | AK20: 14700 | AL20: 14500 | AM20: 14500 | AN20: 14300 | AO20: 14300 | AP20: 14100 | AQ20: 14100 | AR20: 13900 | AS20: 13900 | AT20: 13700 | AU20: 13900 | AV20: 13700 | AW20: 14000 | AX20: 13800 | AY20: 13800 | AZ20: 13600 | BA20: 13600 | BB20: 13400 | BC20: 13400 | BD20: 13200 | BE20: 13200 | BF20: 13000 | BG20: 15200 | BH20: 15000 | BI20: 15000 | BJ20: 14800 | BK20: 14800 | BL20: 14600 | BM20: 14600 | BN20: 14400 | BO20: 14500 | BP20: 14200 | BQ20: 5000 | BR20: 4900 | BS20: 4900 | BT20: 4800 | BU20: 4800 | BV20: 4700 | BW20: 4700 | BX20: 4600 | BY20: 4600 | BZ20: 4500 | CA20: 4600 | CB20: 4500 | CC20: 4500 | CD20: 4400 | CE20: 4400 | CF20: 4300 | CG20: 4300 | CH20: 4200 | CI20: 4200 | CJ20: 4100
C21: 成績證書行政費 | D21: =男!N2+女!N2 -> 0 | E21: $40.00 | F21: =E21*D21 -> 0
H22: Events
C23: 領取證書方式: | H23: 新秀1 | I23: 100米背泳 | J23: 100米背泳 | K23: 100米背泳 | L23: 100米背泳 | M23: 100米蛙泳 | N23: 100米蛙泳 | O23: 100米蛙泳 | P23: 100米蛙泳 | Q23: 50米蝶泳 | R23: 50米蝶泳 | S23: 50米蝶泳 | T23: 50米蝶泳 | U23: 50米自由泳 | V23: 50米自由泳 | W23: 50米自由泳 | X23: 50米自由泳 | Y23: 50米背泳 | Z23: 50米背泳 | AA23: 50米背泳 | AB23: 50米背泳 | AC23: 50米蛙泳 | AD23: 50米蛙泳 | AE23: 50米蛙泳 | AF23: 50米蛙泳 | AG23: 100米蝶泳 | AH23: 100米蝶泳 | AI23: 100米自由泳 | AJ23: 100米自由泳 | AK23: 100米自由泳 | AL23: 100米自由泳 | AM23: 4X50米四式接力 | AN23: 4X50米四式接力 | AO23: 4X50米自由泳接力 | AP23: 4X50米自由泳接力 | AQ23: 50米背泳 | AR23: 50米背泳 | AS23: 50米背泳 | AT23: 50米背泳 | AU23: 50米蛙泳 | AV23: 50米蛙泳 | AW23: 50米蛙泳 | AX23: 50米蛙泳 | AY23: 50米蛙泳 | AZ23: 50米蛙泳 | BA23: 50米蝶泳 | BB23: 50米蝶泳 | BC23: 50米蝶泳 | BD23: 50米蝶泳 | BE23: 50米自由泳 | BF23: 50米自由泳 | BG23: 50米自由泳 | BH23: 50米自由泳 | BI23: 50米自由泳 | BJ23: 50米自由泳 | BK23: 100米蛙泳 | BL23: 100米蛙泳 | BM23: 100米自由泳 | BN23: 100米自由泳
H24: 新秀2 | I24: 100米背泳 | J24: 100米背泳 | K24: 100米背泳 | L24: 100米背泳 | M24: 100米蛙泳 | N24: 100米蛙泳 | O24: 100米蛙泳 | P24: 100米蛙泳 | Q24: 50米蝶泳 | R24: 50米蝶泳 | S24: 50米蝶泳 | T24: 50米蝶泳 | U24: 50米自由泳 | V24: 50米自由泳 | W24: 50米自由泳 | X24: 50米自由泳 | Y24: 50米背泳 | Z24: 50米背泳 | AA24: 50米背泳 | AB24: 50米背泳 | AC24: 50米蛙泳 | AD24: 50米蛙泳 | AE24: 50米蛙泳 | AF24: 50米蛙泳 | AG24: 100米蝶泳 | AH24: 100米蝶泳 | AI24: 100米蝶泳 | AJ24: 100米蝶泳 | AK24: 100米自由泳 | AL24: 100米自由泳 | AM24: 100米自由泳 | AN24: 100米自由泳 | AO24: 4X50米四式接力 | AP24: 4X50米四式接力 | AQ24: 4X50米自由泳接力 | AR24: 4X50米自由泳接力 | AS24: 100米背泳 | AT24: 100米背泳 | AU24: 100米背泳 | AV24: 100米背泳 | AW24: 100米蛙泳 | AX24: 100米蛙泳 | AY24: 100米蛙泳 | AZ24: 100米蛙泳 | BA24: 50米蝶泳 | BB24: 50米蝶泳 | BC24: 50米蝶泳 | BD24: 50米蝶泳 | BE24: 50米自由泳 | BF24: 50米自由泳 | BG24: 50米自由泳 | BH24: 50米自由泳 | BI24: 50米背泳 | BJ24: 50米背泳 | BK24: 50米背泳 | BL24: 50米背泳 | BM24: 50米蛙泳 | BN24: 50米蛙泳 | BO24: 50米蛙泳 | BP24: 50米蛙泳 | BQ24: 100米蝶泳 | BR24: 100米蝶泳 | BS24: 100米蝶泳 | BT24: 100米蝶泳 | BU24: 100米自由泳 | BV24: 100米自由泳 | BW24: 100米自由泳 | BX24: 100米自由泳
C25: 郵寄地址: | H25: 周年 | I25: 女甲 200米自由泳 | J25: 男甲 100米自由泳 | K25: 女乙 200米自由泳 | L25: 男乙 100米自由泳 | M25: 女甲 100米蛙泳 | N25: 男甲 200米蛙泳 | O25: 女乙 100米蛙泳 | P25: 男乙 200米蛙泳 | Q25: 女甲 200米背泳 | R25: 男甲 200米蝶泳 | S25: 女甲 100米蝶泳 | T25: 男甲 100米背泳 | U25: 女乙 100米蝶泳 | V25: 男乙 100米背泳 | W25: 女甲 50米自由泳 | X25: 男甲 50米蛙泳 | Y25: 女乙 50米自由泳 | Z25: 男乙 50米蛙泳 | AA25: 女甲 200米個人混合泳 | AB25: 男甲 400米自由泳 | AC25: 女乙 200米個人混合泳 | AD25: 男乙 400米自由泳 | AE25: 女甲 50米背泳 | AF25: 男甲 50米蝶泳 | AG25: 女乙 50米背泳 | AH25: 男乙 50米蝶泳 | AI25: 女甲 4X100米混合泳接力 | AJ25: 男甲 4X100米混合泳接力 | AK25: 女乙 4X100米混合泳接力 | AL25: 男乙 4X100米混合泳接力 | AM25: 女甲 100米自由泳 | AN25: 男甲 200米自由泳 | AO25: 女乙 100米自由泳 | AP25: 男乙 200米自由泳 | AQ25: 女甲 200米蛙泳 | AR25: 男甲 100米蛙泳 | AS25: 女乙 200米蛙泳 | AT25: 男乙 100米蛙泳 | AU25: 女甲 200米蝶泳 | AV25: 男甲 200米背泳 | AW25: 女甲 100米背泳 | AX25: 男甲 100米蝶泳 | AY25: 女乙 100米背泳 | AZ25: 男乙 100米蝶泳 | BA25: 女甲 50米蛙泳 | BB25: 男甲 50米自由泳 | BC25: 女乙 50米蛙泳 | BD25: 男乙 50米自由泳 | BE25: 女甲 400米自由泳 | BF25: 男甲 200米個人混合泳 | BG25: 女乙 400米自由泳 | BH25: 男乙 200米個人混合泳 | BI25: 女甲 50米蝶泳 | BJ25: 男甲 50米背泳 | BK25: 女乙 50米蝶泳 | BL25: 男乙 50米背泳 | BM25: 女甲 4X100米自由泳接力 | BN25: 男甲 4X100米自由泳接力 | BO25: 女乙 4X100米自由泳接力 | BP25: 男乙 4X100米自由泳接力
E26: 總收費 | F26: =F15+F17+F19+F21 -> 0 | H26: 短池 | I26: 女甲 100米背泳 | J26: 男甲 100米背泳 | K26: 女乙 100米背泳 | L26: 男乙 100米背泳 | M26: 女甲 50米蛙泳 | N26: 男甲 50米蛙泳 | O26: 女乙 50米蛙泳 | P26: 男乙 50米蛙泳 | Q26: 女丙 50米蛙泳 | R26: 男丙 50米蛙泳 | S26: 女甲 100米蝶泳 | T26: 男甲 100米蝶泳 | U26: 女乙 100米蝶泳 | V26: 男乙 100米蝶泳 | W26: 女甲 50米自由泳 | X26: 男甲 50米自由泳 | Y26: 女乙 50米自由泳 | Z26: 男乙 50米自由泳 | AA26: 女丙 50米自由泳 | AB26: 男丙 50米自由泳 | AC26: 女甲 4X50米自由泳接力 | AD26: 男甲 4X50米自由泳接力 | AE26: 女乙 4X50米自由泳接力 | AF26: 男乙 4X50米自由泳接力 | AG26: 女丙 4X50米自由泳接力 | AH26: 男丙 4X50米自由泳接力 | AI26: 女甲 100米個人混合泳 | AJ26: 男甲 100米個人混合泳 | AK26: 女乙 100米個人混合泳 | AL26: 男乙 100米個人混合泳 | AM26: 女甲 50米背泳 | AN26: 男甲 50米背泳 | AO26: 女乙 50米背泳 | AP26: 男乙 50米背泳 | AQ26: 女丙 50米背泳 | AR26: 男丙 50米背泳 | AS26: 女甲 100米蛙泳 | AT26: 男甲 100米蛙泳 | AU26: 女乙 100米蛙泳 | AV26: 男乙 100米蛙泳 | AW26: 女甲 50米蝶泳 | AX26: 男甲 50米蝶泳 | AY26: 女乙 50米蝶泳 | AZ26: 男乙 50米蝶泳 | BA26: 女丙 50米蝶泳 | BB26: 男丙 50米蝶泳 | BC26: 女甲 100米自由泳 | BD26: 男甲 100米自由泳 | BE26: 女乙 100米自由泳 | BF26: 男乙 100米自由泳 | BG26: 女甲 4X50米四式接力 | BH26: 男甲 4X50米四式接力 | BI26: 女乙 4X50米四式接力 | BJ26: 男乙 4X50米四式接力
H27: 嶺南杯 | I27: 女子9歲及以下50米自由泳 | J27: 男子9歲及以下50米自由泳 | K27: 女子10歲50米自由泳 | L27: 男子10歲50米自由泳 | M27: 女子11歲50米自由泳 | N27: 男子11歲50米自由泳 | O27: 女子12歲50米自由泳 | P27: 男子12歲50米自由泳 | Q27: 女子13歲50米自由泳 | R27: 男子13歲50米自由泳 | S27: 女子9歲及以下50米背泳 | T27: 男子9歲及以下50米背泳 | U27: 女子10歲50米背泳 | V27: 男子10歲50米背泳 | W27: 女子11歲50米背泳 | X27: 男子11歲50米背泳 | Y27: 女子12歲50米背泳 | Z27: 男子12歲50米背泳 | AA27: 女子13歲50米背泳 | AB27: 男子13歲50米背泳 | AC27: 女子9歲及以下100米蛙泳 | AD27: 男子9歲及以下100米蛙泳 | AE27: 女子10歲100米蛙泳 | AF27: 男子10歲100米蛙泳 | AG27: 女子11歲100米蛙泳 | AH27: 男子11歲100米蛙泳 | AI27: 女子12歲100米蛙泳 | AJ27: 男子12歲100米蛙泳 | AK27: 女子13歲100米蛙泳 | AL27: 男子13歲100米蛙泳 | AM27: 女子9歲及以下100米蝶泳 | AN27: 男子9歲及以下100米蝶泳 | AO27: 女子10歲100米蝶泳 | AP27: 男子10歲100米蝶泳 | AQ27: 女子11歲100米蝶泳 | AR27: 男子11歲100米蝶泳 | AS27: 女子12歲100米蝶泳 | AT27: 男子12歲100米蝶泳 | AU27: 女子13歲100米蝶泳 | AV27: 男子13歲100米蝶泳 | AW27: 女子9歲及以下100米自由泳 | AX27: 男子9歲及以下100米自由泳 | AY27: 女子10歲100米自由泳 | AZ27: 男子10歲100米自由泳 | BA27: 女子11歲100米自由泳 | BB27: 男子11歲100米自由泳 | BC27: 女子12歲100米自由泳 | BD27: 男子12歲100米自由泳 | BE27: 女子13歲100米自由泳 | BF27: 男子13歲100米自由泳 | BG27: 女子9歲及以下100米背泳 | BH27: 男子9歲及以下100米背泳 | BI27: 女子10歲100米背泳 | BJ27: 男子10歲100米背泳 | BK27: 女子11歲100米背泳 | BL27: 男子11歲100米背泳 | BM27: 女子12歲100米背泳 | BN27: 男子12歲100米背泳 | BO27: 女子13歲100米背泳 | BP27: 男子13歲100米背泳 | BQ27: 女子9歲及以下50米蛙泳 | BR27: 男子9歲及以下50米蛙泳 | BS27: 女子10歲50米蛙泳 | BT27: 男子10歲50米蛙泳 | BU27: 女子11歲50米蛙泳 | BV27: 男子11歲50米蛙泳 | BW27: 女子12歲50米蛙泳 | BX27: 男子12歲50米蛙泳 | BY27: 女子13歲50米蛙泳 | BZ27: 男子13歲50米蛙泳 | CA27: 女子9歲及以下50米蝶泳 | CB27: 男子9歲及以下50米蝶泳 | CC27: 女子10歲50米蝶泳 | CD27: 男子10歲50米蝶泳 | CE27: 女子11歲50米蝶泳 | CF27: 男子11歲50米蝶泳 | CG27: 女子12歲50米蝶泳 | CH27: 男子12歲50米蝶泳 | CI27: 女子13歲50米蝶泳 | CJ27: 男子13歲50米蝶泳
A29: 付來現金 / 支票 : | H29: =F10 -> 周年(短池)游泳錦標賽 | J29: 年齡 | K29: 達標時間 | L29: Events
H30: =VLOOKUP($H$29,$H$2:$M$6,5,FALSE) -> 短池 | I30: 1 | J30: =IF(VLOOKUP($H$30,$H$9:$CL$14,I30+1,FALSE)=0,"",VLOOKUP($H$30,$H$9:$CL$14,I30+1,FALSE)) -> C | K30: =IF(VLOOKUP($H$30,$H$16:$CL$20,I30+1,FALSE)=0,"",VLOOKUP($H$30,$H$16:$CL$20,I30+1,FALSE)) -> 13400 | L30: =IF(VLOOKUP($H$30,$H$23:$CL$27,I30+1,FALSE)=0,"",VLOOKUP($H$30,$H$23:$CL$27,I30+1,FALSE)) -> 女甲 100米背泳
A31: 收款人 : | H31: =VLOOKUP($H$30,$L$2:$AP$6,30,FALSE) -> 15 | I31: 2 | J31: =IF(VLOOKUP($H$30,$H$9:$CL$14,I31+1,FALSE)=0,"",VLOOKUP($H$30,$H$9:$CL$14,I31+1,FALSE)) -> A | K31: =IF(VLOOKUP($H$30,$H$16:$CL$20,I31+1,FALSE)=0,"",VLOOKUP($H$30,$H$16:$CL$20,I31+1,FALSE)) -> 13000 | L31: =IF(VLOOKUP($H$30,$H$23:$CL$27,I31+1,FALSE)=0,"",VLOOKUP($H$30,$H$23:$CL$27,I31+1,FALSE)) -> 男甲 100米背泳
H32: =VLOOKUP($H$30,$L$2:$AP$6,31,FALSE) -> 30 | I32: 3 | J32: =IF(VLOOKUP($H$30,$H$9:$CL$14,I32+1,FALSE)=0,"",VLOOKUP($H$30,$H$9:$CL$14,I32+1,FALSE)) -> D | K32: =IF(VLOOKUP($H$30,$H$16:$CL$20,I32+1,FALSE)=0,"",VLOOKUP($H$30,$H$16:$CL$20,I32+1,FALSE)) -> 13600 | L32: =IF(VLOOKUP($H$30,$H$23:$CL$27,I32+1,FALSE)=0,"",VLOOKUP($H$30,$H$23:$CL$27,I32+1,FALSE)) -> 女乙 100米背泳
A33: 日期 : | I33: 4 | J33: =IF(VLOOKUP($H$30,$H$9:$CL$14,I33+1,FALSE)=0,"",VLOOKUP($H$30,$H$9:$CL$14,I33+1,FALSE)) -> B | K33: =IF(VLOOKUP($H$30,$H$16:$CL$20,I33+1,FALSE)=0,"",VLOOKUP($H$30,$H$16:$CL$20,I33+1,FALSE)) -> 13200 | L33: =IF(VLOOKUP($H$30,$H$23:$CL$27,I33+1,FALSE)=0,"",VLOOKUP($H$30,$H$23:$CL$27,I33+1,FALSE)) -> 男乙 100米背泳
I34: 5 | J34: =IF(VLOOKUP($H$30,$H$9:$CL$14,I34+1,FALSE)=0,"",VLOOKUP($H$30,$H$9:$CL$14,I34+1,FALSE)) -> C | K34: =IF(VLOOKUP($H$30,$H$16:$CL$20,I34+1,FALSE)=0,"",VLOOKUP($H$30,$H$16:$CL$20,I34+1,FALSE)) -> 4200 | L34: =IF(VLOOKUP($H$30,$H$23:$CL$27,I34+1,FALSE)=0,"",VLOOKUP($H$30,$H$23:$CL$27,I34+1,FALSE)) -> 女甲 50米蛙泳
H35: 欄1 | I35: 6 | J35: =IF(VLOOKUP($H$30,$H$9:$CL$14,I35+1,FALSE)=0,"",VLOOKUP($H$30,$H$9:$CL$14,I35+1,FALSE)) -> A | K35: =IF(VLOOKUP($H$30,$H$16:$CL$20,I35+1,FALSE)=0,"",VLOOKUP($H$30,$H$16:$CL$20,I35+1,FALSE)) -> 3900 | L35: =IF(VLOOKUP($H$30,$H$23:$CL$27,I35+1,FALSE)=0,"",VLOOKUP($H$30,$H$23:$CL$27,I35+1,FALSE)) -> 男甲 50米蛙泳
H36: 順豐到付(費用在取件時支付) | I36: 7 | J36: =IF(VLOOKUP($H$30,$H$9:$CL$14,I36+1,FALSE)=0,"",VLOOKUP($H$30,$H$9:$CL$14,I36+1,FALSE)) -> D | K36: =IF(VLOOKUP($H$30,$H$16:$CL$20,I36+1,FALSE)=0,"",VLOOKUP($H$30,$H$16:$CL$20,I36+1,FALSE)) -> 4500 | L36: =IF(VLOOKUP($H$30,$H$23:$CL$27,I36+1,FALSE)=0,"",VLOOKUP($H$30,$H$23:$CL$27,I36+1,FALSE)) -> 女乙 50米蛙泳
H37: 郵政平郵(郵費由本會支付) | I37: 8 | J37: =IF(VLOOKUP($H$30,$H$9:$CL$14,I37+1,FALSE)=0,"",VLOOKUP($H$30,$H$9:$CL$14,I37+1,FALSE)) -> B | K37: =IF(VLOOKUP($H$30,$H$16:$CL$20,I37+1,FALSE)=0,"",VLOOKUP($H$30,$H$16:$CL$20,I37+1,FALSE)) -> 4200 | L37: =IF(VLOOKUP($H$30,$H$23:$CL$27,I37+1,FALSE)=0,"",VLOOKUP($H$30,$H$23:$CL$27,I37+1,FALSE)) -> 男乙 50米蛙泳
I38: 9 | J38: =IF(VLOOKUP($H$30,$H$9:$CL$14,I38+1,FALSE)=0,"",VLOOKUP($H$30,$H$9:$CL$14,I38+1,FALSE)) -> F | K38: =IF(VLOOKUP($H$30,$H$16:$CL$20,I38+1,FALSE)=0,"",VLOOKUP($H$30,$H$16:$CL$20,I38+1,FALSE)) -> 5500 | L38: =IF(VLOOKUP($H$30,$H$23:$CL$27,I38+1,FALSE)=0,"",VLOOKUP($H$30,$H$23:$CL$27,I38+1,FALSE)) -> 女丙 50米蛙泳
I39: 10 | J39: =IF(VLOOKUP($H$30,$H$9:$CL$14,I39+1,FALSE)=0,"",VLOOKUP($H$30,$H$9:$CL$14,I39+1,FALSE)) -> E | K39: =IF(VLOOKUP($H$30,$H$16:$CL$20,I39+1,FALSE)=0,"",VLOOKUP($H$30,$H$16:$CL$20,I39+1,FALSE)) -> 5000 | L39: =IF(VLOOKUP($H$30,$H$23:$CL$27,I39+1,FALSE)=0,"",VLOOKUP($H$30,$H$23:$CL$27,I39+1,FALSE)) -> 男丙 50米蛙泳
I40: 11 | J40: =IF(VLOOKUP($H$30,$H$9:$CL$14,I40+1,FALSE)=0,"",VLOOKUP($H$30,$H$9:$CL$14,I40+1,FALSE)) -> C | K40: =IF(VLOOKUP($H$30,$H$16:$CL$20,I40+1,FALSE)=0,"",VLOOKUP($H$30,$H$16:$CL$20,I40+1,FALSE)) -> 13200 | L40: =IF(VLOOKUP($H$30,$H$23:$CL$27,I40+1,FALSE)=0,"",VLOOKUP($H$30,$H$23:$CL$27,I40+1,FALSE)) -> 女甲 100米蝶泳
I41: 12 | J41: =IF(VLOOKUP($H$30,$H$9:$CL$14,I41+1,FALSE)=0,"",VLOOKUP($H$30,$H$9:$CL$14,I41+1,FALSE)) -> A | K41: =IF(VLOOKUP($H$30,$H$16:$CL$20,I41+1,FALSE)=0,"",VLOOKUP($H$30,$H$16:$CL$20,I41+1,FALSE)) -> 12600 | L41: =IF(VLOOKUP($H$30,$H$23:$CL$27,I41+1,FALSE)=0,"",VLOOKUP($H$30,$H$23:$CL$27,I41+1,FALSE)) -> 男甲 100米蝶泳
I42: 13 | J42: =IF(VLOOKUP($H$30,$H$9:$CL$14,I42+1,FALSE)=0,"",VLOOKUP($H$30,$H$9:$CL$14,I42+1,FALSE)) -> D | K42: =IF(VLOOKUP($H$30,$H$16:$CL$20,I42+1,FALSE)=0,"",VLOOKUP($H$30,$H$16:$CL$20,I42+1,FALSE)) -> 13400 | L42: =IF(VLOOKUP($H$30,$H$23:$CL$27,I42+1,FALSE)=0,"",VLOOKUP($H$30,$H$23:$CL$27,I42+1,FALSE)) -> 女乙 100米蝶泳
I43: 14 | J43: =IF(VLOOKUP($H$30,$H$9:$CL$14,I43+1,FALSE)=0,"",VLOOKUP($H$30,$H$9:$CL$14,I43+1,FALSE)) -> B | K43: =IF(VLOOKUP($H$30,$H$16:$CL$20,I43+1,FALSE)=0,"",VLOOKUP($H$30,$H$16:$CL$20,I43+1,FALSE)) -> 12800 | L43: =IF(VLOOKUP($H$30,$H$23:$CL$27,I43+1,FALSE)=0,"",VLOOKUP($H$30,$H$23:$CL$27,I43+1,FALSE)) -> 男乙 100米蝶泳
I44: 15 | J44: =IF(VLOOKUP($H$30,$H$9:$CL$14,I44+1,FALSE)=0,"",VLOOKUP($H$30,$H$9:$CL$14,I44+1,FALSE)) -> C | K44: =IF(VLOOKUP($H$30,$H$16:$CL$20,I44+1,FALSE)=0,"",VLOOKUP($H$30,$H$16:$CL$20,I44+1,FALSE)) -> 3600 | L44: =IF(VLOOKUP($H$30,$H$23:$CL$27,I44+1,FALSE)=0,"",VLOOKUP($H$30,$H$23:$CL$27,I44+1,FALSE)) -> 女甲 50米自由泳
I45: 16 | J45: =IF(VLOOKUP($H$30,$H$9:$CL$14,I45+1,FALSE)=0,"",VLOOKUP($H$30,$H$9:$CL$14,I45+1,FALSE)) -> A | K45: =IF(VLOOKUP($H$30,$H$16:$CL$20,I45+1,FALSE)=0,"",VLOOKUP($H$30,$H$16:$CL$20,I45+1,FALSE)) -> 3300 | L45: =IF(VLOOKUP($H$30,$H$23:$CL$27,I45+1,FALSE)=0,"",VLOOKUP($H$30,$H$23:$CL$27,I45+1,FALSE)) -> 男甲 50米自由泳
I46: 17 | J46: =IF(VLOOKUP($H$30,$H$9:$CL$14,I46+1,FALSE)=0,"",VLOOKUP($H$30,$H$9:$CL$14,I46+1,FALSE)) -> D | K46: =IF(VLOOKUP($H$30,$H$16:$CL$20,I46+1,FALSE)=0,"",VLOOKUP($H$30,$H$16:$CL$20,I46+1,FALSE)) -> 3900 | L46: =IF(VLOOKUP($H$30,$H$23:$CL$27,I46+1,FALSE)=0,"",VLOOKUP($H$30,$H$23:$CL$27,I46+1,FALSE)) -> 女乙 50米自由泳
I47: 18 | J47: =IF(VLOOKUP($H$30,$H$9:$CL$14,I47+1,FALSE)=0,"",VLOOKUP($H$30,$H$9:$CL$14,I47+1,FALSE)) -> B | K47: =IF(VLOOKUP($H$30,$H$16:$CL$20,I47+1,FALSE)=0,"",VLOOKUP($H$30,$H$16:$CL$20,I47+1,FALSE)) -> 3600 | L47: =IF(VLOOKUP($H$30,$H$23:$CL$27,I47+1,FALSE)=0,"",VLOOKUP($H$30,$H$23:$CL$27,I47+1,FALSE)) -> 男乙 50米自由泳
I48: 19 | J48: =IF(VLOOKUP($H$30,$H$9:$CL$14,I48+1,FALSE)=0,"",VLOOKUP($H$30,$H$9:$CL$14,I48+1,FALSE)) -> F | K48: =IF(VLOOKUP($H$30,$H$16:$CL$20,I48+1,FALSE)=0,"",VLOOKUP($H$30,$H$16:$CL$20,I48+1,FALSE)) -> 4300 | L48: =IF(VLOOKUP($H$30,$H$23:$CL$27,I48+1,FALSE)=0,"",VLOOKUP($H$30,$H$23:$CL$27,I48+1,FALSE)) -> 女丙 50米自由泳
I49: 20 | J49: =IF(VLOOKUP($H$30,$H$9:$CL$14,I49+1,FALSE)=0,"",VLOOKUP($H$30,$H$9:$CL$14,I49+1,FALSE)) -> E | K49: =IF(VLOOKUP($H$30,$H$16:$CL$20,I49+1,FALSE)=0,"",VLOOKUP($H$30,$H$16:$CL$20,I49+1,FALSE)) -> 4000 | L49: =IF(VLOOKUP($H$30,$H$23:$CL$27,I49+1,FALSE)=0,"",VLOOKUP($H$30,$H$23:$CL$27,I49+1,FALSE)) -> 男丙 50米自由泳
... I111: 82 | J111: =IF(VLOOKUP($H$30,$H$9:$CL$14,I111+1,FALSE)=0,"",VLOOKUP($H$30,$H$9:$CL$14,I111+1,FALSE)) | K111: =IF(VLOOKUP($H$30,$H$16:$CL$20,I111+1,FALSE)=0,"",VLOOKUP($H$30,$H$16:$CL$20,I111+1,FALSE)) | L111: =IF(VLOOKUP($H$30,$H$23:$CL$27,I111+1,FALSE)=0,"",VLOOKUP($H$30,$H$23:$CL$27,I111+1,FALSE))

Sheet 男
A1: 香港中華業餘游泳聯會 比賽報名表 (男子) | O1: Max Event per club
A2: 填表注意事項: | N2: =COUNTA(I24:I163) -> 0 | O2: =VLOOKUP(F11,報名總表及收費!H1:T7,13,FALSE) -> 4 | T2: 欄1
A3: 1. 請根據所屬性別分別填寫在指定的報名表上(報名表分為男，女)，接力在報名表上方，只需按比賽項目輸入報項時間便可 | T3: Y
A4: 2. 請準確及清楚填寫各項資料，所有超額報名、資料不全、錯填資料均被視為無效。無效報名會被拒參賽，報名費怒不退回。 | O4: A | P4: B | Q4: E
A5: ="3. 每個個人項目每團體最多可報"& VLOOKUP(F11,報名總表及收費!H1:T7,13,FALSE) & "個運動員。每名運動員限報個人項目︰"& VLOOKUP(F11,報名總表及收費!H1:T7,12,FALSE) &"，個人項目報名總數可參考報名表右方" -> 3. 每個個人項目每團體最多可報4個運動員。每名運動員限報個人項目︰週年賽4項，個人項目報名總數可參考報名表右方 | O5: =VLOOKUP($O$8,報名總表及收費!$L$2:$R$5,2,FALSE) -> 2007 | P5: =VLOOKUP($O$8,報名總表及收費!$L$2:$R$5,3,FALSE) -> 2008 | Q5: =VLOOKUP($O$8,報名總表及收費!$L$2:$R$5,6,FALSE) -> 2013
A6: 4. 時間格式以此為準 - 例: 0:26:88 , 請輸入 2688
A7: 5. 只需輸入綠色欄位的資料，其他為自動填寫資料。
A8: 6. 若儲存格出現紅色，請重新檢查該項目是否報錯資料。 | O8: =報名總表及收費!H30 -> 短池
A9: 7. 如需申請成績證書，請在"申請成績證書"格上填上"Y"，若不申請可漏空。比賽後申請成績證書，本會將額外收取每張港元10元行政費(即每項每張港元共50元行政費)
A11: 團體名稱: | B11: =IF(報名總表及收費!B10=0,"",報名總表及收費!B10) | E11: 比賽名稱: | F11: =報名總表及收費!F10 -> 周年(短池)游泳錦標賽
A12: 負責人: | B12: =IF(報名總表及收費!B11=0,"",報名總表及收費!B11) | E12: 比賽日期: | F12: =報名總表及收費!F11 -> 45256
A13: 聯絡電話: | B13: =IF(報名總表及收費!B12=0,"",報名總表及收費!B12) | E13: 比賽地點: | F13: =報名總表及收費!F12 -> 城門谷游泳池
B15: 接力團體 | E15: 項目編號 | F15: 接力項目 | G15: 報項時間 | J15: 備註 | L15: 團體項目 | M15: 總數
A16: 接力項目 | B16: =IF(報名總表及收費!$B$10=0,"",報名總表及收費!$B$10) | E16: =VLOOKUP(報名總表及收費!$H$30,報名總表及收費!$L$2:$AX$6,11,FALSE) -> 22 | F16: =VLOOKUP(報名總表及收費!$H$30,報名總表及收費!$L$2:$AX$6,10,FALSE) -> 男甲 4X50米自由泳接力 | J16: =IF(B16="","",IF(G16="","未報名","")) | L16: =E16 -> 22 | M16: =COUNTA(G16) -> 0
B17: =IF(報名總表及收費!$B$10=0,"",報名總表及收費!$B$10) | E17: =VLOOKUP(報名總表及收費!$H$30,報名總表及收費!$L$2:$AX$6,13,FALSE) -> 24 | F17: =VLOOKUP(報名總表及收費!$H$30,報名總表及收費!$L$2:$AX$6,12,FALSE) -> 男乙 4X50米自由泳接力 | J17: =IF(B17="","",IF(G17="","未報名","")) | L17: =E17 -> 24 | M17: =COUNTA(G17) -> 0
B18: =IF(E18="","",IF(報名總表及收費!$B$10=0,"",報名總表及收費!$B$10)) | E18: =IF(VLOOKUP(報名總表及收費!$H$30,報名總表及收費!$L$2:$AX$6,14,FALSE)= 0,"",VLOOKUP(報名總表及收費!$H$30,報名總表及收費!$L$2:$AX$6,15,FALSE)) -> 26 | F18: =IF(VLOOKUP(報名總表及收費!$H$30,報名總表及收費!$L$2:$AX$6,15,FALSE)=0,"",VLOOKUP(報名總表及收費!$H$30,報名總表及收費!$L$2:$AX$6,14,FALSE)) -> 男丙 4X50米自由泳接力 | J18: =IF(B18="","",IF(G18="","未報名","")) | L18: =E18 -> 26 | M18: =COUNTA(G18) -> 0
B19: =IF(E19="","",IF(報名總表及收費!$B$10=0,"",報名總表及收費!$B$10)) | E19: =IF(VLOOKUP(報名總表及收費!$H$30,報名總表及收費!$L$2:$AX$6,15,FALSE)=0,"",VLOOKUP(報名總表及收費!$H$30,報名總表及收費!$L$2:$AX$6,17,FALSE)) -> 52 | F19: =IF(VLOOKUP(報名總表及收費!$H$30,報名總表及收費!$L$2:$AX$6,14,FALSE)=0,"",VLOOKUP(報名總表及收費!$H$30,報名總表及收費!$L$2:$AX$6,16,FALSE)) -> 男甲 4X50米四式接力 | J19: =IF(B19="","",IF(G19="","未報名","")) | L19: =E19 -> 52 | M19: =COUNTA(G19) -> 0
B20: =IF(E20="","",IF(報名總表及收費!$B$10=0,"",報名總表及收費!$B$10)) | E20: =IF(VLOOKUP(報名總表及收費!$H$30,報名總表及收費!$L$2:$AX$6,19,FALSE)=0,"",VLOOKUP(報名總表及收費!$H$30,報名總表及收費!$L$2:$AX$6,19,FALSE)) -> 54 | F20: =IF(VLOOKUP(報名總表及收費!$H$30,報名總表及收費!$L$2:$AX$6,18,FALSE)=0,"",VLOOKUP(報名總表及收費!$H$30,報名總表及收費!$L$2:$AX$6,18,FALSE)) -> 男乙 4X50米四式接力 | J20: =IF(B20="","",IF(G20="","未報名","")) | L20: =E20 -> 54 | M20: =COUNTA(G20) -> 0
B22: 姓名 (中) | C22: 姓名 (英) | D22: 出生年份 | E22: 項目編號 | F22: 項目 | G22: 報項時間 | H22: 年齡 | I22: 申請成績證書 | J22: 備註 | O22: 年齡 | P22: 達標時間 | R22: Age Check
A23: 例 | B23: 王一一 | C23: Wong Yat Yat | D23: 1999 | E23: 12 | F23: =IF(E23="","",VLOOKUP(E23,報名總表及收費!$I$29:$L$97,4)) -> 男甲 100米蝶泳 | G23: 1228 | H23: =IF(D23=0,"",YEAR(NOW())-D23) -> 24 | I23: Y | L23: 個人項目 | M23: 總數
A24: 男運動員 1 | F24: =IF(E24="","",VLOOKUP(E24,報名總表及收費!$I$29:$L$112,4)) | H24: =IF(D24="","", IF(D24=0,"",YEAR(NOW())-D24)) | J24: =IF(E24="","",IF(((VLOOKUP(E24,$L$24:$T$69,5))<G24),"報項時間慢於達標時間",""))&IF(T24="FAIL"," 運動員錯組別","")&IF(MOD(E24,2)=0,""," 項目編號為女子組") | L24: 2 | M24: =COUNTIFS($E$24:$E$163,"=2") -> 0 | N24: =IF(M24>$O$2, L24, "OK") -> OK | O24: =VLOOKUP(L24,報名總表及收費!$I$30:$K$118,2) -> A | P24: =IF(VLOOKUP(L24,報名總表及收費!$I$30:$K$118,3)=0,"",VLOOKUP(L24,報名總表及收費!$I$30:$K$118,3,FALSE)) -> 13000 | Q24: =IF(O24="E",YEAR(NOW())-$Q$5,IF(O24="A",YEAR(NOW())-$O$5,IF(O24="B",YEAR(NOW())-$P$5,IF(O24=0,"",O24)))) -> 16 | R24: =IF(E24=0,"",IF(MOD(E24,2)=1,"",VLOOKUP(E24,$L$23:$R$63,6,FALSE))) | S24: =IF(D24=0,"",VLOOKUP(E24,$L$23:$R$63,4,FALSE)) | T24: =IF(R24="","",IF(S24="A",IF(H24>=R24,"OK","FAIL"),IF(S24="E",IF(H24<=R24,"OK","FAIL"),IF(S24="B",IF(AND(H24<=R24,H24>=U24),"OK","FAIL"),IF(U24="",IF(H24=S24,"OK","FAIL"),IF(U24="9U",IF(H24<=9,"OK","FAIL"),IF(U24="UP",IF(H24>=15,"OK","FAIL"),IF(U24="DN",IF(H24<=7,"OK","FAIL"))))))))) | U24: =IF(R24="15U","UP",IF(R24="7D","DN",IF(R24="9U","9U",IF(S24="B",11,""))))
F25: =IF(E25="","",VLOOKUP(E25,報名總表及收費!$I$29:$L$112,4)) | H25: =IF(D25="","", IF(D25=0,"",YEAR(NOW())-D25)) | J25: =IF(E25="","",IF(((VLOOKUP(E25,$L$24:$T$69,5))<G25),"報項時間慢於達標時間",""))&IF(T25="FAIL"," 運動員錯組別","")&IF(MOD(E25,2)=0,""," 項目編號為女子組") | L25: 4 | M25: =COUNTIFS($E$24:$E$163,"=4") -> 0 | N25: =IF(M25>$O$2, L25, "OK") -> OK | O25: =VLOOKUP(L25,報名總表及收費!$I$30:$K$118,2) -> B | P25: =IF(VLOOKUP(L25,報名總表及收費!$I$30:$K$118,3)=0,"",VLOOKUP(L25,報名總表及收費!$I$30:$K$118,3,FALSE)) -> 13200 | Q25: =IF(O25="E",YEAR(NOW())-$Q$5,IF(O25="A",YEAR(NOW())-$O$5,IF(O25="B",YEAR(NOW())-$P$5,IF(O25=0,"",O25)))) -> 15 | R25: =IF(E25=0,"",IF(MOD(E25,2)=1,"",VLOOKUP(E25,$L$23:$R$63,6,FALSE))) | S25: =IF(D25=0,"",VLOOKUP(E25,$L$23:$R$63,4,FALSE)) | T25: =IF(R25="","",IF(S25="A",IF(H25>=R25,"OK","FAIL"),IF(S25="E",IF(H25<=R25,"OK","FAIL"),IF(S25="B",IF(AND(H25<=R25,H25>=U25),"OK","FAIL"),IF(U25="",IF(H25=S25,"OK","FAIL"),IF(U25="9U",IF(H25<=9,"OK","FAIL"),IF(U25="UP",IF(H25>=15,"OK","FAIL"),IF(U25="DN",IF(H25<=7,"OK","FAIL"))))))))) | U25: =IF(R25="15U","UP",IF(R25="7D","DN",IF(R25="9U","9U",IF(S25="B",11,""))))
F26: =IF(E26="","",VLOOKUP(E26,報名總表及收費!$I$29:$L$112,4)) | H26: =IF(D26="","", IF(D26=0,"",YEAR(NOW())-D26)) | J26: =IF(E26="","",IF(((VLOOKUP(E26,$L$24:$T$69,5))<G26),"報項時間慢於達標時間",""))&IF(T26="FAIL"," 運動員錯組別","")&IF(MOD(E26,2)=0,""," 項目編號為女子組") | L26: 6 | M26: =COUNTIFS($E$24:$E$163,"=6") -> 0 | N26: =IF(M26>$O$2, L26, "OK") -> OK | O26: =VLOOKUP(L26,報名總表及收費!$I$30:$K$118,2) -> A | P26: =IF(VLOOKUP(L26,報名總表及收費!$I$30:$K$118,3)=0,"",VLOOKUP(L26,報名總表及收費!$I$30:$K$118,3,FALSE)) -> 3900 | Q26: =IF(O26="E",YEAR(NOW())-$Q$5,IF(O26="A",YEAR(NOW())-$O$5,IF(O26="B",YEAR(NOW())-$P$5,IF(O26=0,"",O26)))) -> 16 | R26: =IF(E26=0,"",IF(MOD(E26,2)=1,"",VLOOKUP(E26,$L$23:$R$63,6,FALSE))) | S26: =IF(D26=0,"",VLOOKUP(E26,$L$23:$R$63,4,FALSE)) | T26: =IF(R26="","",IF(S26="A",IF(H26>=R26,"OK","FAIL"),IF(S26="E",IF(H26<=R26,"OK","FAIL"),IF(S26="B",IF(AND(H26<=R26,H26>=U26),"OK","FAIL"),IF(U26="",IF(H26=S26,"OK","FAIL"),IF(U26="9U",IF(H26<=9,"OK","FAIL"),IF(U26="UP",IF(H26>=15,"OK","FAIL"),IF(U26="DN",IF(H26<=7,"OK","FAIL"))))))))) | U26: =IF(R26="15U","UP",IF(R26="7D","DN",IF(R26="9U","9U",IF(S26="B",11,""))))
F27: =IF(E27="","",VLOOKUP(E27,報名總表及收費!$I$29:$L$112,4)) | H27: =IF(D27="","", IF(D27=0,"",YEAR(NOW())-D27)) | J27: =IF(E27="","",IF(((VLOOKUP(E27,$L$24:$T$69,5))<G27),"報項時間慢於達標時間",""))&IF(T27="FAIL"," 運動員錯組別","")&IF(MOD(E27,2)=0,""," 項目編號為女子組") | L27: 8 | M27: =COUNTIFS($E$24:$E$163,"=8") -> 0 | N27: =IF(M27>$O$2, L27, "OK") -> OK | O27: =VLOOKUP(L27,報名總表及收費!$I$30:$K$118,2) -> B | P27: =IF(VLOOKUP(L27,報名總表及收費!$I$30:$K$118,3)=0,"",VLOOKUP(L27,報名總表及收費!$I$30:$K$118,3,FALSE)) -> 4200 | Q27: =IF(O27="E",YEAR(NOW())-$Q$5,IF(O27="A",YEAR(NOW())-$O$5,IF(O27="B",YEAR(NOW())-$P$5,IF(O27=0,"",O27)))) -> 15 | R27: =IF(E27=0,"",IF(MOD(E27,2)=1,"",VLOOKUP(E27,$L$23:$R$63,6,FALSE))) | S27: =IF(D27=0,"",VLOOKUP(E27,$L$23:$R$63,4,FALSE)) | T27: =IF(R27="","",IF(S27="A",IF(H27>=R27,"OK","FAIL"),IF(S27="E",IF(H27<=R27,"OK","FAIL"),IF(S27="B",IF(AND(H27<=R27,H27>=U27),"OK","FAIL"),IF(U27="",IF(H27=S27,"OK","FAIL"),IF(U27="9U",IF(H27<=9,"OK","FAIL"),IF(U27="UP",IF(H27>=15,"OK","FAIL"),IF(U27="DN",IF(H27<=7,"OK","FAIL"))))))))) | U27: =IF(R27="15U","UP",IF(R27="7D","DN",IF(R27="9U","9U",IF(S27="B",11,""))))
A28: 男運動員 2 | F28: =IF(E28="","",VLOOKUP(E28,報名總表及收費!$I$29:$L$112,4)) | H28: =IF(D28="","", IF(D28=0,"",YEAR(NOW())-D28)) | J28: =IF(E28="","",IF(((VLOOKUP(E28,$L$24:$T$69,5))<G28),"報項時間慢於達標時間",""))&IF(T28="FAIL"," 運動員錯組別","")&IF(MOD(E28,2)=0,""," 項目編號為女子組") | L28: 10 | M28: =COUNTIFS($E$24:$E$163,"=10") -> 0 | N28: =IF(M28>$O$2, L28, "OK") -> OK | O28: =VLOOKUP(L28,報名總表及收費!$I$30:$K$118,2) -> E | P28: =IF(VLOOKUP(L28,報名總表及收費!$I$30:$K$118,3)=0,"",VLOOKUP(L28,報名總表及收費!$I$30:$K$118,3,FALSE)) -> 5000 | Q28: =IF(O28="E",YEAR(NOW())-$Q$5,IF(O28="A",YEAR(NOW())-$O$5,IF(O28="B",YEAR(NOW())-$P$5,IF(O28=0,"",O28)))) -> 10 | R28: =IF(E28=0,"",IF(MOD(E28,2)=1,"",VLOOKUP(E28,$L$23:$R$63,6,FALSE))) | S28: =IF(D28=0,"",VLOOKUP(E28,$L$23:$R$63,4,FALSE)) | T28: =IF(R28="","",IF(S28="A",IF(H28>=R28,"OK","FAIL"),IF(S28="E",IF(H28<=R28,"OK","FAIL"),IF(S28="B",IF(AND(H28<=R28,H28>=U28),"OK","FAIL"),IF(U28="",IF(H28=S28,"OK","FAIL"),IF(U28="9U",IF(H28<=9,"OK","FAIL"),IF(U28="UP",IF(H28>=15,"OK","FAIL"),IF(U28="DN",IF(H28<=7,"OK","FAIL"))))))))) | U28: =IF(R28="15U","UP",IF(R28="7D","DN",IF(R28="9U","9U",IF(S28="B",11,""))))
F29: =IF(E29="","",VLOOKUP(E29,報名總表及收費!$I$29:$L$112,4)) | H29: =IF(D29="","", IF(D29=0,"",YEAR(NOW())-D29)) | J29: =IF(E29="","",IF(((VLOOKUP(E29,$L$24:$T$69,5))<G29),"報項時間慢於達標時間",""))&IF(T29="FAIL"," 運動員錯組別","")&IF(MOD(E29,2)=0,""," 項目編號為女子組") | L29: 12 | M29: =COUNTIFS($E$24:$E$163,"=12") -> 0 | N29: =IF(M29>$O$2, L29, "OK") -> OK | O29: =VLOOKUP(L29,報名總表及收費!$I$30:$K$118,2) -> A | P29: =IF(VLOOKUP(L29,報名總表及收費!$I$30:$K$118,3)=0,"",VLOOKUP(L29,報名總表及收費!$I$30:$K$118,3,FALSE)) -> 12600 | Q29: =IF(O29="E",YEAR(NOW())-$Q$5,IF(O29="A",YEAR(NOW())-$O$5,IF(O29="B",YEAR(NOW())-$P$5,IF(O29=0,"",O29)))) -> 16 | R29: =IF(E29=0,"",IF(MOD(E29,2)=1,"",VLOOKUP(E29,$L$23:$R$63,6,FALSE))) | S29: =IF(D29=0,"",VLOOKUP(E29,$L$23:$R$63,4,FALSE)) | T29: =IF(R29="","",IF(S29="A",IF(H29>=R29,"OK","FAIL"),IF(S29="E",IF(H29<=R29,"OK","FAIL"),IF(S29="B",IF(AND(H29<=R29,H29>=U29),"OK","FAIL"),IF(U29="",IF(H29=S29,"OK","FAIL"),IF(U29="9U",IF(H29<=9,"OK","FAIL"),IF(U29="UP",IF(H29>=15,"OK","FAIL"),IF(U29="DN",IF(H29<=7,"OK","FAIL"))))))))) | U29: =IF(R29="15U","UP",IF(R29="7D","DN",IF(R29="9U","9U",IF(S29="B",11,""))))
F30: =IF(E30="","",VLOOKUP(E30,報名總表及收費!$I$29:$L$112,4)) | H30: =IF(D30="","", IF(D30=0,"",YEAR(NOW())-D30)) | J30: =IF(E30="","",IF(((VLOOKUP(E30,$L$24:$T$69,5))<G30),"報項時間慢於達標時間",""))&IF(T30="FAIL"," 運動員錯組別","")&IF(MOD(E30,2)=0,""," 項目編號為女子組") | L30: 14 | M30: =COUNTIFS($E$24:$E$163,"=14") -> 0 | N30: =IF(M30>$O$2, L30, "OK") -> OK | O30: =VLOOKUP(L30,報名總表及收費!$I$30:$K$118,2) -> B | P30: =IF(VLOOKUP(L30,報名總表及收費!$I$30:$K$118,3)=0,"",VLOOKUP(L30,報名總表及收費!$I$30:$K$118,3,FALSE)) -> 12800 | Q30: =IF(O30="E",YEAR(NOW())-$Q$5,IF(O30="A",YEAR(NOW())-$O$5,IF(O30="B",YEAR(NOW())-$P$5,IF(O30=0,"",O30)))) -> 15 | R30: =IF(E30=0,"",IF(MOD(E30,2)=1,"",VLOOKUP(E30,$L$23:$R$63,6,FALSE))) | S30: =IF(D30=0,"",VLOOKUP(E30,$L$23:$R$63,4,FALSE)) | T30: =IF(R30="","",IF(S30="A",IF(H30>=R30,"OK","FAIL"),IF(S30="E",IF(H30<=R30,"OK","FAIL"),IF(S30="B",IF(AND(H30<=R30,H30>=U30),"OK","FAIL"),IF(U30="",IF(H30=S30,"OK","FAIL"),IF(U30="9U",IF(H30<=9,"OK","FAIL"),IF(U30="UP",IF(H30>=15,"OK","FAIL"),IF(U30="DN",IF(H30<=7,"OK","FAIL"))))))))) | U30: =IF(R30="15U","UP",IF(R30="7D","DN",IF(R30="9U","9U",IF(S30="B",11,""))))
F31: =IF(E31="","",VLOOKUP(E31,報名總表及收費!$I$29:$L$112,4)) | H31: =IF(D31="","", IF(D31=0,"",YEAR(NOW())-D31)) | J31: =IF(E31="","",IF(((VLOOKUP(E31,$L$24:$T$69,5))<G31),"報項時間慢於達標時間",""))&IF(T31="FAIL"," 運動員錯組別","")&IF(MOD(E31,2)=0,""," 項目編號為女子組") | L31: 16 | M31: =COUNTIFS($E$24:$E$163,"=16") -> 0 | N31: =IF(M31>$O$2, L31, "OK") -> OK | O31: =VLOOKUP(L31,報名總表及收費!$I$30:$K$118,2) -> A | P31: =IF(VLOOKUP(L31,報名總表及收費!$I$30:$K$118,3)=0,"",VLOOKUP(L31,報名總表及收費!$I$30:$K$118,3,FALSE)) -> 3300 | Q31: =IF(O31="E",YEAR(NOW())-$Q$5,IF(O31="A",YEAR(NOW())-$O$5,IF(O31="B",YEAR(NOW())-$P$5,IF(O31=0,"",O31)))) -> 16 | R31: =IF(E31=0,"",IF(MOD(E31,2)=1,"",VLOOKUP(E31,$L$23:$R$63,6,FALSE))) | S31: =IF(D31=0,"",VLOOKUP(E31,$L$23:$R$63,4,FALSE)) | T31: =IF(R31="","",IF(S31="A",IF(H31>=R31,"OK","FAIL"),IF(S31="E",IF(H31<=R31,"OK","FAIL"),IF(S31="B",IF(AND(H31<=R31,H31>=U31),"OK","FAIL"),IF(U31="",IF(H31=S31,"OK","FAIL"),IF(U31="9U",IF(H31<=9,"OK","FAIL"),IF(U31="UP",IF(H31>=15,"OK","FAIL"),IF(U31="DN",IF(H31<=7,"OK","FAIL"))))))))) | U31: =IF(R31="15U","UP",IF(R31="7D","DN",IF(R31="9U","9U",IF(S31="B",11,""))))
A32: 男運動員 3 | F32: =IF(E32="","",VLOOKUP(E32,報名總表及收費!$I$29:$L$112,4)) | H32: =IF(D32="","", IF(D32=0,"",YEAR(NOW())-D32)) | J32: =IF(E32="","",IF(((VLOOKUP(E32,$L$24:$T$69,5))<G32),"報項時間慢於達標時間",""))&IF(T32="FAIL"," 運動員錯組別","")&IF(MOD(E32,2)=0,""," 項目編號為女子組") | L32: 18 | M32: =COUNTIFS($E$24:$E$163,"=18") -> 0 | N32: =IF(M32>$O$2, L32, "OK") -> OK | O32: =VLOOKUP(L32,報名總表及收費!$I$30:$K$118,2) -> B | P32: =IF(VLOOKUP(L32,報名總表及收費!$I$30:$K$118,3)=0,"",VLOOKUP(L32,報名總表及收費!$I$30:$K$118,3,FALSE)) -> 3600 | Q32: =IF(O32="E",YEAR(NOW())-$Q$5,IF(O32="A",YEAR(NOW())-$O$5,IF(O32="B",YEAR(NOW())-$P$5,IF(O32=0,"",O32)))) -> 15 | R32: =IF(E32=0,"",IF(MOD(E32,2)=1,"",VLOOKUP(E32,$L$23:$R$63,6,FALSE))) | S32: =IF(D32=0,"",VLOOKUP(E32,$L$23:$R$63,4,FALSE)) | T32: =IF(R32="","",IF(S32="A",IF(H32>=R32,"OK","FAIL"),IF(S32="E",IF(H32<=R32,"OK","FAIL"),IF(S32="B",IF(AND(H32<=R32,H32>=U32),"OK","FAIL"),IF(U32="",IF(H32=S32,"OK","FAIL"),IF(U32="9U",IF(H32<=9,"OK","FAIL"),IF(U32="UP",IF(H32>=15,"OK","FAIL"),IF(U32="DN",IF(H32<=7,"OK","FAIL"))))))))) | U32: =IF(R32="15U","UP",IF(R32="7D","DN",IF(R32="9U","9U",IF(S32="B",11,""))))
F33: =IF(E33="","",VLOOKUP(E33,報名總表及收費!$I$29:$L$112,4)) | H33: =IF(D33="","", IF(D33=0,"",YEAR(NOW())-D33)) | J33: =IF(E33="","",IF(((VLOOKUP(E33,$L$24:$T$69,5))<G33),"報項時間慢於達標時間",""))&IF(T33="FAIL"," 運動員錯組別","")&IF(MOD(E33,2)=0,""," 項目編號為女子組") | L33: 20 | M33: =COUNTIFS($E$24:$E$163,"=20") -> 0 | N33: =IF(M33>$O$2, L33, "OK") -> OK | O33: =VLOOKUP(L33,報名總表及收費!$I$30:$K$118,2) -> E | P33: =IF(VLOOKUP(L33,報名總表及收費!$I$30:$K$118,3)=0,"",VLOOKUP(L33,報名總表及收費!$I$30:$K$118,3,FALSE)) -> 4000 | Q33: =IF(O33="E",YEAR(NOW())-$Q$5,IF(O33="A",YEAR(NOW())-$O$5,IF(O33="B",YEAR(NOW())-$P$5,IF(O33=0,"",O33)))) -> 10 | R33: =IF(E33=0,"",IF(MOD(E33,2)=1,"",VLOOKUP(E33,$L$23:$R$63,6,FALSE))) | S33: =IF(D33=0,"",VLOOKUP(E33,$L$23:$R$63,4,FALSE)) | T33: =IF(R33="","",IF(S33="A",IF(H33>=R33,"OK","FAIL"),IF(S33="E",IF(H33<=R33,"OK","FAIL"),IF(S33="B",IF(AND(H33<=R33,H33>=U33),"OK","FAIL"),IF(U33="",IF(H33=S33,"OK","FAIL"),IF(U33="9U",IF(H33<=9,"OK","FAIL"),IF(U33="UP",IF(H33>=15,"OK","FAIL"),IF(U33="DN",IF(H33<=7,"OK","FAIL"))))))))) | U33: =IF(R33="15U","UP",IF(R33="7D","DN",IF(R33="9U","9U",IF(S33="B",11,""))))
F34: =IF(E34="","",VLOOKUP(E34,報名總表及收費!$I$29:$L$112,4)) | H34: =IF(D34="","", IF(D34=0,"",YEAR(NOW())-D34)) | J34: =IF(E34="","",IF(((VLOOKUP(E34,$L$24:$T$69,5))<G34),"報項時間慢於達標時間",""))&IF(T34="FAIL"," 運動員錯組別","")&IF(MOD(E34,2)=0,""," 項目編號為女子組") | L34: 22 | M34: =COUNTIFS($E$24:$E$163,"=22") -> 0 | N34: =IF(M34>$O$2, L34, "OK") -> OK | O34: =VLOOKUP(L34,報名總表及收費!$I$30:$K$118,2) -> A | P34: =IF(VLOOKUP(L34,報名總表及收費!$I$30:$K$118,3)=0,"",VLOOKUP(L34,報名總表及收費!$I$30:$K$118,3,FALSE)) | Q34: =IF(O34="E",YEAR(NOW())-$Q$5,IF(O34="A",YEAR(NOW())-$O$5,IF(O34="B",YEAR(NOW())-$P$5,IF(O34=0,"",O34)))) -> 16 | R34: =IF(E34=0,"",IF(MOD(E34,2)=1,"",VLOOKUP(E34,$L$23:$R$63,6,FALSE))) | S34: =IF(D34=0,"",VLOOKUP(E34,$L$23:$R$63,4,FALSE)) | T34: =IF(R34="","",IF(S34="A",IF(H34>=R34,"OK","FAIL"),IF(S34="E",IF(H34<=R34,"OK","FAIL"),IF(S34="B",IF(AND(H34<=R34,H34>=U34),"OK","FAIL"),IF(U34="",IF(H34=S34,"OK","FAIL"),IF(U34="9U",IF(H34<=9,"OK","FAIL"),IF(U34="UP",IF(H34>=15,"OK","FAIL"),IF(U34="DN",IF(H34<=7,"OK","FAIL"))))))))) | U34: =IF(R34="15U","UP",IF(R34="7D","DN",IF(R34="9U","9U",IF(S34="B",11,""))))
F35: =IF(E35="","",VLOOKUP(E35,報名總表及收費!$I$29:$L$112,4)) | H35: =IF(D35="","", IF(D35=0,"",YEAR(NOW())-D35)) | J35: =IF(E35="","",IF(((VLOOKUP(E35,$L$24:$T$69,5))<G35),"報項時間慢於達標時間",""))&IF(T35="FAIL"," 運動員錯組別","")&IF(MOD(E35,2)=0,""," 項目編號為女子組") | L35: 24 | M35: =COUNTIFS($E$24:$E$163,"=24") -> 0 | N35: =IF(M35>$O$2, L35, "OK") -> OK | O35: =VLOOKUP(L35,報名總表及收費!$I$30:$K$118,2) -> B | P35: =IF(VLOOKUP(L35,報名總表及收費!$I$30:$K$118,3)=0,"",VLOOKUP(L35,報名總表及收費!$I$30:$K$118,3,FALSE)) | Q35: =IF(O35="E",YEAR(NOW())-$Q$5,IF(O35="A",YEAR(NOW())-$O$5,IF(O35="B",YEAR(NOW())-$P$5,IF(O35=0,"",O35)))) -> 15 | R35: =IF(E35=0,"",IF(MOD(E35,2)=1,"",VLOOKUP(E35,$L$23:$R$63,6,FALSE))) | S35: =IF(D35=0,"",VLOOKUP(E35,$L$23:$R$63,4,FALSE)) | T35: =IF(R35="","",IF(S35="A",IF(H35>=R35,"OK","FAIL"),IF(S35="E",IF(H35<=R35,"OK","FAIL"),IF(S35="B",IF(AND(H35<=R35,H35>=U35),"OK","FAIL"),IF(U35="",IF(H35=S35,"OK","FAIL"),IF(U35="9U",IF(H35<=9,"OK","FAIL"),IF(U35="UP",IF(H35>=15,"OK","FAIL"),IF(U35="DN",IF(H35<=7,"OK","FAIL"))))))))) | U35: =IF(R35="15U","UP",IF(R35="7D","DN",IF(R35="9U","9U",IF(S35="B",11,""))))
A36: 男運動員 4 | F36: =IF(E36="","",VLOOKUP(E36,報名總表及收費!$I$29:$L$112,4)) | H36: =IF(D36="","", IF(D36=0,"",YEAR(NOW())-D36)) | J36: =IF(E36="","",IF(((VLOOKUP(E36,$L$24:$T$69,5))<G36),"報項時間慢於達標時間",""))&IF(T36="FAIL"," 運動員錯組別","")&IF(MOD(E36,2)=0,""," 項目編號為女子組") | L36: 26 | M36: =COUNTIFS($E$24:$E$163,"=26") -> 0 | N36: =IF(M36>$O$2, L36, "OK") -> OK | O36: =VLOOKUP(L36,報名總表及收費!$I$30:$K$118,2) -> E | P36: =IF(VLOOKUP(L36,報名總表及收費!$I$30:$K$118,3)=0,"",VLOOKUP(L36,報名總表及收費!$I$30:$K$118,3,FALSE)) | Q36: =IF(O36="E",YEAR(NOW())-$Q$5,IF(O36="A",YEAR(NOW())-$O$5,IF(O36="B",YEAR(NOW())-$P$5,IF(O36=0,"",O36)))) -> 10 | R36: =IF(E36=0,"",IF(MOD(E36,2)=1,"",VLOOKUP(E36,$L$23:$R$63,6,FALSE))) | S36: =IF(D36=0,"",VLOOKUP(E36,$L$23:$R$63,4,FALSE)) | T36: =IF(R36="","",IF(S36="A",IF(H36>=R36,"OK","FAIL"),IF(S36="E",IF(H36<=R36,"OK","FAIL"),IF(S36="B",IF(AND(H36<=R36,H36>=U36),"OK","FAIL"),IF(U36="",IF(H36=S36,"OK","FAIL"),IF(U36="9U",IF(H36<=9,"OK","FAIL"),IF(U36="UP",IF(H36>=15,"OK","FAIL"),IF(U36="DN",IF(H36<=7,"OK","FAIL"))))))))) | U36: =IF(R36="15U","UP",IF(R36="7D","DN",IF(R36="9U","9U",IF(S36="B",11,""))))
F37: =IF(E37="","",VLOOKUP(E37,報名總表及收費!$I$29:$L$112,4)) | H37: =IF(D37="","", IF(D37=0,"",YEAR(NOW())-D37)) | J37: =IF(E37="","",IF(((VLOOKUP(E37,$L$24:$T$69,5))<G37),"報項時間慢於達標時間",""))&IF(T37="FAIL"," 運動員錯組別","")&IF(MOD(E37,2)=0,""," 項目編號為女子組") | L37: 28 | M37: =COUNTIFS($E$24:$E$163,"=28") -> 0 | N37: =IF(M37>$O$2, L37, "OK") -> OK | O37: =VLOOKUP(L37,報名總表及收費!$I$30:$K$118,2) -> A | P37: =IF(VLOOKUP(L37,報名總表及收費!$I$30:$K$118,3)=0,"",VLOOKUP(L37,報名總表及收費!$I$30:$K$118,3,FALSE)) -> 12600 | Q37: =IF(O37="E",YEAR(NOW())-$Q$5,IF(O37="A",YEAR(NOW())-$O$5,IF(O37="B",YEAR(NOW())-$P$5,IF(O37=0,"",O37)))) -> 16 | R37: =IF(E37=0,"",IF(MOD(E37,2)=1,"",VLOOKUP(E37,$L$23:$R$63,6,FALSE))) | S37: =IF(D37=0,"",VLOOKUP(E37,$L$23:$R$63,4,FALSE)) | T37: =IF(R37="","",IF(S37="A",IF(H37>=R37,"OK","FAIL"),IF(S37="E",IF(H37<=R37,"OK","FAIL"),IF(S37="B",IF(AND(H37<=R37,H37>=U37),"OK","FAIL"),IF(U37="",IF(H37=S37,"OK","FAIL"),IF(U37="9U",IF(H37<=9,"OK","FAIL"),IF(U37="UP",IF(H37>=15,"OK","FAIL"),IF(U37="DN",IF(H37<=7,"OK","FAIL"))))))))) | U37: =IF(R37="15U","UP",IF(R37="7D","DN",IF(R37="9U","9U",IF(S37="B",11,""))))
F38: =IF(E38="","",VLOOKUP(E38,報名總表及收費!$I$29:$L$112,4)) | H38: =IF(D38="","", IF(D38=0,"",YEAR(NOW())-D38)) | J38: =IF(E38="","",IF(((VLOOKUP(E38,$L$24:$T$69,5))<G38),"報項時間慢於達標時間",""))&IF(T38="FAIL"," 運動員錯組別","")&IF(MOD(E38,2)=0,""," 項目編號為女子組") | L38: 30 | M38: =COUNTIFS($E$24:$E$163,"=30") -> 0 | N38: =IF(M38>$O$2, L38, "OK") -> OK | O38: =VLOOKUP(L38,報名總表及收費!$I$30:$K$118,2) -> B | P38: =IF(VLOOKUP(L38,報名總表及收費!$I$30:$K$118,3)=0,"",VLOOKUP(L38,報名總表及收費!$I$30:$K$118,3,FALSE)) -> 13200 | Q38: =IF(O38="E",YEAR(NOW())-$Q$5,IF(O38="A",YEAR(NOW())-$O$5,IF(O38="B",YEAR(NOW())-$P$5,IF(O38=0,"",O38)))) -> 15 | R38: =IF(E38=0,"",IF(MOD(E38,2)=1,"",VLOOKUP(E38,$L$23:$R$63,6,FALSE))) | S38: =IF(D38=0,"",VLOOKUP(E38,$L$23:$R$63,4,FALSE)) | T38: =IF(R38="","",IF(S38="A",IF(H38>=R38,"OK","FAIL"),IF(S38="E",IF(H38<=R38,"OK","FAIL"),IF(S38="B",IF(AND(H38<=R38,H38>=U38),"OK","FAIL"),IF(U38="",IF(H38=S38,"OK","FAIL"),IF(U38="9U",IF(H38<=9,"OK","FAIL"),IF(U38="UP",IF(H38>=15,"OK","FAIL"),IF(U38="DN",IF(H38<=7,"OK","FAIL"))))))))) | U38: =IF(R38="15U","UP",IF(R38="7D","DN",IF(R38="9U","9U",IF(S38="B",11,""))))
F39: =IF(E39="","",VLOOKUP(E39,報名總表及收費!$I$29:$L$112,4)) | H39: =IF(D39="","", IF(D39=0,"",YEAR(NOW())-D39)) | J39: =IF(E39="","",IF(((VLOOKUP(E39,$L$24:$T$69,5))<G39),"報項時間慢於達標時間",""))&IF(T39="FAIL"," 運動員錯組別","")&IF(MOD(E39,2)=0,""," 項目編號為女子組") | L39: 32 | M39: =COUNTIFS($E$24:$E$163,"=32") -> 0 | N39: =IF(M39>$O$2, L39, "OK") -> OK | O39: =VLOOKUP(L39,報名總表及收費!$I$30:$K$118,2) -> A | P39: =IF(VLOOKUP(L39,報名總表及收費!$I$30:$K$118,3)=0,"",VLOOKUP(L39,報名總表及收費!$I$30:$K$118,3,FALSE)) -> 3600 | Q39: =IF(O39="E",YEAR(NOW())-$Q$5,IF(O39="A",YEAR(NOW())-$O$5,IF(O39="B",YEAR(NOW())-$P$5,IF(O39=0,"",O39)))) -> 16 | R39: =IF(E39=0,"",IF(MOD(E39,2)=1,"",VLOOKUP(E39,$L$23:$R$63,6,FALSE))) | S39: =IF(D39=0,"",VLOOKUP(E39,$L$23:$R$63,4,FALSE)) | T39: =IF(R39="","",IF(S39="A",IF(H39>=R39,"OK","FAIL"),IF(S39="E",IF(H39<=R39,"OK","FAIL"),IF(S39="B",IF(AND(H39<=R39,H39>=U39),"OK","FAIL"),IF(U39="",IF(H39=S39,"OK","FAIL"),IF(U39="9U",IF(H39<=9,"OK","FAIL"),IF(U39="UP",IF(H39>=15,"OK","FAIL"),IF(U39="DN",IF(H39<=7,"OK","FAIL"))))))))) | U39: =IF(R39="15U","UP",IF(R39="7D","DN",IF(R39="9U","9U",IF(S39="B",11,""))))
A40: 男運動員 5 | F40: =IF(E40="","",VLOOKUP(E40,報名總表及收費!$I$29:$L$112,4)) | H40: =IF(D40="","", IF(D40=0,"",YEAR(NOW())-D40)) | J40: =IF(E40="","",IF(((VLOOKUP(E40,$L$24:$T$69,5))<G40),"報項時間慢於達標時間",""))&IF(T40="FAIL"," 運動員錯組別","")&IF(MOD(E40,2)=0,""," 項目編號為女子組") | L40: 34 | M40: =COUNTIFS($E$24:$E$163,"=34") -> 0 | N40: =IF(M40>$O$2, L40, "OK") -> OK | O40: =VLOOKUP(L40,報名總表及收費!$I$30:$K$118,2) -> B | P40: =IF(VLOOKUP(L40,報名總表及收費!$I$30:$K$118,3)=0,"",VLOOKUP(L40,報名總表及收費!$I$30:$K$118,3,FALSE)) -> 3800 | Q40: =IF(O40="E",YEAR(NOW())-$Q$5,IF(O40="A",YEAR(NOW())-$O$5,IF(O40="B",YEAR(NOW())-$P$5,IF(O40=0,"",O40)))) -> 15 | R40: =IF(E40=0,"",IF(MOD(E40,2)=1,"",VLOOKUP(E40,$L$23:$R$63,6,FALSE))) | S40: =IF(D40=0,"",VLOOKUP(E40,$L$23:$R$63,4,FALSE)) | T40: =IF(R40="","",IF(S40="A",IF(H40>=R40,"OK","FAIL"),IF(S40="E",IF(H40<=R40,"OK","FAIL"),IF(S40="B",IF(AND(H40<=R40,H40>=U40),"OK","FAIL"),IF(U40="",IF(H40=S40,"OK","FAIL"),IF(U40="9U",IF(H40<=9,"OK","FAIL"),IF(U40="UP",IF(H40>=15,"OK","FAIL"),IF(U40="DN",IF(H40<=7,"OK","FAIL"))))))))) | U40: =IF(R40="15U","UP",IF(R40="7D","DN",IF(R40="9U","9U",IF(S40="B",11,""))))
F41: =IF(E41="","",VLOOKUP(E41,報名總表及收費!$I$29:$L$112,4)) | H41: =IF(D41="","", IF(D41=0,"",YEAR(NOW())-D41)) | J41: =IF(E41="","",IF(((VLOOKUP(E41,$L$24:$T$69,5))<G41),"報項時間慢於達標時間",""))&IF(T41="FAIL"," 運動員錯組別","")&IF(MOD(E41,2)=0,""," 項目編號為女子組") | L41: 36 | M41: =COUNTIFS($E$24:$E$163,"=36") -> 0 | N41: =IF(M41>$O$2, L41, "OK") -> OK | O41: =VLOOKUP(L41,報名總表及收費!$I$30:$K$118,2) -> E | P41: =IF(VLOOKUP(L41,報名總表及收費!$I$30:$K$118,3)=0,"",VLOOKUP(L41,報名總表及收費!$I$30:$K$118,3,FALSE)) -> 4500 | Q41: =IF(O41="E",YEAR(NOW())-$Q$5,IF(O41="A",YEAR(NOW())-$O$5,IF(O41="B",YEAR(NOW())-$P$5,IF(O41=0,"",O41)))) -> 10 | R41: =IF(E41=0,"",IF(MOD(E41,2)=1,"",VLOOKUP(E41,$L$23:$R$63,6,FALSE))) | S41: =IF(D41=0,"",VLOOKUP(E41,$L$23:$R$63,4,FALSE)) | T41: =IF(R41="","",IF(S41="A",IF(H41>=R41,"OK","FAIL"),IF(S41="E",IF(H41<=R41,"OK","FAIL"),IF(S41="B",IF(AND(H41<=R41,H41>=U41),"OK","FAIL"),IF(U41="",IF(H41=S41,"OK","FAIL"),IF(U41="9U",IF(H41<=9,"OK","FAIL"),IF(U41="UP",IF(H41>=15,"OK","FAIL"),IF(U41="DN",IF(H41<=7,"OK","FAIL"))))))))) | U41: =IF(R41="15U","UP",IF(R41="7D","DN",IF(R41="9U","9U",IF(S41="B",11,""))))
F42: =IF(E42="","",VLOOKUP(E42,報名總表及收費!$I$29:$L$112,4)) | H42: =IF(D42="","", IF(D42=0,"",YEAR(NOW())-D42)) | J42: =IF(E42="","",IF(((VLOOKUP(E42,$L$24:$T$69,5))<G42),"報項時間慢於達標時間",""))&IF(T42="FAIL"," 運動員錯組別","")&IF(MOD(E42,2)=0,""," 項目編號為女子組") | L42: 38 | M42: =COUNTIFS($E$24:$E$163,"=38") -> 0 | N42: =IF(M42>$O$2, L42, "OK") -> OK | O42: =VLOOKUP(L42,報名總表及收費!$I$30:$K$118,2) -> A | P42: =IF(VLOOKUP(L42,報名總表及收費!$I$30:$K$118,3)=0,"",VLOOKUP(L42,報名總表及收費!$I$30:$K$118,3,FALSE)) -> 12900 | Q42: =IF(O42="E",YEAR(NOW())-$Q$5,IF(O42="A",YEAR(NOW())-$O$5,IF(O42="B",YEAR(NOW())-$P$5,IF(O42=0,"",O42)))) -> 16 | R42: =IF(E42=0,"",IF(MOD(E42,2)=1,"",VLOOKUP(E42,$L$23:$R$63,6,FALSE))) | S42: =IF(D42=0,"",VLOOKUP(E42,$L$23:$R$63,4,FALSE)) | T42: =IF(R42="","",IF(S42="A",IF(H42>=R42,"OK","FAIL"),IF(S42="E",IF(H42<=R42,"OK","FAIL"),IF(S42="B",IF(AND(H42<=R42,H42>=U42),"OK","FAIL"),IF(U42="",IF(H42=S42,"OK","FAIL"),IF(U42="9U",IF(H42<=9,"OK","FAIL"),IF(U42="UP",IF(H42>=15,"OK","FAIL"),IF(U42="DN",IF(H42<=7,"OK","FAIL"))))))))) | U42: =IF(R42="15U","UP",IF(R42="7D","DN",IF(R42="9U","9U",IF(S42="B",11,""))))
F43: =IF(E43="","",VLOOKUP(E43,報名總表及收費!$I$29:$L$112,4)) | H43: =IF(D43="","", IF(D43=0,"",YEAR(NOW())-D43)) | J43: =IF(E43="","",IF(((VLOOKUP(E43,$L$24:$T$69,5))<G43),"報項時間慢於達標時間",""))&IF(T43="FAIL"," 運動員錯組別","")&IF(MOD(E43,2)=0,""," 項目編號為女子組") | L43: 40 | M43: =COUNTIFS($E$24:$E$163,"=40") -> 0 | N43: =IF(M43>$O$2, L43, "OK") -> OK | O43: =VLOOKUP(L43,報名總表及收費!$I$30:$K$118,2) -> B | P43: =IF(VLOOKUP(L43,報名總表及收費!$I$30:$K$118,3)=0,"",VLOOKUP(L43,報名總表及收費!$I$30:$K$118,3,FALSE)) -> 13400 | Q43: =IF(O43="E",YEAR(NOW())-$Q$5,IF(O43="A",YEAR(NOW())-$O$5,IF(O43="B",YEAR(NOW())-$P$5,IF(O43=0,"",O43)))) -> 15 | R43: =IF(E43=0,"",IF(MOD(E43,2)=1,"",VLOOKUP(E43,$L$23:$R$63,6,FALSE))) | S43: =IF(D43=0,"",VLOOKUP(E43,$L$23:$R$63,4,FALSE)) | T43: =IF(R43="","",IF(S43="A",IF(H43>=R43,"OK","FAIL"),IF(S43="E",IF(H43<=R43,"OK","FAIL"),IF(S43="B",IF(AND(H43<=R43,H43>=U43),"OK","FAIL"),IF(U43="",IF(H43=S43,"OK","FAIL"),IF(U43="9U",IF(H43<=9,"OK","FAIL"),IF(U43="UP",IF(H43>=15,"OK","FAIL"),IF(U43="DN",IF(H43<=7,"OK","FAIL"))))))))) | U43: =IF(R43="15U","UP",IF(R43="7D","DN",IF(R43="9U","9U",IF(S43="B",11,""))))
A44: 男運動員 6 | F44: =IF(E44="","",VLOOKUP(E44,報名總表及收費!$I$29:$L$112,4)) | H44: =IF(D44="","", IF(D44=0,"",YEAR(NOW())-D44)) | J44: =IF(E44="","",IF(((VLOOKUP(E44,$L$24:$T$69,5))<G44),"報項時間慢於達標時間",""))&IF(T44="FAIL"," 運動員錯組別","")&IF(MOD(E44,2)=0,""," 項目編號為女子組") | L44: 42 | M44: =COUNTIFS($E$24:$E$163,"=42") -> 0 | N44: =IF(M44>$O$2, L44, "OK") -> OK | O44: =VLOOKUP(L44,報名總表及收費!$I$30:$K$118,2) -> A | P44: =IF(VLOOKUP(L44,報名總表及收費!$I$30:$K$118,3)=0,"",VLOOKUP(L44,報名總表及收費!$I$30:$K$118,3,FALSE)) -> 3500 | Q44: =IF(O44="E",YEAR(NOW())-$Q$5,IF(O44="A",YEAR(NOW())-$O$5,IF(O44="B",YEAR(NOW())-$P$5,IF(O44=0,"",O44)))) -> 16 | R44: =IF(E44=0,"",IF(MOD(E44,2)=1,"",VLOOKUP(E44,$L$23:$R$63,6,FALSE))) | S44: =IF(D44=0,"",VLOOKUP(E44,$L$23:$R$63,4,FALSE)) | T44: =IF(R44="","",IF(S44="A",IF(H44>=R44,"OK","FAIL"),IF(S44="E",IF(H44<=R44,"OK","FAIL"),IF(S44="B",IF(AND(H44<=R44,H44>=U44),"OK","FAIL"),IF(U44="",IF(H44=S44,"OK","FAIL"),IF(U44="9U",IF(H44<=9,"OK","FAIL"),IF(U44="UP",IF(H44>=15,"OK","FAIL"),IF(U44="DN",IF(H44<=7,"OK","FAIL"))))))))) | U44: =IF(R44="15U","UP",IF(R44="7D","DN",IF(R44="9U","9U",IF(S44="B",11,""))))
F45: =IF(E45="","",VLOOKUP(E45,報名總表及收費!$I$29:$L$112,4)) | H45: =IF(D45="","", IF(D45=0,"",YEAR(NOW())-D45)) | J45: =IF(E45="","",IF(((VLOOKUP(E45,$L$24:$T$69,5))<G45),"報項時間慢於達標時間",""))&IF(T45="FAIL"," 運動員錯組別","")&IF(MOD(E45,2)=0,""," 項目編號為女子組") | L45: 44 | M45: =COUNTIFS($E$24:$E$163,"=44") -> 0 | N45: =IF(M45>$O$2, L45, "OK") -> OK | O45: =VLOOKUP(L45,報名總表及收費!$I$30:$K$118,2) -> B | P45: =IF(VLOOKUP(L45,報名總表及收費!$I$30:$K$118,3)=0,"",VLOOKUP(L45,報名總表及收費!$I$30:$K$118,3,FALSE)) -> 3800 | Q45: =IF(O45="E",YEAR(NOW())-$Q$5,IF(O45="A",YEAR(NOW())-$O$5,IF(O45="B",YEAR(NOW())-$P$5,IF(O45=0,"",O45)))) -> 15 | R45: =IF(E45=0,"",IF(MOD(E45,2)=1,"",VLOOKUP(E45,$L$23:$R$63,6,FALSE))) | S45: =IF(D45=0,"",VLOOKUP(E45,$L$23:$R$63,4,FALSE)) | T45: =IF(R45="","",IF(S45="A",IF(H45>=R45,"OK","FAIL"),IF(S45="E",IF(H45<=R45,"OK","FAIL"),IF(S45="B",IF(AND(H45<=R45,H45>=U45),"OK","FAIL"),IF(U45="",IF(H45=S45,"OK","FAIL"),IF(U45="9U",IF(H45<=9,"OK","FAIL"),IF(U45="UP",IF(H45>=15,"OK","FAIL"),IF(U45="DN",IF(H45<=7,"OK","FAIL"))))))))) | U45: =IF(R45="15U","UP",IF(R45="7D","DN",IF(R45="9U","9U",IF(S45="B",11,""))))
F46: =IF(E46="","",VLOOKUP(E46,報名總表及收費!$I$29:$L$112,4)) | H46: =IF(D46="","", IF(D46=0,"",YEAR(NOW())-D46)) | J46: =IF(E46="","",IF(((VLOOKUP(E46,$L$24:$T$69,5))<G46),"報項時間慢於達標時間",""))&IF(T46="FAIL"," 運動員錯組別","")&IF(MOD(E46,2)=0,""," 項目編號為女子組") | L46: 46 | M46: =COUNTIFS($E$24:$E$163,"=46") -> 0 | N46: =IF(M46>$O$2, L46, "OK") -> OK | O46: =VLOOKUP(L46,報名總表及收費!$I$30:$K$118,2) -> E | P46: =IF(VLOOKUP(L46,報名總表及收費!$I$30:$K$118,3)=0,"",VLOOKUP(L46,報名總表及收費!$I$30:$K$118,3,FALSE)) -> 4500 | Q46: =IF(O46="E",YEAR(NOW())-$Q$5,IF(O46="A",YEAR(NOW())-$O$5,IF(O46="B",YEAR(NOW())-$P$5,IF(O46=0,"",O46)))) -> 10 | R46: =IF(E46=0,"",IF(MOD(E46,2)=1,"",VLOOKUP(E46,$L$23:$R$63,6,FALSE))) | S46: =IF(D46=0,"",VLOOKUP(E46,$L$23:$R$63,4,FALSE)) | T46: =IF(R46="","",IF(S46="A",IF(H46>=R46,"OK","FAIL"),IF(S46="E",IF(H46<=R46,"OK","FAIL"),IF(S46="B",IF(AND(H46<=R46,H46>=U46),"OK","FAIL"),IF(U46="",IF(H46=S46,"OK","FAIL"),IF(U46="9U",IF(H46<=9,"OK","FAIL"),IF(U46="UP",IF(H46>=15,"OK","FAIL"),IF(U46="DN",IF(H46<=7,"OK","FAIL"))))))))) | U46: =IF(R46="15U","UP",IF(R46="7D","DN",IF(R46="9U","9U",IF(S46="B",11,""))))
F47: =IF(E47="","",VLOOKUP(E47,報名總表及收費!$I$29:$L$112,4)) | H47: =IF(D47="","", IF(D47=0,"",YEAR(NOW())-D47)) | J47: =IF(E47="","",IF(((VLOOKUP(E47,$L$24:$T$69,5))<G47),"報項時間慢於達標時間",""))&IF(T47="FAIL"," 運動員錯組別","")&IF(MOD(E47,2)=0,""," 項目編號為女子組") | L47: 48 | M47: =COUNTIFS($E$24:$E$163,"=48") -> 0 | N47: =IF(M47>$O$2, L47, "OK") -> OK | O47: =VLOOKUP(L47,報名總表及收費!$I$30:$K$118,2) -> A | P47: =IF(VLOOKUP(L47,報名總表及收費!$I$30:$K$118,3)=0,"",VLOOKUP(L47,報名總表及收費!$I$30:$K$118,3,FALSE)) -> 11400 | Q47: =IF(O47="E",YEAR(NOW())-$Q$5,IF(O47="A",YEAR(NOW())-$O$5,IF(O47="B",YEAR(NOW())-$P$5,IF(O47=0,"",O47)))) -> 16 | R47: =IF(E47=0,"",IF(MOD(E47,2)=1,"",VLOOKUP(E47,$L$23:$R$63,6,FALSE))) | S47: =IF(D47=0,"",VLOOKUP(E47,$L$23:$R$63,4,FALSE)) | T47: =IF(R47="","",IF(S47="A",IF(H47>=R47,"OK","FAIL"),IF(S47="E",IF(H47<=R47,"OK","FAIL"),IF(S47="B",IF(AND(H47<=R47,H47>=U47),"OK","FAIL"),IF(U47="",IF(H47=S47,"OK","FAIL"),IF(U47="9U",IF(H47<=9,"OK","FAIL"),IF(U47="UP",IF(H47>=15,"OK","FAIL"),IF(U47="DN",IF(H47<=7,"OK","FAIL"))))))))) | U47: =IF(R47="15U","UP",IF(R47="7D","DN",IF(R47="9U","9U",IF(S47="B",11,""))))
A48: 男運動員 7 | F48: =IF(E48="","",VLOOKUP(E48,報名總表及收費!$I$29:$L$112,4)) | H48: =IF(D48="","", IF(D48=0,"",YEAR(NOW())-D48)) | J48: =IF(E48="","",IF(((VLOOKUP(E48,$L$24:$T$69,5))<G48),"報項時間慢於達標時間",""))&IF(T48="FAIL"," 運動員錯組別","")&IF(MOD(E48,2)=0,""," 項目編號為女子組") | L48: 50 | M48: =COUNTIFS($E$24:$E$163,"=50") -> 0 | N48: =IF(M48>$O$2, L48, "OK") -> OK | O48: =VLOOKUP(L48,報名總表及收費!$I$30:$K$118,2) -> B | P48: =IF(VLOOKUP(L48,報名總表及收費!$I$30:$K$118,3)=0,"",VLOOKUP(L48,報名總表及收費!$I$30:$K$118,3,FALSE)) -> 11900 | Q48: =IF(O48="E",YEAR(NOW())-$Q$5,IF(O48="A",YEAR(NOW())-$O$5,IF(O48="B",YEAR(NOW())-$P$5,IF(O48=0,"",O48)))) -> 15 | R48: =IF(E48=0,"",IF(MOD(E48,2)=1,"",VLOOKUP(E48,$L$23:$R$63,6,FALSE))) | S48: =IF(D48=0,"",VLOOKUP(E48,$L$23:$R$63,4,FALSE)) | T48: =IF(R48="","",IF(S48="A",IF(H48>=R48,"OK","FAIL"),IF(S48="E",IF(H48<=R48,"OK","FAIL"),IF(S48="B",IF(AND(H48<=R48,H48>=U48),"OK","FAIL"),IF(U48="",IF(H48=S48,"OK","FAIL"),IF(U48="9U",IF(H48<=9,"OK","FAIL"),IF(U48="UP",IF(H48>=15,"OK","FAIL"),IF(U48="DN",IF(H48<=7,"OK","FAIL"))))))))) | U48: =IF(R48="15U","UP",IF(R48="7D","DN",IF(R48="9U","9U",IF(S48="B",11,""))))
F49: =IF(E49="","",VLOOKUP(E49,報名總表及收費!$I$29:$L$112,4)) | H49: =IF(D49="","", IF(D49=0,"",YEAR(NOW())-D49)) | J49: =IF(E49="","",IF(((VLOOKUP(E49,$L$24:$T$69,5))<G49),"報項時間慢於達標時間",""))&IF(T49="FAIL"," 運動員錯組別","")&IF(MOD(E49,2)=0,""," 項目編號為女子組") | L49: 52 | M49: =COUNTIFS($E$24:$E$163,"=52") -> 0 | N49: =IF(M49>$O$2, L49, "OK") -> OK | O49: =VLOOKUP(L49,報名總表及收費!$I$30:$K$118,2) -> A | P49: =IF(VLOOKUP(L49,報名總表及收費!$I$30:$K$118,3)=0,"",VLOOKUP(L49,報名總表及收費!$I$30:$K$118,3,FALSE)) | Q49: =IF(O49="E",YEAR(NOW())-$Q$5,IF(O49="A",YEAR(NOW())-$O$5,IF(O49="B",YEAR(NOW())-$P$5,IF(O49=0,"",O49)))) -> 16 | R49: =IF(E49=0,"",IF(MOD(E49,2)=1,"",VLOOKUP(E49,$L$23:$R$63,6,FALSE))) | S49: =IF(D49=0,"",VLOOKUP(E49,$L$23:$R$63,4,FALSE)) | T49: =IF(R49="","",IF(S49="A",IF(H49>=R49,"OK","FAIL"),IF(S49="E",IF(H49<=R49,"OK","FAIL"),IF(S49="B",IF(AND(H49<=R49,H49>=U49),"OK","FAIL"),IF(U49="",IF(H49=S49,"OK","FAIL"),IF(U49="9U",IF(H49<=9,"OK","FAIL"),IF(U49="UP",IF(H49>=15,"OK","FAIL"),IF(U49="DN",IF(H49<=7,"OK","FAIL"))))))))) | U49: =IF(R49="15U","UP",IF(R49="7D","DN",IF(R49="9U","9U",IF(S49="B",11,""))))
F50: =IF(E50="","",VLOOKUP(E50,報名總表及收費!$I$29:$L$112,4)) | H50: =IF(D50="","", IF(D50=0,"",YEAR(NOW())-D50)) | J50: =IF(E50="","",IF(((VLOOKUP(E50,$L$24:$T$69,5))<G50),"報項時間慢於達標時間",""))&IF(T50="FAIL"," 運動員錯組別","")&IF(MOD(E50,2)=0,""," 項目編號為女子組") | L50: 54 | M50: =COUNTIFS($E$24:$E$163,"=54") -> 0 | N50: =IF(M50>$O$2, L50, "OK") -> OK | O50: =VLOOKUP(L50,報名總表及收費!$I$30:$K$118,2) -> B | P50: =IF(VLOOKUP(L50,報名總表及收費!$I$30:$K$118,3)=0,"",VLOOKUP(L50,報名總表及收費!$I$30:$K$118,3,FALSE)) | Q50: =IF(O50="E",YEAR(NOW())-$Q$5,IF(O50="A",YEAR(NOW())-$O$5,IF(O50="B",YEAR(NOW())-$P$5,IF(O50=0,"",O50)))) -> 15 | R50: =IF(E50=0,"",IF(MOD(E50,2)=1,"",VLOOKUP(E50,$L$23:$R$63,6,FALSE))) | S50: =IF(D50=0,"",VLOOKUP(E50,$L$23:$R$63,4,FALSE)) | T50: =IF(R50="","",IF(S50="A",IF(H50>=R50,"OK","FAIL"),IF(S50="E",IF(H50<=R50,"OK","FAIL"),IF(S50="B",IF(AND(H50<=R50,H50>=U50),"OK","FAIL"),IF(U50="",IF(H50=S50,"OK","FAIL"),IF(U50="9U",IF(H50<=9,"OK","FAIL"),IF(U50="UP",IF(H50>=15,"OK","FAIL"),IF(U50="DN",IF(H50<=7,"OK","FAIL"))))))))) | U50: =IF(R50="15U","UP",IF(R50="7D","DN",IF(R50="9U","9U",IF(S50="B",11,""))))
F51: =IF(E51="","",VLOOKUP(E51,報名總表及收費!$I$29:$L$112,4)) | H51: =IF(D51="","", IF(D51=0,"",YEAR(NOW())-D51)) | J51: =IF(E51="","",IF(((VLOOKUP(E51,$L$24:$T$69,5))<G51),"報項時間慢於達標時間",""))&IF(T51="FAIL"," 運動員錯組別","")&IF(MOD(E51,2)=0,""," 項目編號為女子組") | L51: 56 | M51: =COUNTIFS($E$24:$E$163,"=56") -> 0 | N51: =IF(M51>$O$2, L51, "OK") -> OK | O51: =VLOOKUP(L51,報名總表及收費!$I$30:$K$118,2) | P51: =IF(VLOOKUP(L51,報名總表及收費!$I$30:$K$118,3)=0,"",VLOOKUP(L51,報名總表及收費!$I$30:$K$118,3,FALSE)) | Q51: =IF(O51="E",YEAR(NOW())-$Q$5,IF(O51="A",YEAR(NOW())-$O$5,IF(O51="B",YEAR(NOW())-$P$5,IF(O51=0,"",O51)))) | R51: =IF(E51=0,"",IF(MOD(E51,2)=1,"",VLOOKUP(E51,$L$23:$R$63,6,FALSE))) | S51: =IF(D51=0,"",VLOOKUP(E51,$L$23:$R$63,4,FALSE)) | T51: =IF(R51="","",IF(S51="A",IF(H51>=R51,"OK","FAIL"),IF(S51="E",IF(H51<=R51,"OK","FAIL"),IF(S51="B",IF(AND(H51<=R51,H51>=U51),"OK","FAIL"),IF(U51="",IF(H51=S51,"OK","FAIL"),IF(U51="9U",IF(H51<=9,"OK","FAIL"),IF(U51="UP",IF(H51>=15,"OK","FAIL"),IF(U51="DN",IF(H51<=7,"OK","FAIL"))))))))) | U51: =IF(R51="15U","UP",IF(R51="7D","DN",IF(R51="9U","9U",IF(S51="B",11,""))))
A52: 男運動員 8 | F52: =IF(E52="","",VLOOKUP(E52,報名總表及收費!$I$29:$L$112,4)) | H52: =IF(D52="","", IF(D52=0,"",YEAR(NOW())-D52)) | J52: =IF(E52="","",IF(((VLOOKUP(E52,$L$24:$T$69,5))<G52),"報項時間慢於達標時間",""))&IF(T52="FAIL"," 運動員錯組別","")&IF(MOD(E52,2)=0,""," 項目編號為女子組") | L52: 58 | M52: =COUNTIFS($E$24:$E$163,"=58") -> 0 | N52: =IF(M52>$O$2, L52, "OK") -> OK | O52: =VLOOKUP(L52,報名總表及收費!$I$30:$K$118,2) | P52: =IF(VLOOKUP(L52,報名總表及收費!$I$30:$K$118,3)=0,"",VLOOKUP(L52,報名總表及收費!$I$30:$K$118,3,FALSE)) | Q52: =IF(O52="E",YEAR(NOW())-$Q$5,IF(O52="A",YEAR(NOW())-$O$5,IF(O52="B",YEAR(NOW())-$P$5,IF(O52=0,"",O52)))) | R52: =IF(E52=0,"",IF(MOD(E52,2)=1,"",VLOOKUP(E52,$L$23:$R$63,6,FALSE))) | S52: =IF(D52=0,"",VLOOKUP(E52,$L$23:$R$63,4,FALSE)) | T52: =IF(R52="","",IF(S52="A",IF(H52>=R52,"OK","FAIL"),IF(S52="E",IF(H52<=R52,"OK","FAIL"),IF(S52="B",IF(AND(H52<=R52,H52>=U52),"OK","FAIL"),IF(U52="",IF(H52=S52,"OK","FAIL"),IF(U52="9U",IF(H52<=9,"OK","FAIL"),IF(U52="UP",IF(H52>=15,"OK","FAIL"),IF(U52="DN",IF(H52<=7,"OK","FAIL"))))))))) | U52: =IF(R52="15U","UP",IF(R52="7D","DN",IF(R52="9U","9U",IF(S52="B",11,""))))
F53: =IF(E53="","",VLOOKUP(E53,報名總表及收費!$I$29:$L$112,4)) | H53: =IF(D53="","", IF(D53=0,"",YEAR(NOW())-D53)) | J53: =IF(E53="","",IF(((VLOOKUP(E53,$L$24:$T$69,5))<G53),"報項時間慢於達標時間",""))&IF(T53="FAIL"," 運動員錯組別","")&IF(MOD(E53,2)=0,""," 項目編號為女子組") | L53: 60 | M53: =COUNTIFS($E$24:$E$163,"=60") -> 0 | N53: =IF(M53>$O$2, L53, "OK") -> OK | O53: =VLOOKUP(L53,報名總表及收費!$I$30:$K$118,2) | P53: =IF(VLOOKUP(L53,報名總表及收費!$I$30:$K$118,3)=0,"",VLOOKUP(L53,報名總表及收費!$I$30:$K$118,3,FALSE)) | Q53: =IF(O53="E",YEAR(NOW())-$Q$5,IF(O53="A",YEAR(NOW())-$O$5,IF(O53="B",YEAR(NOW())-$P$5,IF(O53=0,"",O53)))) | R53: =IF(E53=0,"",IF(MOD(E53,2)=1,"",VLOOKUP(E53,$L$23:$R$63,6,FALSE))) | S53: =IF(D53=0,"",VLOOKUP(E53,$L$23:$R$63,4,FALSE)) | T53: =IF(R53="","",IF(S53="A",IF(H53>=R53,"OK","FAIL"),IF(S53="E",IF(H53<=R53,"OK","FAIL"),IF(S53="B",IF(AND(H53<=R53,H53>=U53),"OK","FAIL"),IF(U53="",IF(H53=S53,"OK","FAIL"),IF(U53="9U",IF(H53<=9,"OK","FAIL"),IF(U53="UP",IF(H53>=15,"OK","FAIL"),IF(U53="DN",IF(H53<=7,"OK","FAIL"))))))))) | U53: =IF(R53="15U","UP",IF(R53="7D","DN",IF(R53="9U","9U",IF(S53="B",11,""))))
F54: =IF(E54="","",VLOOKUP(E54,報名總表及收費!$I$29:$L$112,4)) | H54: =IF(D54="","", IF(D54=0,"",YEAR(NOW())-D54)) | J54: =IF(E54="","",IF(((VLOOKUP(E54,$L$24:$T$69,5))<G54),"報項時間慢於達標時間",""))&IF(T54="FAIL"," 運動員錯組別","")&IF(MOD(E54,2)=0,""," 項目編號為女子組") | L54: 62 | M54: =COUNTIFS($E$24:$E$163,"=62") -> 0 | N54: =IF(M54>$O$2, L54, "OK") -> OK | O54: =VLOOKUP(L54,報名總表及收費!$I$30:$K$118,2) | P54: =IF(VLOOKUP(L54,報名總表及收費!$I$30:$K$118,3)=0,"",VLOOKUP(L54,報名總表及收費!$I$30:$K$118,3,FALSE)) | Q54: =IF(O54="E",YEAR(NOW())-$Q$5,IF(O54="A",YEAR(NOW())-$O$5,IF(O54="B",YEAR(NOW())-$P$5,IF(O54=0,"",O54)))) | R54: =IF(E54=0,"",IF(MOD(E54,2)=1,"",VLOOKUP(E54,$L$23:$R$63,6,FALSE))) | S54: =IF(D54=0,"",VLOOKUP(E54,$L$23:$R$63,4,FALSE)) | T54: =IF(R54="","",IF(S54="A",IF(H54>=R54,"OK","FAIL"),IF(S54="E",IF(H54<=R54,"OK","FAIL"),IF(S54="B",IF(AND(H54<=R54,H54>=U54),"OK","FAIL"),IF(U54="",IF(H54=S54,"OK","FAIL"),IF(U54="9U",IF(H54<=9,"OK","FAIL"),IF(U54="UP",IF(H54>=15,"OK","FAIL"),IF(U54="DN",IF(H54<=7,"OK","FAIL"))))))))) | U54: =IF(R54="15U","UP",IF(R54="7D","DN",IF(R54="9U","9U",IF(S54="B",11,""))))
F55: =IF(E55="","",VLOOKUP(E55,報名總表及收費!$I$29:$L$112,4)) | H55: =IF(D55="","", IF(D55=0,"",YEAR(NOW())-D55)) | J55: =IF(E55="","",IF(((VLOOKUP(E55,$L$24:$T$69,5))<G55),"報項時間慢於達標時間",""))&IF(T55="FAIL"," 運動員錯組別","")&IF(MOD(E55,2)=0,""," 項目編號為女子組") | L55: 64 | M55: =COUNTIFS($E$24:$E$163,"=64") -> 0 | N55: =IF(M55>$O$2, L55, "OK") -> OK | O55: =VLOOKUP(L55,報名總表及收費!$I$30:$K$118,2) | P55: =IF(VLOOKUP(L55,報名總表及收費!$I$30:$K$118,3)=0,"",VLOOKUP(L55,報名總表及收費!$I$30:$K$118,3,FALSE)) | Q55: =IF(O55="E",YEAR(NOW())-$Q$5,IF(O55="A",YEAR(NOW())-$O$5,IF(O55="B",YEAR(NOW())-$P$5,IF(O55=0,"",O55)))) | R55: =IF(E55=0,"",IF(MOD(E55,2)=1,"",VLOOKUP(E55,$L$23:$R$63,6,FALSE))) | S55: =IF(D55=0,"",VLOOKUP(E55,$L$23:$R$63,4,FALSE)) | T55: =IF(R55="","",IF(S55="A",IF(H55>=R55,"OK","FAIL"),IF(S55="E",IF(H55<=R55,"OK","FAIL"),IF(S55="B",IF(AND(H55<=R55,H55>=U55),"OK","FAIL"),IF(U55="",IF(H55=S55,"OK","FAIL"),IF(U55="9U",IF(H55<=9,"OK","FAIL"),IF(U55="UP",IF(H55>=15,"OK","FAIL"),IF(U55="DN",IF(H55<=7,"OK","FAIL"))))))))) | U55: =IF(R55="15U","UP",IF(R55="7D","DN",IF(R55="9U","9U",IF(S55="B",11,""))))
A56: 男運動員 9 | F56: =IF(E56="","",VLOOKUP(E56,報名總表及收費!$I$29:$L$112,4)) | H56: =IF(D56="","", IF(D56=0,"",YEAR(NOW())-D56)) | J56: =IF(E56="","",IF(((VLOOKUP(E56,$L$24:$T$69,5))<G56),"報項時間慢於達標時間",""))&IF(T56="FAIL"," 運動員錯組別","")&IF(MOD(E56,2)=0,""," 項目編號為女子組") | L56: 66 | M56: =COUNTIFS($E$24:$E$163,"=66") -> 0 | N56: =IF(M56>$O$2, L56, "OK") -> OK | O56: =VLOOKUP(L56,報名總表及收費!$I$30:$K$118,2) | P56: =IF(VLOOKUP(L56,報名總表及收費!$I$30:$K$118,3)=0,"",VLOOKUP(L56,報名總表及收費!$I$30:$K$118,3,FALSE)) | Q56: =IF(O56="E",YEAR(NOW())-$Q$5,IF(O56="A",YEAR(NOW())-$O$5,IF(O56="B",YEAR(NOW())-$P$5,IF(O56=0,"",O56)))) | R56: =IF(E56=0,"",IF(MOD(E56,2)=1,"",VLOOKUP(E56,$L$23:$R$63,6,FALSE))) | S56: =IF(D56=0,"",VLOOKUP(E56,$L$23:$R$63,4,FALSE)) | T56: =IF(R56="","",IF(S56="A",IF(H56>=R56,"OK","FAIL"),IF(S56="E",IF(H56<=R56,"OK","FAIL"),IF(S56="B",IF(AND(H56<=R56,H56>=U56),"OK","FAIL"),IF(U56="",IF(H56=S56,"OK","FAIL"),IF(U56="9U",IF(H56<=9,"OK","FAIL"),IF(U56="UP",IF(H56>=15,"OK","FAIL"),IF(U56="DN",IF(H56<=7,"OK","FAIL"))))))))) | U56: =IF(R56="15U","UP",IF(R56="7D","DN",IF(R56="9U","9U",IF(S56="B",11,""))))
F57: =IF(E57="","",VLOOKUP(E57,報名總表及收費!$I$29:$L$112,4)) | H57: =IF(D57="","", IF(D57=0,"",YEAR(NOW())-D57)) | J57: =IF(E57="","",IF(((VLOOKUP(E57,$L$24:$T$69,5))<G57),"報項時間慢於達標時間",""))&IF(T57="FAIL"," 運動員錯組別","")&IF(MOD(E57,2)=0,""," 項目編號為女子組") | L57: 68 | M57: =COUNTIFS($E$24:$E$163,"=68") -> 0 | N57: =IF(M57>$O$2, L57, "OK") -> OK | O57: =VLOOKUP(L57,報名總表及收費!$I$30:$K$118,2) | P57: =IF(VLOOKUP(L57,報名總表及收費!$I$30:$K$118,3)=0,"",VLOOKUP(L57,報名總表及收費!$I$30:$K$118,3,FALSE)) | Q57: =IF(O57="E",YEAR(NOW())-$Q$5,IF(O57="A",YEAR(NOW())-$O$5,IF(O57="B",YEAR(NOW())-$P$5,IF(O57=0,"",O57)))) | R57: =IF(E57=0,"",IF(MOD(E57,2)=1,"",VLOOKUP(E57,$L$23:$R$63,6,FALSE))) | S57: =IF(D57=0,"",VLOOKUP(E57,$L$23:$R$63,4,FALSE)) | T57: =IF(R57="","",IF(S57="A",IF(H57>=R57,"OK","FAIL"),IF(S57="E",IF(H57<=R57,"OK","FAIL"),IF(S57="B",IF(AND(H57<=R57,H57>=U57),"OK","FAIL"),IF(U57="",IF(H57=S57,"OK","FAIL"),IF(U57="9U",IF(H57<=9,"OK","FAIL"),IF(U57="UP",IF(H57>=15,"OK","FAIL"),IF(U57="DN",IF(H57<=7,"OK","FAIL"))))))))) | U57: =IF(R57="15U","UP",IF(R57="7D","DN",IF(R57="9U","9U",IF(S57="B",11,""))))
F58: =IF(E58="","",VLOOKUP(E58,報名總表及收費!$I$29:$L$112,4)) | H58: =IF(D58="","", IF(D58=0,"",YEAR(NOW())-D58)) | J58: =IF(E58="","",IF(((VLOOKUP(E58,$L$24:$T$69,5))<G58),"報項時間慢於達標時間",""))&IF(T58="FAIL"," 運動員錯組別","")&IF(MOD(E58,2)=0,""," 項目編號為女子組") | L58: 70 | M58: =COUNTIFS($E$24:$E$163,"=64") -> 0 | N58: =IF(M58>$O$2, L58, "OK") -> OK | O58: =VLOOKUP(L58,報名總表及收費!$I$30:$K$118,2) | P58: =IF(VLOOKUP(L58,報名總表及收費!$I$30:$K$118,3)=0,"",VLOOKUP(L58,報名總表及收費!$I$30:$K$118,3,FALSE)) | Q58: =IF(O58="E",YEAR(NOW())-$Q$5,IF(O58="A",YEAR(NOW())-$O$5,IF(O58="B",YEAR(NOW())-$P$5,IF(O58=0,"",O58)))) | R58: =IF(E58=0,"",IF(MOD(E58,2)=1,"",VLOOKUP(E58,$L$23:$R$63,6,FALSE))) | S58: =IF(D58=0,"",VLOOKUP(E58,$L$23:$R$63,4,FALSE)) | T58: =IF(R58="","",IF(S58="A",IF(H58>=R58,"OK","FAIL"),IF(S58="E",IF(H58<=R58,"OK","FAIL"),IF(S58="B",IF(AND(H58<=R58,H58>=U58),"OK","FAIL"),IF(U58="",IF(H58=S58,"OK","FAIL"),IF(U58="9U",IF(H58<=9,"OK","FAIL"),IF(U58="UP",IF(H58>=15,"OK","FAIL"),IF(U58="DN",IF(H58<=7,"OK","FAIL"))))))))) | U58: =IF(R58="15U","UP",IF(R58="7D","DN",IF(R58="9U","9U",IF(S58="B",11,""))))
F59: =IF(E59="","",VLOOKUP(E59,報名總表及收費!$I$29:$L$112,4)) | H59: =IF(D59="","", IF(D59=0,"",YEAR(NOW())-D59)) | J59: =IF(E59="","",IF(((VLOOKUP(E59,$L$24:$T$69,5))<G59),"報項時間慢於達標時間",""))&IF(T59="FAIL"," 運動員錯組別","")&IF(MOD(E59,2)=0,""," 項目編號為女子組") | L59: 72 | M59: =COUNTIFS($E$24:$E$163,"=66") -> 0 | N59: =IF(M59>$O$2, L59, "OK") -> OK | O59: =VLOOKUP(L59,報名總表及收費!$I$30:$K$118,2) | P59: =IF(VLOOKUP(L59,報名總表及收費!$I$30:$K$118,3)=0,"",VLOOKUP(L59,報名總表及收費!$I$30:$K$118,3,FALSE)) | Q59: =IF(O59="E",YEAR(NOW())-$Q$5,IF(O59="A",YEAR(NOW())-$O$5,IF(O59="B",YEAR(NOW())-$P$5,IF(O59=0,"",O59)))) | R59: =IF(E59=0,"",IF(MOD(E59,2)=1,"",VLOOKUP(E59,$L$23:$R$63,6,FALSE))) | S59: =IF(D59=0,"",VLOOKUP(E59,$L$23:$R$63,4,FALSE)) | T59: =IF(R59="","",IF(S59="A",IF(H59>=R59,"OK","FAIL"),IF(S59="E",IF(H59<=R59,"OK","FAIL"),IF(S59="B",IF(AND(H59<=R59,H59>=U59),"OK","FAIL"),IF(U59="",IF(H59=S59,"OK","FAIL"),IF(U59="9U",IF(H59<=9,"OK","FAIL"),IF(U59="UP",IF(H59>=15,"OK","FAIL"),IF(U59="DN",IF(H59<=7,"OK","FAIL"))))))))) | U59: =IF(R59="15U","UP",IF(R59="7D","DN",IF(R59="9U","9U",IF(S59="B",11,""))))
A60: 男運動員 10 | F60: =IF(E60="","",VLOOKUP(E60,報名總表及收費!$I$29:$L$112,4)) | H60: =IF(D60="","", IF(D60=0,"",YEAR(NOW())-D60)) | J60: =IF(E60="","",IF(((VLOOKUP(E60,$L$24:$T$69,5))<G60),"報項時間慢於達標時間",""))&IF(T60="FAIL"," 運動員錯組別","")&IF(MOD(E60,2)=0,""," 項目編號為女子組") | L60: 74 | M60: =COUNTIFS($E$24:$E$163,"=68") -> 0 | N60: =IF(M60>$O$2, L60, "OK") -> OK | O60: =VLOOKUP(L60,報名總表及收費!$I$30:$K$118,2) | P60: =IF(VLOOKUP(L60,報名總表及收費!$I$30:$K$118,3)=0,"",VLOOKUP(L60,報名總表及收費!$I$30:$K$118,3,FALSE)) | Q60: =IF(O60="E",YEAR(NOW())-$Q$5,IF(O60="A",YEAR(NOW())-$O$5,IF(O60="B",YEAR(NOW())-$P$5,IF(O60=0,"",O60)))) | R60: =IF(E60=0,"",IF(MOD(E60,2)=1,"",VLOOKUP(E60,$L$23:$R$63,6,FALSE))) | S60: =IF(D60=0,"",VLOOKUP(E60,$L$23:$R$63,4,FALSE)) | T60: =IF(R60="","",IF(S60="A",IF(H60>=R60,"OK","FAIL"),IF(S60="E",IF(H60<=R60,"OK","FAIL"),IF(S60="B",IF(AND(H60<=R60,H60>=U60),"OK","FAIL"),IF(U60="",IF(H60=S60,"OK","FAIL"),IF(U60="9U",IF(H60<=9,"OK","FAIL"),IF(U60="UP",IF(H60>=15,"OK","FAIL"),IF(U60="DN",IF(H60<=7,"OK","FAIL"))))))))) | U60: =IF(R60="15U","UP",IF(R60="7D","DN",IF(R60="9U","9U",IF(S60="B",11,""))))
F61: =IF(E61="","",VLOOKUP(E61,報名總表及收費!$I$29:$L$112,4)) | H61: =IF(D61="","", IF(D61=0,"",YEAR(NOW())-D61)) | J61: =IF(E61="","",IF(((VLOOKUP(E61,$L$24:$T$69,5))<G61),"報項時間慢於達標時間",""))&IF(T61="FAIL"," 運動員錯組別","")&IF(MOD(E61,2)=0,""," 項目編號為女子組") | L61: 76 | M61: =COUNTIFS($E$24:$E$163,"=64") -> 0 | N61: =IF(M61>$O$2, L61, "OK") -> OK | O61: =VLOOKUP(L61,報名總表及收費!$I$30:$K$118,2) | P61: =IF(VLOOKUP(L61,報名總表及收費!$I$30:$K$118,3)=0,"",VLOOKUP(L61,報名總表及收費!$I$30:$K$118,3,FALSE)) | Q61: =IF(O61="E",YEAR(NOW())-$Q$5,IF(O61="A",YEAR(NOW())-$O$5,IF(O61="B",YEAR(NOW())-$P$5,IF(O61=0,"",O61)))) | R61: =IF(E61=0,"",IF(MOD(E61,2)=1,"",VLOOKUP(E61,$L$23:$R$63,6,FALSE))) | S61: =IF(D61=0,"",VLOOKUP(E61,$L$23:$R$63,4,FALSE)) | T61: =IF(R61="","",IF(S61="A",IF(H61>=R61,"OK","FAIL"),IF(S61="E",IF(H61<=R61,"OK","FAIL"),IF(S61="B",IF(AND(H61<=R61,H61>=U61),"OK","FAIL"),IF(U61="",IF(H61=S61,"OK","FAIL"),IF(U61="9U",IF(H61<=9,"OK","FAIL"),IF(U61="UP",IF(H61>=15,"OK","FAIL"),IF(U61="DN",IF(H61<=7,"OK","FAIL"))))))))) | U61: =IF(R61="15U","UP",IF(R61="7D","DN",IF(R61="9U","9U",IF(S61="B",11,""))))
F62: =IF(E62="","",VLOOKUP(E62,報名總表及收費!$I$29:$L$112,4)) | H62: =IF(D62="","", IF(D62=0,"",YEAR(NOW())-D62)) | J62: =IF(E62="","",IF(((VLOOKUP(E62,$L$24:$T$69,5))<G62),"報項時間慢於達標時間",""))&IF(T62="FAIL"," 運動員錯組別","")&IF(MOD(E62,2)=0,""," 項目編號為女子組") | L62: 78 | M62: =COUNTIFS($E$24:$E$163,"=66") -> 0 | N62: =IF(M62>$O$2, L62, "OK") -> OK | O62: =VLOOKUP(L62,報名總表及收費!$I$30:$K$118,2) | P62: =IF(VLOOKUP(L62,報名總表及收費!$I$30:$K$118,3)=0,"",VLOOKUP(L62,報名總表及收費!$I$30:$K$118,3,FALSE)) | Q62: =IF(O62="E",YEAR(NOW())-$Q$5,IF(O62="A",YEAR(NOW())-$O$5,IF(O62="B",YEAR(NOW())-$P$5,IF(O62=0,"",O62)))) | R62: =IF(E62=0,"",IF(MOD(E62,2)=1,"",VLOOKUP(E62,$L$23:$R$63,6,FALSE))) | S62: =IF(D62=0,"",VLOOKUP(E62,$L$23:$R$63,4,FALSE)) | T62: =IF(R62="","",IF(S62="A",IF(H62>=R62,"OK","FAIL"),IF(S62="E",IF(H62<=R62,"OK","FAIL"),IF(S62="B",IF(AND(H62<=R62,H62>=U62),"OK","FAIL"),IF(U62="",IF(H62=S62,"OK","FAIL"),IF(U62="9U",IF(H62<=9,"OK","FAIL"),IF(U62="UP",IF(H62>=15,"OK","FAIL"),IF(U62="DN",IF(H62<=7,"OK","FAIL"))))))))) | U62: =IF(R62="15U","UP",IF(R62="7D","DN",IF(R62="9U","9U",IF(S62="B",11,""))))
F63: =IF(E63="","",VLOOKUP(E63,報名總表及收費!$I$29:$L$112,4)) | H63: =IF(D63="","", IF(D63=0,"",YEAR(NOW())-D63)) | J63: =IF(E63="","",IF(((VLOOKUP(E63,$L$24:$T$69,5))<G63),"報項時間慢於達標時間",""))&IF(T63="FAIL"," 運動員錯組別","")&IF(MOD(E63,2)=0,""," 項目編號為女子組") | L63: 80 | M63: =COUNTIFS($E$24:$E$163,"=68") -> 0 | N63: =IF(M63>$O$2, L63, "OK") -> OK | O63: =VLOOKUP(L63,報名總表及收費!$I$30:$K$118,2) | P63: =IF(VLOOKUP(L63,報名總表及收費!$I$30:$K$118,3)=0,"",VLOOKUP(L63,報名總表及收費!$I$30:$K$118,3,FALSE)) | Q63: =IF(O63="E",YEAR(NOW())-$Q$5,IF(O63="A",YEAR(NOW())-$O$5,IF(O63="B",YEAR(NOW())-$P$5,IF(O63=0,"",O63)))) | R63: =IF(E63=0,"",IF(MOD(E63,2)=1,"",VLOOKUP(E63,$L$23:$R$63,6,FALSE))) | S63: =IF(D63=0,"",VLOOKUP(E63,$L$23:$R$63,4,FALSE)) | T63: =IF(R63="","",IF(S63="A",IF(H63>=R63,"OK","FAIL"),IF(S63="E",IF(H63<=R63,"OK","FAIL"),IF(S63="B",IF(AND(H63<=R63,H63>=U63),"OK","FAIL"),IF(U63="",IF(H63=S63,"OK","FAIL"),IF(U63="9U",IF(H63<=9,"OK","FAIL"),IF(U63="UP",IF(H63>=15,"OK","FAIL"),IF(U63="DN",IF(H63<=7,"OK","FAIL"))))))))) | U63: =IF(R63="15U","UP",IF(R63="7D","DN",IF(R63="9U","9U",IF(S63="B",11,""))))
A64: 男運動員 11 | F64: =IF(E64="","",VLOOKUP(E64,報名總表及收費!$I$29:$L$112,4)) | H64: =IF(D64="","", IF(D64=0,"",YEAR(NOW())-D64)) | J64: =IF(E64="","",IF(((VLOOKUP(E64,$L$24:$T$69,5))<G64),"報項時間慢於達標時間",""))&IF(T64="FAIL"," 運動員錯組別","")&IF(MOD(E64,2)=0,""," 項目編號為女子組") | L64: 82 | M64: =COUNTIFS($E$24:$E$163,"=64") -> 0 | N64: =IF(M64>$O$2, L64, "OK") -> OK | O64: =VLOOKUP(L64,報名總表及收費!$I$30:$K$118,2) | P64: =IF(VLOOKUP(L64,報名總表及收費!$I$30:$K$118,3)=0,"",VLOOKUP(L64,報名總表及收費!$I$30:$K$118,3,FALSE)) | Q64: =IF(O64="E",YEAR(NOW())-$Q$5,IF(O64="A",YEAR(NOW())-$O$5,IF(O64="B",YEAR(NOW())-$P$5,IF(O64=0,"",O64)))) | R64: =IF(E64=0,"",IF(MOD(E64,2)=1,"",VLOOKUP(E64,$L$23:$R$63,6,FALSE))) | S64: =IF(D64=0,"",VLOOKUP(E64,$L$23:$R$63,4,FALSE)) | T64: =IF(R64="","",IF(S64="A",IF(H64>=R64,"OK","FAIL"),IF(S64="E",IF(H64<=R64,"OK","FAIL"),IF(S64="B",IF(AND(H64<=R64,H64>=U64),"OK","FAIL"),IF(U64="",IF(H64=S64,"OK","FAIL"),IF(U64="9U",IF(H64<=9,"OK","FAIL"),IF(U64="UP",IF(H64>=15,"OK","FAIL"),IF(U64="DN",IF(H64<=7,"OK","FAIL"))))))))) | U64: =IF(R64="15U","UP",IF(R64="7D","DN",IF(R64="9U","9U",IF(S64="B",11,""))))
F65: =IF(E65="","",VLOOKUP(E65,報名總表及收費!$I$29:$L$112,4)) | H65: =IF(D65="","", IF(D65=0,"",YEAR(NOW())-D65)) | J65: =IF(E65="","",IF(((VLOOKUP(E65,$L$24:$T$69,5))<G65),"報項時間慢於達標時間",""))&IF(T65="FAIL"," 運動員錯組別","")&IF(MOD(E65,2)=0,""," 項目編號為女子組") | M65: =SUM(M24:M64) -> 0 | Q65: =IF(O65="E",YEAR(NOW())-$Q$5,IF(O65="A",YEAR(NOW())-$O$5,IF(O65="B",YEAR(NOW())-$P$5,IF(O65=0,"",O65)))) | R65: =IF(E65=0,"",IF(MOD(E65,2)=1,"",VLOOKUP(E65,$L$23:$R$63,6,FALSE))) | S65: =IF(D65=0,"",VLOOKUP(E65,$L$23:$R$63,4,FALSE)) | T65: =IF(R65="","",IF(S65="A",IF(H65>=R65,"OK","FAIL"),IF(S65="E",IF(H65<=R65,"OK","FAIL"),IF(S65="B",IF(AND(H65<=R65,H65>=U65),"OK","FAIL"),IF(U65="",IF(H65=S65,"OK","FAIL"),IF(U65="9U",IF(H65<=9,"OK","FAIL"),IF(U65="UP",IF(H65>=15,"OK","FAIL"),IF(U65="DN",IF(H65<=7,"OK","FAIL"))))))))) | U65: =IF(R65="15U","UP",IF(R65="7D","DN",IF(R65="9U","9U",IF(S65="B",11,""))))
F66: =IF(E66="","",VLOOKUP(E66,報名總表及收費!$I$29:$L$112,4)) | H66: =IF(D66="","", IF(D66=0,"",YEAR(NOW())-D66)) | J66: =IF(E66="","",IF(((VLOOKUP(E66,$L$24:$T$69,5))<G66),"報項時間慢於達標時間",""))&IF(T66="FAIL"," 運動員錯組別","")&IF(MOD(E66,2)=0,""," 項目編號為女子組") | Q66: =IF(O66="E",YEAR(NOW())-$Q$5,IF(O66="A",YEAR(NOW())-$O$5,IF(O66="B",YEAR(NOW())-$P$5,IF(O66=0,"",O66)))) | R66: =IF(E66=0,"",IF(MOD(E66,2)=1,"",VLOOKUP(E66,$L$23:$R$63,6,FALSE))) | S66: =IF(D66=0,"",VLOOKUP(E66,$L$23:$R$63,4,FALSE)) | T66: =IF(R66="","",IF(S66="A",IF(H66>=R66,"OK","FAIL"),IF(S66="E",IF(H66<=R66,"OK","FAIL"),IF(S66="B",IF(AND(H66<=R66,H66>=U66),"OK","FAIL"),IF(U66="",IF(H66=S66,"OK","FAIL"),IF(U66="9U",IF(H66<=9,"OK","FAIL"),IF(U66="UP",IF(H66>=15,"OK","FAIL"),IF(U66="DN",IF(H66<=7,"OK","FAIL"))))))))) | U66: =IF(R66="15U","UP",IF(R66="7D","DN",IF(R66="9U","9U",IF(S66="B",11,""))))
F67: =IF(E67="","",VLOOKUP(E67,報名總表及收費!$I$29:$L$112,4)) | H67: =IF(D67="","", IF(D67=0,"",YEAR(NOW())-D67)) | J67: =IF(E67="","",IF(((VLOOKUP(E67,$L$24:$T$69,5))<G67),"報項時間慢於達標時間",""))&IF(T67="FAIL"," 運動員錯組別","")&IF(MOD(E67,2)=0,""," 項目編號為女子組") | Q67: =IF(O67="E",YEAR(NOW())-$Q$5,IF(O67="A",YEAR(NOW())-$O$5,IF(O67="B",YEAR(NOW())-$P$5,IF(O67=0,"",O67)))) | R67: =IF(E67=0,"",IF(MOD(E67,2)=1,"",VLOOKUP(E67,$L$23:$R$63,6,FALSE))) | S67: =IF(D67=0,"",VLOOKUP(E67,$L$23:$R$63,4,FALSE)) | T67: =IF(R67="","",IF(S67="A",IF(H67>=R67,"OK","FAIL"),IF(S67="E",IF(H67<=R67,"OK","FAIL"),IF(S67="B",IF(AND(H67<=R67,H67>=U67),"OK","FAIL"),IF(U67="",IF(H67=S67,"OK","FAIL"),IF(U67="9U",IF(H67<=9,"OK","FAIL"),IF(U67="UP",IF(H67>=15,"OK","FAIL"),IF(U67="DN",IF(H67<=7,"OK","FAIL"))))))))) | U67: =IF(R67="15U","UP",IF(R67="7D","DN",IF(R67="9U","9U",IF(S67="B",11,""))))
A68: 男運動員 12 | F68: =IF(E68="","",VLOOKUP(E68,報名總表及收費!$I$29:$L$112,4)) | H68: =IF(D68="","", IF(D68=0,"",YEAR(NOW())-D68)) | J68: =IF(E68="","",IF(((VLOOKUP(E68,$L$24:$T$69,5))<G68),"報項時間慢於達標時間",""))&IF(T68="FAIL"," 運動員錯組別","")&IF(MOD(E68,2)=0,""," 項目編號為女子組") | Q68: =IF(O68="E",YEAR(NOW())-$Q$5,IF(O68="A",YEAR(NOW())-$O$5,IF(O68="B",YEAR(NOW())-$P$5,IF(O68=0,"",O68)))) | R68: =IF(E68=0,"",IF(MOD(E68,2)=1,"",VLOOKUP(E68,$L$23:$R$63,6,FALSE))) | S68: =IF(D68=0,"",VLOOKUP(E68,$L$23:$R$63,4,FALSE)) | T68: =IF(R68="","",IF(S68="A",IF(H68>=R68,"OK","FAIL"),IF(S68="E",IF(H68<=R68,"OK","FAIL"),IF(S68="B",IF(AND(H68<=R68,H68>=U68),"OK","FAIL"),IF(U68="",IF(H68=S68,"OK","FAIL"),IF(U68="9U",IF(H68<=9,"OK","FAIL"),IF(U68="UP",IF(H68>=15,"OK","FAIL"),IF(U68="DN",IF(H68<=7,"OK","FAIL"))))))))) | U68: =IF(R68="15U","UP",IF(R68="7D","DN",IF(R68="9U","9U",IF(S68="B",11,""))))
F69: =IF(E69="","",VLOOKUP(E69,報名總表及收費!$I$29:$L$112,4)) | H69: =IF(D69="","", IF(D69=0,"",YEAR(NOW())-D69)) | J69: =IF(E69="","",IF(((VLOOKUP(E69,$L$24:$T$69,5))<G69),"報項時間慢於達標時間",""))&IF(T69="FAIL"," 運動員錯組別","")&IF(MOD(E69,2)=0,""," 項目編號為女子組") | Q69: =IF(O69="E",YEAR(NOW())-$Q$5,IF(O69="A",YEAR(NOW())-$O$5,IF(O69="B",YEAR(NOW())-$P$5,IF(O69=0,"",O69)))) | R69: =IF(E69=0,"",IF(MOD(E69,2)=1,"",VLOOKUP(E69,$L$23:$R$63,6,FALSE))) | S69: =IF(D69=0,"",VLOOKUP(E69,$L$23:$R$63,4,FALSE)) | T69: =IF(R69="","",IF(S69="A",IF(H69>=R69,"OK","FAIL"),IF(S69="E",IF(H69<=R69,"OK","FAIL"),IF(S69="B",IF(AND(H69<=R69,H69>=U69),"OK","FAIL"),IF(U69="",IF(H69=S69,"OK","FAIL"),IF(U69="9U",IF(H69<=9,"OK","FAIL"),IF(U69="UP",IF(H69>=15,"OK","FAIL"),IF(U69="DN",IF(H69<=7,"OK","FAIL"))))))))) | U69: =IF(R69="15U","UP",IF(R69="7D","DN",IF(R69="9U","9U",IF(S69="B",11,""))))
F70: =IF(E70="","",VLOOKUP(E70,報名總表及收費!$I$29:$L$112,4)) | H70: =IF(D70="","", IF(D70=0,"",YEAR(NOW())-D70)) | J70: =IF(E70="","",IF(((VLOOKUP(E70,$L$24:$T$69,5))<G70),"報項時間慢於達標時間",""))&IF(T70="FAIL"," 運動員錯組別","")&IF(MOD(E70,2)=0,""," 項目編號為女子組") | Q70: =IF(O70="E",YEAR(NOW())-$Q$5,IF(O70="A",YEAR(NOW())-$O$5,IF(O70="B",YEAR(NOW())-$P$5,IF(O70=0,"",O70)))) | R70: =IF(E70=0,"",IF(MOD(E70,2)=1,"",VLOOKUP(E70,$L$23:$R$63,6,FALSE))) | S70: =IF(D70=0,"",VLOOKUP(E70,$L$23:$R$63,4,FALSE)) | T70: =IF(R70="","",IF(S70="A",IF(H70>=R70,"OK","FAIL"),IF(S70="E",IF(H70<=R70,"OK","FAIL"),IF(S70="B",IF(AND(H70<=R70,H70>=U70),"OK","FAIL"),IF(U70="",IF(H70=S70,"OK","FAIL"),IF(U70="9U",IF(H70<=9,"OK","FAIL"),IF(U70="UP",IF(H70>=15,"OK","FAIL"),IF(U70="DN",IF(H70<=7,"OK","FAIL"))))))))) | U70: =IF(R70="15U","UP",IF(R70="7D","DN",IF(R70="9U","9U",IF(S70="B",11,""))))
F71: =IF(E71="","",VLOOKUP(E71,報名總表及收費!$I$29:$L$112,4)) | H71: =IF(D71="","", IF(D71=0,"",YEAR(NOW())-D71)) | J71: =IF(E71="","",IF(((VLOOKUP(E71,$L$24:$T$69,5))<G71),"報項時間慢於達標時間",""))&IF(T71="FAIL"," 運動員錯組別","")&IF(MOD(E71,2)=0,""," 項目編號為女子組") | Q71: =IF(O71="E",YEAR(NOW())-$Q$5,IF(O71="A",YEAR(NOW())-$O$5,IF(O71="B",YEAR(NOW())-$P$5,IF(O71=0,"",O71)))) | R71: =IF(E71=0,"",IF(MOD(E71,2)=1,"",VLOOKUP(E71,$L$23:$R$63,6,FALSE))) | S71: =IF(D71=0,"",VLOOKUP(E71,$L$23:$R$63,4,FALSE)) | T71: =IF(R71="","",IF(S71="A",IF(H71>=R71,"OK","FAIL"),IF(S71="E",IF(H71<=R71,"OK","FAIL"),IF(S71="B",IF(AND(H71<=R71,H71>=U71),"OK","FAIL"),IF(U71="",IF(H71=S71,"OK","FAIL"),IF(U71="9U",IF(H71<=9,"OK","FAIL"),IF(U71="UP",IF(H71>=15,"OK","FAIL"),IF(U71="DN",IF(H71<=7,"OK","FAIL"))))))))) | U71: =IF(R71="15U","UP",IF(R71="7D","DN",IF(R71="9U","9U",IF(S71="B",11,""))))
A72: 男運動員 13 | F72: =IF(E72="","",VLOOKUP(E72,報名總表及收費!$I$29:$L$112,4)) | H72: =IF(D72="","", IF(D72=0,"",YEAR(NOW())-D72)) | J72: =IF(E72="","",IF(((VLOOKUP(E72,$L$24:$T$69,5))<G72),"報項時間慢於達標時間",""))&IF(T72="FAIL"," 運動員錯組別","")&IF(MOD(E72,2)=0,""," 項目編號為女子組") | Q72: =IF(O72="E",YEAR(NOW())-$Q$5,IF(O72="A",YEAR(NOW())-$O$5,IF(O72="B",YEAR(NOW())-$P$5,IF(O72=0,"",O72)))) | R72: =IF(E72=0,"",IF(MOD(E72,2)=1,"",VLOOKUP(E72,$L$23:$R$63,6,FALSE))) | S72: =IF(D72=0,"",VLOOKUP(E72,$L$23:$R$63,4,FALSE)) | T72: =IF(R72="","",IF(S72="A",IF(H72>=R72,"OK","FAIL"),IF(S72="E",IF(H72<=R72,"OK","FAIL"),IF(S72="B",IF(AND(H72<=R72,H72>=U72),"OK","FAIL"),IF(U72="",IF(H72=S72,"OK","FAIL"),IF(U72="9U",IF(H72<=9,"OK","FAIL"),IF(U72="UP",IF(H72>=15,"OK","FAIL"),IF(U72="DN",IF(H72<=7,"OK","FAIL"))))))))) | U72: =IF(R72="15U","UP",IF(R72="7D","DN",IF(R72="9U","9U",IF(S72="B",11,""))))
F73: =IF(E73="","",VLOOKUP(E73,報名總表及收費!$I$29:$L$112,4)) | H73: =IF(D73="","", IF(D73=0,"",YEAR(NOW())-D73)) | J73: =IF(E73="","",IF(((VLOOKUP(E73,$L$24:$T$69,5))<G73),"報項時間慢於達標時間",""))&IF(T73="FAIL"," 運動員錯組別","")&IF(MOD(E73,2)=0,""," 項目編號為女子組") | Q73: =IF(O73="E",YEAR(NOW())-$Q$5,IF(O73="A",YEAR(NOW())-$O$5,IF(O73="B",YEAR(NOW())-$P$5,IF(O73=0,"",O73)))) | R73: =IF(E73=0,"",IF(MOD(E73,2)=1,"",VLOOKUP(E73,$L$23:$R$63,6,FALSE))) | S73: =IF(D73=0,"",VLOOKUP(E73,$L$23:$R$63,4,FALSE)) | T73: =IF(R73="","",IF(S73="A",IF(H73>=R73,"OK","FAIL"),IF(S73="E",IF(H73<=R73,"OK","FAIL"),IF(S73="B",IF(AND(H73<=R73,H73>=U73),"OK","FAIL"),IF(U73="",IF(H73=S73,"OK","FAIL"),IF(U73="9U",IF(H73<=9,"OK","FAIL"),IF(U73="UP",IF(H73>=15,"OK","FAIL"),IF(U73="DN",IF(H73<=7,"OK","FAIL"))))))))) | U73: =IF(R73="15U","UP",IF(R73="7D","DN",IF(R73="9U","9U",IF(S73="B",11,""))))
F74: =IF(E74="","",VLOOKUP(E74,報名總表及收費!$I$29:$L$112,4)) | H74: =IF(D74="","", IF(D74=0,"",YEAR(NOW())-D74)) | J74: =IF(E74="","",IF(((VLOOKUP(E74,$L$24:$T$69,5))<G74),"報項時間慢於達標時間",""))&IF(T74="FAIL"," 運動員錯組別","")&IF(MOD(E74,2)=0,""," 項目編號為女子組") | Q74: =IF(O74="E",YEAR(NOW())-$Q$5,IF(O74="A",YEAR(NOW())-$O$5,IF(O74="B",YEAR(NOW())-$P$5,IF(O74=0,"",O74)))) | R74: =IF(E74=0,"",IF(MOD(E74,2)=1,"",VLOOKUP(E74,$L$23:$R$63,6,FALSE))) | S74: =IF(D74=0,"",VLOOKUP(E74,$L$23:$R$63,4,FALSE)) | T74: =IF(R74="","",IF(S74="A",IF(H74>=R74,"OK","FAIL"),IF(S74="E",IF(H74<=R74,"OK","FAIL"),IF(S74="B",IF(AND(H74<=R74,H74>=U74),"OK","FAIL"),IF(U74="",IF(H74=S74,"OK","FAIL"),IF(U74="9U",IF(H74<=9,"OK","FAIL"),IF(U74="UP",IF(H74>=15,"OK","FAIL"),IF(U74="DN",IF(H74<=7,"OK","FAIL"))))))))) | U74: =IF(R74="15U","UP",IF(R74="7D","DN",IF(R74="9U","9U",IF(S74="B",11,""))))
F75: =IF(E75="","",VLOOKUP(E75,報名總表及收費!$I$29:$L$112,4)) | H75: =IF(D75="","", IF(D75=0,"",YEAR(NOW())-D75)) | J75: =IF(E75="","",IF(((VLOOKUP(E75,$L$24:$T$69,5))<G75),"報項時間慢於達標時間",""))&IF(T75="FAIL"," 運動員錯組別","")&IF(MOD(E75,2)=0,""," 項目編號為女子組") | Q75: =IF(O75="E",YEAR(NOW())-$Q$5,IF(O75="A",YEAR(NOW())-$O$5,IF(O75="B",YEAR(NOW())-$P$5,IF(O75=0,"",O75)))) | R75: =IF(E75=0,"",IF(MOD(E75,2)=1,"",VLOOKUP(E75,$L$23:$R$63,6,FALSE))) | S75: =IF(D75=0,"",VLOOKUP(E75,$L$23:$R$63,4,FALSE)) | T75: =IF(R75="","",IF(S75="A",IF(H75>=R75,"OK","FAIL"),IF(S75="E",IF(H75<=R75,"OK","FAIL"),IF(S75="B",IF(AND(H75<=R75,H75>=U75),"OK","FAIL"),IF(U75="",IF(H75=S75,"OK","FAIL"),IF(U75="9U",IF(H75<=9,"OK","FAIL"),IF(U75="UP",IF(H75>=15,"OK","FAIL"),IF(U75="DN",IF(H75<=7,"OK","FAIL"))))))))) | U75: =IF(R75="15U","UP",IF(R75="7D","DN",IF(R75="9U","9U",IF(S75="B",11,""))))
A76: 男運動員 14 | F76: =IF(E76="","",VLOOKUP(E76,報名總表及收費!$I$29:$L$112,4)) | H76: =IF(D76="","", IF(D76=0,"",YEAR(NOW())-D76)) | J76: =IF(E76="","",IF(((VLOOKUP(E76,$L$24:$T$69,5))<G76),"報項時間慢於達標時間",""))&IF(T76="FAIL"," 運動員錯組別","")&IF(MOD(E76,2)=0,""," 項目編號為女子組") | Q76: =IF(O76="E",YEAR(NOW())-$Q$5,IF(O76="A",YEAR(NOW())-$O$5,IF(O76="B",YEAR(NOW())-$P$5,IF(O76=0,"",O76)))) | R76: =IF(E76=0,"",IF(MOD(E76,2)=1,"",VLOOKUP(E76,$L$23:$R$63,6,FALSE))) | S76: =IF(D76=0,"",VLOOKUP(E76,$L$23:$R$63,4,FALSE)) | T76: =IF(R76="","",IF(S76="A",IF(H76>=R76,"OK","FAIL"),IF(S76="E",IF(H76<=R76,"OK","FAIL"),IF(S76="B",IF(AND(H76<=R76,H76>=U76),"OK","FAIL"),IF(U76="",IF(H76=S76,"OK","FAIL"),IF(U76="9U",IF(H76<=9,"OK","FAIL"),IF(U76="UP",IF(H76>=15,"OK","FAIL"),IF(U76="DN",IF(H76<=7,"OK","FAIL"))))))))) | U76: =IF(R76="15U","UP",IF(R76="7D","DN",IF(R76="9U","9U",IF(S76="B",11,""))))
F77: =IF(E77="","",VLOOKUP(E77,報名總表及收費!$I$29:$L$112,4)) | H77: =IF(D77="","", IF(D77=0,"",YEAR(NOW())-D77)) | J77: =IF(E77="","",IF(((VLOOKUP(E77,$L$24:$T$69,5))<G77),"報項時間慢於達標時間",""))&IF(T77="FAIL"," 運動員錯組別","")&IF(MOD(E77,2)=0,""," 項目編號為女子組") | Q77: =IF(O77="E",YEAR(NOW())-$Q$5,IF(O77="A",YEAR(NOW())-$O$5,IF(O77="B",YEAR(NOW())-$P$5,IF(O77=0,"",O77)))) | R77: =IF(E77=0,"",IF(MOD(E77,2)=1,"",VLOOKUP(E77,$L$23:$R$63,6,FALSE))) | S77: =IF(D77=0,"",VLOOKUP(E77,$L$23:$R$63,4,FALSE)) | T77: =IF(R77="","",IF(S77="A",IF(H77>=R77,"OK","FAIL"),IF(S77="E",IF(H77<=R77,"OK","FAIL"),IF(S77="B",IF(AND(H77<=R77,H77>=U77),"OK","FAIL"),IF(U77="",IF(H77=S77,"OK","FAIL"),IF(U77="9U",IF(H77<=9,"OK","FAIL"),IF(U77="UP",IF(H77>=15,"OK","FAIL"),IF(U77="DN",IF(H77<=7,"OK","FAIL"))))))))) | U77: =IF(R77="15U","UP",IF(R77="7D","DN",IF(R77="9U","9U",IF(S77="B",11,""))))
F78: =IF(E78="","",VLOOKUP(E78,報名總表及收費!$I$29:$L$112,4)) | H78: =IF(D78="","", IF(D78=0,"",YEAR(NOW())-D78)) | J78: =IF(E78="","",IF(((VLOOKUP(E78,$L$24:$T$69,5))<G78),"報項時間慢於達標時間",""))&IF(T78="FAIL"," 運動員錯組別","")&IF(MOD(E78,2)=0,""," 項目編號為女子組") | Q78: =IF(O78="E",YEAR(NOW())-$Q$5,IF(O78="A",YEAR(NOW())-$O$5,IF(O78="B",YEAR(NOW())-$P$5,IF(O78=0,"",O78)))) | R78: =IF(E78=0,"",IF(MOD(E78,2)=1,"",VLOOKUP(E78,$L$23:$R$63,6,FALSE))) | S78: =IF(D78=0,"",VLOOKUP(E78,$L$23:$R$63,4,FALSE)) | T78: =IF(R78="","",IF(S78="A",IF(H78>=R78,"OK","FAIL"),IF(S78="E",IF(H78<=R78,"OK","FAIL"),IF(S78="B",IF(AND(H78<=R78,H78>=U78),"OK","FAIL"),IF(U78="",IF(H78=S78,"OK","FAIL"),IF(U78="9U",IF(H78<=9,"OK","FAIL"),IF(U78="UP",IF(H78>=15,"OK","FAIL"),IF(U78="DN",IF(H78<=7,"OK","FAIL"))))))))) | U78: =IF(R78="15U","UP",IF(R78="7D","DN",IF(R78="9U","9U",IF(S78="B",11,""))))
F79: =IF(E79="","",VLOOKUP(E79,報名總表及收費!$I$29:$L$112,4)) | H79: =IF(D79="","", IF(D79=0,"",YEAR(NOW())-D79)) | J79: =IF(E79="","",IF(((VLOOKUP(E79,$L$24:$T$69,5))<G79),"報項時間慢於達標時間",""))&IF(T79="FAIL"," 運動員錯組別","")&IF(MOD(E79,2)=0,""," 項目編號為女子組") | Q79: =IF(O79="E",YEAR(NOW())-$Q$5,IF(O79="A",YEAR(NOW())-$O$5,IF(O79="B",YEAR(NOW())-$P$5,IF(O79=0,"",O79)))) | R79: =IF(E79=0,"",IF(MOD(E79,2)=1,"",VLOOKUP(E79,$L$23:$R$63,6,FALSE))) | S79: =IF(D79=0,"",VLOOKUP(E79,$L$23:$R$63,4,FALSE)) | T79: =IF(R79="","",IF(S79="A",IF(H79>=R79,"OK","FAIL"),IF(S79="E",IF(H79<=R79,"OK","FAIL"),IF(S79="B",IF(AND(H79<=R79,H79>=U79),"OK","FAIL"),IF(U79="",IF(H79=S79,"OK","FAIL"),IF(U79="9U",IF(H79<=9,"OK","FAIL"),IF(U79="UP",IF(H79>=15,"OK","FAIL"),IF(U79="DN",IF(H79<=7,"OK","FAIL"))))))))) | U79: =IF(R79="15U","UP",IF(R79="7D","DN",IF(R79="9U","9U",IF(S79="B",11,""))))
A80: 男運動員 15 | F80: =IF(E80="","",VLOOKUP(E80,報名總表及收費!$I$29:$L$112,4)) | H80: =IF(D80="","", IF(D80=0,"",YEAR(NOW())-D80)) | J80: =IF(E80="","",IF(((VLOOKUP(E80,$L$24:$T$69,5))<G80),"報項時間慢於達標時間",""))&IF(T80="FAIL"," 運動員錯組別","")&IF(MOD(E80,2)=0,""," 項目編號為女子組") | Q80: =IF(O80="E",YEAR(NOW())-$Q$5,IF(O80="A",YEAR(NOW())-$O$5,IF(O80="B",YEAR(NOW())-$P$5,IF(O80=0,"",O80)))) | R80: =IF(E80=0,"",IF(MOD(E80,2)=1,"",VLOOKUP(E80,$L$23:$R$63,6,FALSE))) | S80: =IF(D80=0,"",VLOOKUP(E80,$L$23:$R$63,4,FALSE)) | T80: =IF(R80="","",IF(S80="A",IF(H80>=R80,"OK","FAIL"),IF(S80="E",IF(H80<=R80,"OK","FAIL"),IF(S80="B",IF(AND(H80<=R80,H80>=U80),"OK","FAIL"),IF(U80="",IF(H80=S80,"OK","FAIL"),IF(U80="9U",IF(H80<=9,"OK","FAIL"),IF(U80="UP",IF(H80>=15,"OK","FAIL"),IF(U80="DN",IF(H80<=7,"OK","FAIL"))))))))) | U80: =IF(R80="15U","UP",IF(R80="7D","DN",IF(R80="9U","9U",IF(S80="B",11,""))))
F81: =IF(E81="","",VLOOKUP(E81,報名總表及收費!$I$29:$L$112,4)) | H81: =IF(D81="","", IF(D81=0,"",YEAR(NOW())-D81)) | J81: =IF(E81="","",IF(((VLOOKUP(E81,$L$24:$T$69,5))<G81),"報項時間慢於達標時間",""))&IF(T81="FAIL"," 運動員錯組別","")&IF(MOD(E81,2)=0,""," 項目編號為女子組") | Q81: =IF(O81="E",YEAR(NOW())-$Q$5,IF(O81="A",YEAR(NOW())-$O$5,IF(O81="B",YEAR(NOW())-$P$5,IF(O81=0,"",O81)))) | R81: =IF(E81=0,"",IF(MOD(E81,2)=1,"",VLOOKUP(E81,$L$23:$R$63,6,FALSE))) | S81: =IF(D81=0,"",VLOOKUP(E81,$L$23:$R$63,4,FALSE)) | T81: =IF(R81="","",IF(S81="A",IF(H81>=R81,"OK","FAIL"),IF(S81="E",IF(H81<=R81,"OK","FAIL"),IF(S81="B",IF(AND(H81<=R81,H81>=U81),"OK","FAIL"),IF(U81="",IF(H81=S81,"OK","FAIL"),IF(U81="9U",IF(H81<=9,"OK","FAIL"),IF(U81="UP",IF(H81>=15,"OK","FAIL"),IF(U81="DN",IF(H81<=7,"OK","FAIL"))))))))) | U81: =IF(R81="15U","UP",IF(R81="7D","DN",IF(R81="9U","9U",IF(S81="B",11,""))))
F82: =IF(E82="","",VLOOKUP(E82,報名總表及收費!$I$29:$L$112,4)) | H82: =IF(D82="","", IF(D82=0,"",YEAR(NOW())-D82)) | J82: =IF(E82="","",IF(((VLOOKUP(E82,$L$24:$T$69,5))<G82),"報項時間慢於達標時間",""))&IF(T82="FAIL"," 運動員錯組別","")&IF(MOD(E82,2)=0,""," 項目編號為女子組") | Q82: =IF(O82="E",YEAR(NOW())-$Q$5,IF(O82="A",YEAR(NOW())-$O$5,IF(O82="B",YEAR(NOW())-$P$5,IF(O82=0,"",O82)))) | R82: =IF(E82=0,"",IF(MOD(E82,2)=1,"",VLOOKUP(E82,$L$23:$R$63,6,FALSE))) | S82: =IF(D82=0,"",VLOOKUP(E82,$L$23:$R$63,4,FALSE)) | T82: =IF(R82="","",IF(S82="A",IF(H82>=R82,"OK","FAIL"),IF(S82="E",IF(H82<=R82,"OK","FAIL"),IF(S82="B",IF(AND(H82<=R82,H82>=U82),"OK","FAIL"),IF(U82="",IF(H82=S82,"OK","FAIL"),IF(U82="9U",IF(H82<=9,"OK","FAIL"),IF(U82="UP",IF(H82>=15,"OK","FAIL"),IF(U82="DN",IF(H82<=7,"OK","FAIL"))))))))) | U82: =IF(R82="15U","UP",IF(R82="7D","DN",IF(R82="9U","9U",IF(S82="B",11,""))))
F83: =IF(E83="","",VLOOKUP(E83,報名總表及收費!$I$29:$L$112,4)) | H83: =IF(D83="","", IF(D83=0,"",YEAR(NOW())-D83)) | J83: =IF(E83="","",IF(((VLOOKUP(E83,$L$24:$T$69,5))<G83),"報項時間慢於達標時間",""))&IF(T83="FAIL"," 運動員錯組別","")&IF(MOD(E83,2)=0,""," 項目編號為女子組") | Q83: =IF(O83="E",YEAR(NOW())-$Q$5,IF(O83="A",YEAR(NOW())-$O$5,IF(O83="B",YEAR(NOW())-$P$5,IF(O83=0,"",O83)))) | R83: =IF(E83=0,"",IF(MOD(E83,2)=1,"",VLOOKUP(E83,$L$23:$R$63,6,FALSE))) | S83: =IF(D83=0,"",VLOOKUP(E83,$L$23:$R$63,4,FALSE)) | T83: =IF(R83="","",IF(S83="A",IF(H83>=R83,"OK","FAIL"),IF(S83="E",IF(H83<=R83,"OK","FAIL"),IF(S83="B",IF(AND(H83<=R83,H83>=U83),"OK","FAIL"),IF(U83="",IF(H83=S83,"OK","FAIL"),IF(U83="9U",IF(H83<=9,"OK","FAIL"),IF(U83="UP",IF(H83>=15,"OK","FAIL"),IF(U83="DN",IF(H83<=7,"OK","FAIL"))))))))) | U83: =IF(R83="15U","UP",IF(R83="7D","DN",IF(R83="9U","9U",IF(S83="B",11,""))))
A84: 男運動員 16 | F84: =IF(E84="","",VLOOKUP(E84,報名總表及收費!$I$29:$L$112,4)) | H84: =IF(D84="","", IF(D84=0,"",YEAR(NOW())-D84)) | J84: =IF(E84="","",IF(((VLOOKUP(E84,$L$24:$T$69,5))<G84),"報項時間慢於達標時間",""))&IF(T84="FAIL"," 運動員錯組別","")&IF(MOD(E84,2)=0,""," 項目編號為女子組") | Q84: =IF(O84="E",YEAR(NOW())-$Q$5,IF(O84="A",YEAR(NOW())-$O$5,IF(O84="B",YEAR(NOW())-$P$5,IF(O84=0,"",O84)))) | R84: =IF(E84=0,"",IF(MOD(E84,2)=1,"",VLOOKUP(E84,$L$23:$R$63,6,FALSE))) | S84: =IF(D84=0,"",VLOOKUP(E84,$L$23:$R$63,4,FALSE)) | T84: =IF(R84="","",IF(S84="A",IF(H84>=R84,"OK","FAIL"),IF(S84="E",IF(H84<=R84,"OK","FAIL"),IF(S84="B",IF(AND(H84<=R84,H84>=U84),"OK","FAIL"),IF(U84="",IF(H84=S84,"OK","FAIL"),IF(U84="9U",IF(H84<=9,"OK","FAIL"),IF(U84="UP",IF(H84>=15,"OK","FAIL"),IF(U84="DN",IF(H84<=7,"OK","FAIL"))))))))) | U84: =IF(R84="15U","UP",IF(R84="7D","DN",IF(R84="9U","9U",IF(S84="B",11,""))))
F85: =IF(E85="","",VLOOKUP(E85,報名總表及收費!$I$29:$L$112,4)) | H85: =IF(D85="","", IF(D85=0,"",YEAR(NOW())-D85)) | J85: =IF(E85="","",IF(((VLOOKUP(E85,$L$24:$T$69,5))<G85),"報項時間慢於達標時間",""))&IF(T85="FAIL"," 運動員錯組別","")&IF(MOD(E85,2)=0,""," 項目編號為女子組") | Q85: =IF(O85="E",YEAR(NOW())-$Q$5,IF(O85="A",YEAR(NOW())-$O$5,IF(O85="B",YEAR(NOW())-$P$5,IF(O85=0,"",O85)))) | R85: =IF(E85=0,"",IF(MOD(E85,2)=1,"",VLOOKUP(E85,$L$23:$R$63,6,FALSE))) | S85: =IF(D85=0,"",VLOOKUP(E85,$L$23:$R$63,4,FALSE)) | T85: =IF(R85="","",IF(S85="A",IF(H85>=R85,"OK","FAIL"),IF(S85="E",IF(H85<=R85,"OK","FAIL"),IF(S85="B",IF(AND(H85<=R85,H85>=U85),"OK","FAIL"),IF(U85="",IF(H85=S85,"OK","FAIL"),IF(U85="9U",IF(H85<=9,"OK","FAIL"),IF(U85="UP",IF(H85>=15,"OK","FAIL"),IF(U85="DN",IF(H85<=7,"OK","FAIL"))))))))) | U85: =IF(R85="15U","UP",IF(R85="7D","DN",IF(R85="9U","9U",IF(S85="B",11,""))))
F86: =IF(E86="","",VLOOKUP(E86,報名總表及收費!$I$29:$L$112,4)) | H86: =IF(D86="","", IF(D86=0,"",YEAR(NOW())-D86)) | J86: =IF(E86="","",IF(((VLOOKUP(E86,$L$24:$T$69,5))<G86),"報項時間慢於達標時間",""))&IF(T86="FAIL"," 運動員錯組別","")&IF(MOD(E86,2)=0,""," 項目編號為女子組") | Q86: =IF(O86="E",YEAR(NOW())-$Q$5,IF(O86="A",YEAR(NOW())-$O$5,IF(O86="B",YEAR(NOW())-$P$5,IF(O86=0,"",O86)))) | R86: =IF(E86=0,"",IF(MOD(E86,2)=1,"",VLOOKUP(E86,$L$23:$R$63,6,FALSE))) | S86: =IF(D86=0,"",VLOOKUP(E86,$L$23:$R$63,4,FALSE)) | T86: =IF(R86="","",IF(S86="A",IF(H86>=R86,"OK","FAIL"),IF(S86="E",IF(H86<=R86,"OK","FAIL"),IF(S86="B",IF(AND(H86<=R86,H86>=U86),"OK","FAIL"),IF(U86="",IF(H86=S86,"OK","FAIL"),IF(U86="9U",IF(H86<=9,"OK","FAIL"),IF(U86="UP",IF(H86>=15,"OK","FAIL"),IF(U86="DN",IF(H86<=7,"OK","FAIL"))))))))) | U86: =IF(R86="15U","UP",IF(R86="7D","DN",IF(R86="9U","9U",IF(S86="B",11,""))))
F87: =IF(E87="","",VLOOKUP(E87,報名總表及收費!$I$29:$L$112,4)) | H87: =IF(D87="","", IF(D87=0,"",YEAR(NOW())-D87)) | J87: =IF(E87="","",IF(((VLOOKUP(E87,$L$24:$T$69,5))<G87),"報項時間慢於達標時間",""))&IF(T87="FAIL"," 運動員錯組別","")&IF(MOD(E87,2)=0,""," 項目編號為女子組") | Q87: =IF(O87="E",YEAR(NOW())-$Q$5,IF(O87="A",YEAR(NOW())-$O$5,IF(O87="B",YEAR(NOW())-$P$5,IF(O87=0,"",O87)))) | R87: =IF(E87=0,"",IF(MOD(E87,2)=1,"",VLOOKUP(E87,$L$23:$R$63,6,FALSE))) | S87: =IF(D87=0,"",VLOOKUP(E87,$L$23:$R$63,4,FALSE)) | T87: =IF(R87="","",IF(S87="A",IF(H87>=R87,"OK","FAIL"),IF(S87="E",IF(H87<=R87,"OK","FAIL"),IF(S87="B",IF(AND(H87<=R87,H87>=U87),"OK","FAIL"),IF(U87="",IF(H87=S87,"OK","FAIL"),IF(U87="9U",IF(H87<=9,"OK","FAIL"),IF(U87="UP",IF(H87>=15,"OK","FAIL"),IF(U87="DN",IF(H87<=7,"OK","FAIL"))))))))) | U87: =IF(R87="15U","UP",IF(R87="7D","DN",IF(R87="9U","9U",IF(S87="B",11,""))))
A88: 男運動員 17 | F88: =IF(E88="","",VLOOKUP(E88,報名總表及收費!$I$29:$L$112,4)) | H88: =IF(D88="","", IF(D88=0,"",YEAR(NOW())-D88)) | J88: =IF(E88="","",IF(((VLOOKUP(E88,$L$24:$T$69,5))<G88),"報項時間慢於達標時間",""))&IF(T88="FAIL"," 運動員錯組別","")&IF(MOD(E88,2)=0,""," 項目編號為女子組") | Q88: =IF(O88="E",YEAR(NOW())-$Q$5,IF(O88="A",YEAR(NOW())-$O$5,IF(O88="B",YEAR(NOW())-$P$5,IF(O88=0,"",O88)))) | R88: =IF(E88=0,"",IF(MOD(E88,2)=1,"",VLOOKUP(E88,$L$23:$R$63,6,FALSE))) | S88: =IF(D88=0,"",VLOOKUP(E88,$L$23:$R$63,4,FALSE)) | T88: =IF(R88="","",IF(S88="A",IF(H88>=R88,"OK","FAIL"),IF(S88="E",IF(H88<=R88,"OK","FAIL"),IF(S88="B",IF(AND(H88<=R88,H88>=U88),"OK","FAIL"),IF(U88="",IF(H88=S88,"OK","FAIL"),IF(U88="9U",IF(H88<=9,"OK","FAIL"),IF(U88="UP",IF(H88>=15,"OK","FAIL"),IF(U88="DN",IF(H88<=7,"OK","FAIL"))))))))) | U88: =IF(R88="15U","UP",IF(R88="7D","DN",IF(R88="9U","9U",IF(S88="B",11,""))))
F89: =IF(E89="","",VLOOKUP(E89,報名總表及收費!$I$29:$L$112,4)) | H89: =IF(D89="","", IF(D89=0,"",YEAR(NOW())-D89)) | J89: =IF(E89="","",IF(((VLOOKUP(E89,$L$24:$T$69,5))<G89),"報項時間慢於達標時間",""))&IF(T89="FAIL"," 運動員錯組別","")&IF(MOD(E89,2)=0,""," 項目編號為女子組") | Q89: =IF(O89="E",YEAR(NOW())-$Q$5,IF(O89="A",YEAR(NOW())-$O$5,IF(O89="B",YEAR(NOW())-$P$5,IF(O89=0,"",O89)))) | R89: =IF(E89=0,"",IF(MOD(E89,2)=1,"",VLOOKUP(E89,$L$23:$R$63,6,FALSE))) | S89: =IF(D89=0,"",VLOOKUP(E89,$L$23:$R$63,4,FALSE)) | T89: =IF(R89="","",IF(S89="A",IF(H89>=R89,"OK","FAIL"),IF(S89="E",IF(H89<=R89,"OK","FAIL"),IF(S89="B",IF(AND(H89<=R89,H89>=U89),"OK","FAIL"),IF(U89="",IF(H89=S89,"OK","FAIL"),IF(U89="9U",IF(H89<=9,"OK","FAIL"),IF(U89="UP",IF(H89>=15,"OK","FAIL"),IF(U89="DN",IF(H89<=7,"OK","FAIL"))))))))) | U89: =IF(R89="15U","UP",IF(R89="7D","DN",IF(R89="9U","9U",IF(S89="B",11,""))))
F90: =IF(E90="","",VLOOKUP(E90,報名總表及收費!$I$29:$L$112,4)) | H90: =IF(D90="","", IF(D90=0,"",YEAR(NOW())-D90)) | J90: =IF(E90="","",IF(((VLOOKUP(E90,$L$24:$T$69,5))<G90),"報項時間慢於達標時間",""))&IF(T90="FAIL"," 運動員錯組別","")&IF(MOD(E90,2)=0,""," 項目編號為女子組") | Q90: =IF(O90="E",YEAR(NOW())-$Q$5,IF(O90="A",YEAR(NOW())-$O$5,IF(O90="B",YEAR(NOW())-$P$5,IF(O90=0,"",O90)))) | R90: =IF(E90=0,"",IF(MOD(E90,2)=1,"",VLOOKUP(E90,$L$23:$R$63,6,FALSE))) | S90: =IF(D90=0,"",VLOOKUP(E90,$L$23:$R$63,4,FALSE)) | T90: =IF(R90="","",IF(S90="A",IF(H90>=R90,"OK","FAIL"),IF(S90="E",IF(H90<=R90,"OK","FAIL"),IF(S90="B",IF(AND(H90<=R90,H90>=U90),"OK","FAIL"),IF(U90="",IF(H90=S90,"OK","FAIL"),IF(U90="9U",IF(H90<=9,"OK","FAIL"),IF(U90="UP",IF(H90>=15,"OK","FAIL"),IF(U90="DN",IF(H90<=7,"OK","FAIL"))))))))) | U90: =IF(R90="15U","UP",IF(R90="7D","DN",IF(R90="9U","9U",IF(S90="B",11,""))))
F91: =IF(E91="","",VLOOKUP(E91,報名總表及收費!$I$29:$L$112,4)) | H91: =IF(D91="","", IF(D91=0,"",YEAR(NOW())-D91)) | J91: =IF(E91="","",IF(((VLOOKUP(E91,$L$24:$T$69,5))<G91),"報項時間慢於達標時間",""))&IF(T91="FAIL"," 運動員錯組別","")&IF(MOD(E91,2)=0,""," 項目編號為女子組") | Q91: =IF(O91="E",YEAR(NOW())-$Q$5,IF(O91="A",YEAR(NOW())-$O$5,IF(O91="B",YEAR(NOW())-$P$5,IF(O91=0,"",O91)))) | R91: =IF(E91=0,"",IF(MOD(E91,2)=1,"",VLOOKUP(E91,$L$23:$R$63,6,FALSE))) | S91: =IF(D91=0,"",VLOOKUP(E91,$L$23:$R$63,4,FALSE)) | T91: =IF(R91="","",IF(S91="A",IF(H91>=R91,"OK","FAIL"),IF(S91="E",IF(H91<=R91,"OK","FAIL"),IF(S91="B",IF(AND(H91<=R91,H91>=U91),"OK","FAIL"),IF(U91="",IF(H91=S91,"OK","FAIL"),IF(U91="9U",IF(H91<=9,"OK","FAIL"),IF(U91="UP",IF(H91>=15,"OK","FAIL"),IF(U91="DN",IF(H91<=7,"OK","FAIL"))))))))) | U91: =IF(R91="15U","UP",IF(R91="7D","DN",IF(R91="9U","9U",IF(S91="B",11,""))))
A92: 男運動員 18 | F92: =IF(E92="","",VLOOKUP(E92,報名總表及收費!$I$29:$L$112,4)) | H92: =IF(D92="","", IF(D92=0,"",YEAR(NOW())-D92)) | J92: =IF(E92="","",IF(((VLOOKUP(E92,$L$24:$T$69,5))<G92),"報項時間慢於達標時間",""))&IF(T92="FAIL"," 運動員錯組別","")&IF(MOD(E92,2)=0,""," 項目編號為女子組") | Q92: =IF(O92="E",YEAR(NOW())-$Q$5,IF(O92="A",YEAR(NOW())-$O$5,IF(O92="B",YEAR(NOW())-$P$5,IF(O92=0,"",O92)))) | R92: =IF(E92=0,"",IF(MOD(E92,2)=1,"",VLOOKUP(E92,$L$23:$R$63,6,FALSE))) | S92: =IF(D92=0,"",VLOOKUP(E92,$L$23:$R$63,4,FALSE)) | T92: =IF(R92="","",IF(S92="A",IF(H92>=R92,"OK","FAIL"),IF(S92="E",IF(H92<=R92,"OK","FAIL"),IF(S92="B",IF(AND(H92<=R92,H92>=U92),"OK","FAIL"),IF(U92="",IF(H92=S92,"OK","FAIL"),IF(U92="9U",IF(H92<=9,"OK","FAIL"),IF(U92="UP",IF(H92>=15,"OK","FAIL"),IF(U92="DN",IF(H92<=7,"OK","FAIL"))))))))) | U92: =IF(R92="15U","UP",IF(R92="7D","DN",IF(R92="9U","9U",IF(S92="B",11,""))))
F93: =IF(E93="","",VLOOKUP(E93,報名總表及收費!$I$29:$L$112,4)) | H93: =IF(D93="","", IF(D93=0,"",YEAR(NOW())-D93)) | J93: =IF(E93="","",IF(((VLOOKUP(E93,$L$24:$T$69,5))<G93),"報項時間慢於達標時間",""))&IF(T93="FAIL"," 運動員錯組別","")&IF(MOD(E93,2)=0,""," 項目編號為女子組") | Q93: =IF(O93="E",YEAR(NOW())-$Q$5,IF(O93="A",YEAR(NOW())-$O$5,IF(O93="B",YEAR(NOW())-$P$5,IF(O93=0,"",O93)))) | R93: =IF(E93=0,"",IF(MOD(E93,2)=1,"",VLOOKUP(E93,$L$23:$R$63,6,FALSE))) | S93: =IF(D93=0,"",VLOOKUP(E93,$L$23:$R$63,4,FALSE)) | T93: =IF(R93="","",IF(S93="A",IF(H93>=R93,"OK","FAIL"),IF(S93="E",IF(H93<=R93,"OK","FAIL"),IF(S93="B",IF(AND(H93<=R93,H93>=U93),"OK","FAIL"),IF(U93="",IF(H93=S93,"OK","FAIL"),IF(U93="9U",IF(H93<=9,"OK","FAIL"),IF(U93="UP",IF(H93>=15,"OK","FAIL"),IF(U93="DN",IF(H93<=7,"OK","FAIL"))))))))) | U93: =IF(R93="15U","UP",IF(R93="7D","DN",IF(R93="9U","9U",IF(S93="B",11,""))))
F94: =IF(E94="","",VLOOKUP(E94,報名總表及收費!$I$29:$L$112,4)) | H94: =IF(D94="","", IF(D94=0,"",YEAR(NOW())-D94)) | J94: =IF(E94="","",IF(((VLOOKUP(E94,$L$24:$T$69,5))<G94),"報項時間慢於達標時間",""))&IF(T94="FAIL"," 運動員錯組別","")&IF(MOD(E94,2)=0,""," 項目編號為女子組") | Q94: =IF(O94="E",YEAR(NOW())-$Q$5,IF(O94="A",YEAR(NOW())-$O$5,IF(O94="B",YEAR(NOW())-$P$5,IF(O94=0,"",O94)))) | R94: =IF(E94=0,"",IF(MOD(E94,2)=1,"",VLOOKUP(E94,$L$23:$R$63,6,FALSE))) | S94: =IF(D94=0,"",VLOOKUP(E94,$L$23:$R$63,4,FALSE)) | T94: =IF(R94="","",IF(S94="A",IF(H94>=R94,"OK","FAIL"),IF(S94="E",IF(H94<=R94,"OK","FAIL"),IF(S94="B",IF(AND(H94<=R94,H94>=U94),"OK","FAIL"),IF(U94="",IF(H94=S94,"OK","FAIL"),IF(U94="9U",IF(H94<=9,"OK","FAIL"),IF(U94="UP",IF(H94>=15,"OK","FAIL"),IF(U94="DN",IF(H94<=7,"OK","FAIL"))))))))) | U94: =IF(R94="15U","UP",IF(R94="7D","DN",IF(R94="9U","9U",IF(S94="B",11,""))))
F95: =IF(E95="","",VLOOKUP(E95,報名總表及收費!$I$29:$L$112,4)) | H95: =IF(D95="","", IF(D95=0,"",YEAR(NOW())-D95)) | J95: =IF(E95="","",IF(((VLOOKUP(E95,$L$24:$T$69,5))<G95),"報項時間慢於達標時間",""))&IF(T95="FAIL"," 運動員錯組別","")&IF(MOD(E95,2)=0,""," 項目編號為女子組") | Q95: =IF(O95="E",YEAR(NOW())-$Q$5,IF(O95="A",YEAR(NOW())-$O$5,IF(O95="B",YEAR(NOW())-$P$5,IF(O95=0,"",O95)))) | R95: =IF(E95=0,"",IF(MOD(E95,2)=1,"",VLOOKUP(E95,$L$23:$R$63,6,FALSE))) | S95: =IF(D95=0,"",VLOOKUP(E95,$L$23:$R$63,4,FALSE)) | T95: =IF(R95="","",IF(S95="A",IF(H95>=R95,"OK","FAIL"),IF(S95="E",IF(H95<=R95,"OK","FAIL"),IF(S95="B",IF(AND(H95<=R95,H95>=U95),"OK","FAIL"),IF(U95="",IF(H95=S95,"OK","FAIL"),IF(U95="9U",IF(H95<=9,"OK","FAIL"),IF(U95="UP",IF(H95>=15,"OK","FAIL"),IF(U95="DN",IF(H95<=7,"OK","FAIL"))))))))) | U95: =IF(R95="15U","UP",IF(R95="7D","DN",IF(R95="9U","9U",IF(S95="B",11,""))))
A96: 男運動員 19 | F96: =IF(E96="","",VLOOKUP(E96,報名總表及收費!$I$29:$L$112,4)) | H96: =IF(D96="","", IF(D96=0,"",YEAR(NOW())-D96)) | J96: =IF(E96="","",IF(((VLOOKUP(E96,$L$24:$T$69,5))<G96),"報項時間慢於達標時間",""))&IF(T96="FAIL"," 運動員錯組別","")&IF(MOD(E96,2)=0,""," 項目編號為女子組") | Q96: =IF(O96="E",YEAR(NOW())-$Q$5,IF(O96="A",YEAR(NOW())-$O$5,IF(O96="B",YEAR(NOW())-$P$5,IF(O96=0,"",O96)))) | R96: =IF(E96=0,"",IF(MOD(E96,2)=1,"",VLOOKUP(E96,$L$23:$R$63,6,FALSE))) | S96: =IF(D96=0,"",VLOOKUP(E96,$L$23:$R$63,4,FALSE)) | T96: =IF(R96="","",IF(S96="A",IF(H96>=R96,"OK","FAIL"),IF(S96="E",IF(H96<=R96,"OK","FAIL"),IF(S96="B",IF(AND(H96<=R96,H96>=U96),"OK","FAIL"),IF(U96="",IF(H96=S96,"OK","FAIL"),IF(U96="9U",IF(H96<=9,"OK","FAIL"),IF(U96="UP",IF(H96>=15,"OK","FAIL"),IF(U96="DN",IF(H96<=7,"OK","FAIL"))))))))) | U96: =IF(R96="15U","UP",IF(R96="7D","DN",IF(R96="9U","9U",IF(S96="B",11,""))))
F97: =IF(E97="","",VLOOKUP(E97,報名總表及收費!$I$29:$L$112,4)) | H97: =IF(D97="","", IF(D97=0,"",YEAR(NOW())-D97)) | J97: =IF(E97="","",IF(((VLOOKUP(E97,$L$24:$T$69,5))<G97),"報項時間慢於達標時間",""))&IF(T97="FAIL"," 運動員錯組別","")&IF(MOD(E97,2)=0,""," 項目編號為女子組") | Q97: =IF(O97="E",YEAR(NOW())-$Q$5,IF(O97="A",YEAR(NOW())-$O$5,IF(O97="B",YEAR(NOW())-$P$5,IF(O97=0,"",O97)))) | R97: =IF(E97=0,"",IF(MOD(E97,2)=1,"",VLOOKUP(E97,$L$23:$R$63,6,FALSE))) | S97: =IF(D97=0,"",VLOOKUP(E97,$L$23:$R$63,4,FALSE)) | T97: =IF(R97="","",IF(S97="A",IF(H97>=R97,"OK","FAIL"),IF(S97="E",IF(H97<=R97,"OK","FAIL"),IF(S97="B",IF(AND(H97<=R97,H97>=U97),"OK","FAIL"),IF(U97="",IF(H97=S97,"OK","FAIL"),IF(U97="9U",IF(H97<=9,"OK","FAIL"),IF(U97="UP",IF(H97>=15,"OK","FAIL"),IF(U97="DN",IF(H97<=7,"OK","FAIL"))))))))) | U97: =IF(R97="15U","UP",IF(R97="7D","DN",IF(R97="9U","9U",IF(S97="B",11,""))))
F98: =IF(E98="","",VLOOKUP(E98,報名總表及收費!$I$29:$L$112,4)) | H98: =IF(D98="","", IF(D98=0,"",YEAR(NOW())-D98)) | J98: =IF(E98="","",IF(((VLOOKUP(E98,$L$24:$T$69,5))<G98),"報項時間慢於達標時間",""))&IF(T98="FAIL"," 運動員錯組別","")&IF(MOD(E98,2)=0,""," 項目編號為女子組") | Q98: =IF(O98="E",YEAR(NOW())-$Q$5,IF(O98="A",YEAR(NOW())-$O$5,IF(O98="B",YEAR(NOW())-$P$5,IF(O98=0,"",O98)))) | R98: =IF(E98=0,"",IF(MOD(E98,2)=1,"",VLOOKUP(E98,$L$23:$R$63,6,FALSE))) | S98: =IF(D98=0,"",VLOOKUP(E98,$L$23:$R$63,4,FALSE)) | T98: =IF(R98="","",IF(S98="A",IF(H98>=R98,"OK","FAIL"),IF(S98="E",IF(H98<=R98,"OK","FAIL"),IF(S98="B",IF(AND(H98<=R98,H98>=U98),"OK","FAIL"),IF(U98="",IF(H98=S98,"OK","FAIL"),IF(U98="9U",IF(H98<=9,"OK","FAIL"),IF(U98="UP",IF(H98>=15,"OK","FAIL"),IF(U98="DN",IF(H98<=7,"OK","FAIL"))))))))) | U98: =IF(R98="15U","UP",IF(R98="7D","DN",IF(R98="9U","9U",IF(S98="B",11,""))))
F99: =IF(E99="","",VLOOKUP(E99,報名總表及收費!$I$29:$L$112,4)) | H99: =IF(D99="","", IF(D99=0,"",YEAR(NOW())-D99)) | J99: =IF(E99="","",IF(((VLOOKUP(E99,$L$24:$T$69,5))<G99),"報項時間慢於達標時間",""))&IF(T99="FAIL"," 運動員錯組別","")&IF(MOD(E99,2)=0,""," 項目編號為女子組") | Q99: =IF(O99="E",YEAR(NOW())-$Q$5,IF(O99="A",YEAR(NOW())-$O$5,IF(O99="B",YEAR(NOW())-$P$5,IF(O99=0,"",O99)))) | R99: =IF(E99=0,"",IF(MOD(E99,2)=1,"",VLOOKUP(E99,$L$23:$R$63,6,FALSE))) | S99: =IF(D99=0,"",VLOOKUP(E99,$L$23:$R$63,4,FALSE)) | T99: =IF(R99="","",IF(S99="A",IF(H99>=R99,"OK","FAIL"),IF(S99="E",IF(H99<=R99,"OK","FAIL"),IF(S99="B",IF(AND(H99<=R99,H99>=U99),"OK","FAIL"),IF(U99="",IF(H99=S99,"OK","FAIL"),IF(U99="9U",IF(H99<=9,"OK","FAIL"),IF(U99="UP",IF(H99>=15,"OK","FAIL"),IF(U99="DN",IF(H99<=7,"OK","FAIL"))))))))) | U99: =IF(R99="15U","UP",IF(R99="7D","DN",IF(R99="9U","9U",IF(S99="B",11,""))))
A100: 男運動員 20 | F100: =IF(E100="","",VLOOKUP(E100,報名總表及收費!$I$29:$L$112,4)) | H100: =IF(D100="","", IF(D100=0,"",YEAR(NOW())-D100)) | J100: =IF(E100="","",IF(((VLOOKUP(E100,$L$24:$T$69,5))<G100),"報項時間慢於達標時間",""))&IF(T100="FAIL"," 運動員錯組別","")&IF(MOD(E100,2)=0,""," 項目編號為女子組") | Q100: =IF(O100="E",YEAR(NOW())-$Q$5,IF(O100="A",YEAR(NOW())-$O$5,IF(O100="B",YEAR(NOW())-$P$5,IF(O100=0,"",O100)))) | R100: =IF(E100=0,"",IF(MOD(E100,2)=1,"",VLOOKUP(E100,$L$23:$R$63,6,FALSE))) | S100: =IF(D100=0,"",VLOOKUP(E100,$L$23:$R$63,4,FALSE)) | T100: =IF(R100="","",IF(S100="A",IF(H100>=R100,"OK","FAIL"),IF(S100="E",IF(H100<=R100,"OK","FAIL"),IF(S100="B",IF(AND(H100<=R100,H100>=U100),"OK","FAIL"),IF(U100="",IF(H100=S100,"OK","FAIL"),IF(U100="9U",IF(H100<=9,"OK","FAIL"),IF(U100="UP",IF(H100>=15,"OK","FAIL"),IF(U100="DN",IF(H100<=7,"OK","FAIL"))))))))) | U100: =IF(R100="15U","UP",IF(R100="7D","DN",IF(R100="9U","9U",IF(S100="B",11,""))))
F101: =IF(E101="","",VLOOKUP(E101,報名總表及收費!$I$29:$L$112,4)) | H101: =IF(D101="","", IF(D101=0,"",YEAR(NOW())-D101)) | J101: =IF(E101="","",IF(((VLOOKUP(E101,$L$24:$T$69,5))<G101),"報項時間慢於達標時間",""))&IF(T101="FAIL"," 運動員錯組別","")&IF(MOD(E101,2)=0,""," 項目編號為女子組") | Q101: =IF(O101="E",YEAR(NOW())-$Q$5,IF(O101="A",YEAR(NOW())-$O$5,IF(O101="B",YEAR(NOW())-$P$5,IF(O101=0,"",O101)))) | R101: =IF(E101=0,"",IF(MOD(E101,2)=1,"",VLOOKUP(E101,$L$23:$R$63,6,FALSE))) | S101: =IF(D101=0,"",VLOOKUP(E101,$L$23:$R$63,4,FALSE)) | T101: =IF(R101="","",IF(S101="A",IF(H101>=R101,"OK","FAIL"),IF(S101="E",IF(H101<=R101,"OK","FAIL"),IF(S101="B",IF(AND(H101<=R101,H101>=U101),"OK","FAIL"),IF(U101="",IF(H101=S101,"OK","FAIL"),IF(U101="9U",IF(H101<=9,"OK","FAIL"),IF(U101="UP",IF(H101>=15,"OK","FAIL"),IF(U101="DN",IF(H101<=7,"OK","FAIL"))))))))) | U101: =IF(R101="15U","UP",IF(R101="7D","DN",IF(R101="9U","9U",IF(S101="B",11,""))))
F102: =IF(E102="","",VLOOKUP(E102,報名總表及收費!$I$29:$L$112,4)) | H102: =IF(D102="","", IF(D102=0,"",YEAR(NOW())-D102)) | J102: =IF(E102="","",IF(((VLOOKUP(E102,$L$24:$T$69,5))<G102),"報項時間慢於達標時間",""))&IF(T102="FAIL"," 運動員錯組別","")&IF(MOD(E102,2)=0,""," 項目編號為女子組") | Q102: =IF(O102="E",YEAR(NOW())-$Q$5,IF(O102="A",YEAR(NOW())-$O$5,IF(O102="B",YEAR(NOW())-$P$5,IF(O102=0,"",O102)))) | R102: =IF(E102=0,"",IF(MOD(E102,2)=1,"",VLOOKUP(E102,$L$23:$R$63,6,FALSE))) | S102: =IF(D102=0,"",VLOOKUP(E102,$L$23:$R$63,4,FALSE)) | T102: =IF(R102="","",IF(S102="A",IF(H102>=R102,"OK","FAIL"),IF(S102="E",IF(H102<=R102,"OK","FAIL"),IF(S102="B",IF(AND(H102<=R102,H102>=U102),"OK","FAIL"),IF(U102="",IF(H102=S102,"OK","FAIL"),IF(U102="9U",IF(H102<=9,"OK","FAIL"),IF(U102="UP",IF(H102>=15,"OK","FAIL"),IF(U102="DN",IF(H102<=7,"OK","FAIL"))))))))) | U102: =IF(R102="15U","UP",IF(R102="7D","DN",IF(R102="9U","9U",IF(S102="B",11,""))))
F103: =IF(E103="","",VLOOKUP(E103,報名總表及收費!$I$29:$L$112,4)) | H103: =IF(D103="","", IF(D103=0,"",YEAR(NOW())-D103)) | J103: =IF(E103="","",IF(((VLOOKUP(E103,$L$24:$T$69,5))<G103),"報項時間慢於達標時間",""))&IF(T103="FAIL"," 運動員錯組別","")&IF(MOD(E103,2)=0,""," 項目編號為女子組") | Q103: =IF(O103="E",YEAR(NOW())-$Q$5,IF(O103="A",YEAR(NOW())-$O$5,IF(O103="B",YEAR(NOW())-$P$5,IF(O103=0,"",O103)))) | R103: =IF(E103=0,"",IF(MOD(E103,2)=1,"",VLOOKUP(E103,$L$23:$R$63,6,FALSE))) | S103: =IF(D103=0,"",VLOOKUP(E103,$L$23:$R$63,4,FALSE)) | T103: =IF(R103="","",IF(S103="A",IF(H103>=R103,"OK","FAIL"),IF(S103="E",IF(H103<=R103,"OK","FAIL"),IF(S103="B",IF(AND(H103<=R103,H103>=U103),"OK","FAIL"),IF(U103="",IF(H103=S103,"OK","FAIL"),IF(U103="9U",IF(H103<=9,"OK","FAIL"),IF(U103="UP",IF(H103>=15,"OK","FAIL"),IF(U103="DN",IF(H103<=7,"OK","FAIL"))))))))) | U103: =IF(R103="15U","UP",IF(R103="7D","DN",IF(R103="9U","9U",IF(S103="B",11,""))))
...

Sheet 女
A1: 香港中華業餘游泳聯會 比賽報名表 (女子) | O1: Max Event per club
A2: 填表注意事項: | N2: =COUNTA(I24:I163) -> 0 | O2: =VLOOKUP(F11,報名總表及收費!H1:T7,13,FALSE) -> 4
A3: 1. 請根據所屬性別分別填寫在指定的報名表上(報名表分為男，女)，接力在報名表上方，只需按比賽項目輸入報項時間便可
A4: 2. 請準確及清楚填寫各項資料，所有超額報名、資料不全、錯填資料均被視為無效。無效報名會被拒參賽，報名費怒不退回。 | O4: C | P4: D | Q4: F
A5: ="3. 每個個人項目每團體最多可報"& VLOOKUP(F11,報名總表及收費!H1:T7,13,FALSE) & "個運動員。每名運動員限報個人項目︰"& VLOOKUP(F11,報名總表及收費!H1:T7,12,FALSE) &"，個人項目報名總數可參考報名表右方" -> 3. 每個個人項目每團體最多可報4個運動員。每名運動員限報個人項目︰週年賽4項，個人項目報名總數可參考報名表右方 | O5: =VLOOKUP($O$8,報名總表及收費!$L$2:$R$7,4,FALSE) -> 2008 | P5: =VLOOKUP($O$8,報名總表及收費!$L$2:$R$7,5,FALSE) -> 2009 | Q5: =VLOOKUP($O$8,報名總表及收費!$L$2:$R$7,7,FALSE) -> 2014
A6: 4. 時間格式以此為準 - 例: 0:26:88 , 請輸入 2688
A7: 5. 只需輸入綠色欄位的資料，其他為自動填寫資料。
A8: 6. 若儲存格出現紅色，請重新檢查該項目是否報錯資料。 | O8: =報名總表及收費!H30 -> 短池 | R8: 申請成績証書
A9: 7. 如需申請成績證書，請在"申請成績證書"格上填上"Y"，若不申請可漏空。比賽後申請成績證書，本會將額外收取每張港元10元行政費(即每項每張港元共50元行政費) | R9: Y
A11: 團體名稱: | B11: =IF(報名總表及收費!B10=0,"",報名總表及收費!B10) | E11: 比賽名稱: | F11: =報名總表及收費!F10 -> 周年(短池)游泳錦標賽
A12: 負責人: | B12: =IF(報名總表及收費!B11=0,"",報名總表及收費!B11) | E12: 比賽日期: | F12: =報名總表及收費!F11 -> 45256
A13: 聯絡電話: | B13: =IF(報名總表及收費!B12=0,"",報名總表及收費!B12) | E13: 比賽地點: | F13: =報名總表及收費!F12 -> 城門谷游泳池
B15: 接力團體 | E15: 項目編號 | F15: 接力項目 | G15: 報項時間 | J15: 備註 | L15: 團體項目 | M15: 總數
A16: 接力項目 | B16: =IF(報名總表及收費!$B$10=0,"",報名總表及收費!$B$10) | E16: =IF(VLOOKUP(報名總表及收費!$H$30,報名總表及收費!$L$2:$AX$6,21,FALSE)=0,"",VLOOKUP(報名總表及收費!$H$30,報名總表及收費!$L$2:$AX$6,21,FALSE)) -> 21 | F16: =IF(VLOOKUP(報名總表及收費!$H$30,報名總表及收費!$L$2:$AX$6,21,FALSE)=0,"",VLOOKUP(報名總表及收費!$H$30,報名總表及收費!$L$2:$AX$6,20,FALSE)) -> 女甲 4X50米自由泳接力 | J16: =IF(B16="","",IF(G16="","未報名","")) | L16: =E16 -> 21 | M16: =COUNTA(G16) -> 0
B17: =IF(報名總表及收費!$B$10=0,"",報名總表及收費!$B$10) | E17: =IF(VLOOKUP(報名總表及收費!$H$30,報名總表及收費!$L$2:$AX$6,21,FALSE)=0,"",VLOOKUP(報名總表及收費!$H$30,報名總表及收費!$L$2:$AX$6,23,FALSE)) -> 23 | F17: =IF(VLOOKUP(報名總表及收費!$H$30,報名總表及收費!$L$2:$AX$6,21,FALSE)=0,"",VLOOKUP(報名總表及收費!$H$30,報名總表及收費!$L$2:$AX$6,22,FALSE)) -> 女乙 4X50米自由泳接力 | J17: =IF(B17="","",IF(G17="","未報名","")) | L17: =E17 -> 23 | M17: =COUNTA(G17) -> 0
B18: =IF(E18="","",IF(報名總表及收費!$B$10=0,"",報名總表及收費!$B$10)) | E18: =IF(VLOOKUP(報名總表及收費!$H$30,報名總表及收費!$L$2:$AX$6,25,FALSE)=0,"",VLOOKUP(報名總表及收費!$H$30,報名總表及收費!$L$2:$AX$6,25,FALSE)) -> 25 | F18: =IF(VLOOKUP(報名總表及收費!$H$30,報名總表及收費!$L$2:$AX$6,25,FALSE)=0,"",VLOOKUP(報名總表及收費!$H$30,報名總表及收費!$L$2:$AX$6,24,FALSE)) -> 女丙 4X50米自由泳接力 | J18: =IF(B18="","",IF(G18="","未報名","")) | L18: =E18 -> 25 | M18: =COUNTA(G18) -> 0
B19: =IF(E19="","",IF(報名總表及收費!$B$10=0,"",報名總表及收費!$B$10)) | E19: =IF(VLOOKUP(報名總表及收費!$H$30,報名總表及收費!$L$2:$AX$6,25,FALSE)=0,"",VLOOKUP(報名總表及收費!$H$30,報名總表及收費!$L$2:$AX$6,27,FALSE)) -> 41 | F19: =IF(VLOOKUP(報名總表及收費!$H$30,報名總表及收費!$L$2:$AX$6,25,FALSE)=0,"",VLOOKUP(報名總表及收費!$H$30,報名總表及收費!$L$2:$AX$6,26,FALSE)) -> 女甲 4X50米四式接力 | L19: =E19 -> 41 | M19: =COUNTA(G19) -> 0
B20: =IF(E20="","",IF(報名總表及收費!$B$10=0,"",報名總表及收費!$B$10)) | E20: =IF(VLOOKUP(報名總表及收費!$H$30,報名總表及收費!$L$2:$AX$6,29,FALSE)=0,"",VLOOKUP(報名總表及收費!$H$30,報名總表及收費!$L$2:$AX$6,29,FALSE)) -> 43 | F20: =IF(VLOOKUP(報名總表及收費!$H$30,報名總表及收費!$L$2:$AX$6,28,FALSE)=0,"",VLOOKUP(報名總表及收費!$H$30,報名總表及收費!$L$2:$AX$6,28,FALSE)) -> 女乙 4X50米四式接力 | J20: =IF(B20="","",IF(G20="","未報名","")) | L20: =E20 -> 43 | M20: =COUNTA(G20) -> 0
B22: 姓名 (中) | C22: 姓名 (英) | D22: 出生年份 | E22: 項目編號 | F22: 項目 | G22: 報項時間 | H22: 年齡 | I22: 申請成績證書 | J22: 備註 | O22: 年齡 | P22: 達標時間 | R22: Age Check
A23: 例 | B23: 王一一 | C23: Wong Yat Yat | D23: 1999 | E23: 11 | F23: =IF(E23="","",VLOOKUP(E23,報名總表及收費!$I$29:$L$97,4)) -> 女甲 100米蝶泳 | G23: 1228 | H23: =IF(D23=0,"",YEAR(NOW())-D23) -> 24 | I23: Y | L23: 個人項目 | M23: 總數
A24: 女運動員 1 | F24: =IF(E24="","",VLOOKUP(E24,報名總表及收費!$I$29:$L$110,4)) | H24: =IF(D24=0,"",YEAR(NOW())-D24) | J24: =IF(E24="","",IF(((VLOOKUP(E24,$L$24:$Q$66,5))<G24),"報項時間慢於達標時間",""))&IF(T24="FAIL"," 運動員錯組別","")&IF(E24="","",IF(MOD(E24,2)=1,""," 項目編號為男子組")) | L24: 1 | M24: =COUNTIFS($E$24:$E$159,"=1") -> 0 | N24: =IF(M24>$O$2, L24, "OK") -> OK | O24: =VLOOKUP(L24,報名總表及收費!$I$30:$K$118,2) -> C | P24: =IF(VLOOKUP(L24,報名總表及收費!$I$30:$K$118,3)=0,"",VLOOKUP(L24,報名總表及收費!$I$30:$K$118,3,FALSE)) -> 13400 | Q24: =IF(O24="D",YEAR(NOW())-$P$5,IF(O24="C",YEAR(NOW())-$O$5,IF(O24="F",YEAR(NOW())-$Q$5,IF(O24=0,"",O24)))) -> 15 | R24: =IF(E24=0,"",IF(MOD(E24,2)=0,"",VLOOKUP(E24,$L$23:$Q$63,6,FALSE))) | S24: =IF(D24=0,"",VLOOKUP(E24,$L$24:$Q$63,4,FALSE)) | T24: =IF(R24="","",IF(S24="C",IF(H24>=R24,"OK","FAIL"),IF(S24="F",IF(H24<=R24,"OK","FAIL"),IF(S24="D",IF(AND(H24<=R24,H24>=U24),"OK","FAIL"),IF(U24="",IF(H24=S24,"OK","FAIL"),IF(U24="9U",IF(H24<=9,"OK","FAIL"),IF(U24="UP",IF(H24>=15,"OK","FAIL"),IF(U24="DN",IF(H24<=7,"OK","FAIL"))))))))) | U24: =IF(R24="15U","UP",IF(R24="7D","DN",IF(R24="9U","9U",IF(S24="D",10,""))))
F25: =IF(E25="","",VLOOKUP(E25,報名總表及收費!$I$29:$L$110,4)) | H25: =IF(D25=0,"",YEAR(NOW())-D25) | J25: =IF(E25="","",IF(((VLOOKUP(E25,$L$24:$Q$66,5))<G25),"報項時間慢於達標時間",""))&IF(T25="FAIL"," 運動員錯組別","")&IF(E25="","",IF(MOD(E25,2)=1,""," 項目編號為男子組")) | L25: 3 | M25: =COUNTIFS($E$24:$E$159,"=3") -> 0 | N25: =IF(M25>$O$2, L25, "OK") -> OK | O25: =VLOOKUP(L25,報名總表及收費!$I$30:$K$118,2) -> D | P25: =IF(VLOOKUP(L25,報名總表及收費!$I$30:$K$118,3)=0,"",VLOOKUP(L25,報名總表及收費!$I$30:$K$118,3,FALSE)) -> 13600 | Q25: =IF(O25="D",YEAR(NOW())-$P$5,IF(O25="C",YEAR(NOW())-$O$5,IF(O25="F",YEAR(NOW())-$Q$5,IF(O25=0,"",O25)))) -> 14 | R25: =IF(E25=0,"",IF(MOD(E25,2)=0,"",VLOOKUP(E25,$L$23:$Q$63,6,FALSE))) | S25: =IF(D25=0,"",VLOOKUP(E25,$L$24:$Q$63,4,FALSE)) | T25: =IF(R25="","",IF(S25="C",IF(H25>=R25,"OK","FAIL"),IF(S25="F",IF(H25<=R25,"OK","FAIL"),IF(S25="D",IF(AND(H25<=R25,H25>=U25),"OK","FAIL"),IF(U25="",IF(H25=S25,"OK","FAIL"),IF(U25="9U",IF(H25<=9,"OK","FAIL"),IF(U25="UP",IF(H25>=15,"OK","FAIL"),IF(U25="DN",IF(H25<=7,"OK","FAIL"))))))))) | U25: =IF(R25="15U","UP",IF(R25="7D","DN",IF(R25="9U","9U",IF(S25="D",10,""))))
F26: =IF(E26="","",VLOOKUP(E26,報名總表及收費!$I$29:$L$110,4)) | H26: =IF(D26=0,"",YEAR(NOW())-D26) | J26: =IF(E26="","",IF(((VLOOKUP(E26,$L$24:$Q$66,5))<G26),"報項時間慢於達標時間",""))&IF(T26="FAIL"," 運動員錯組別","")&IF(E26="","",IF(MOD(E26,2)=1,""," 項目編號為男子組")) | L26: 5 | M26: =COUNTIFS($E$24:$E$159,"=5") -> 0 | N26: =IF(M26>$O$2, L26, "OK") -> OK | O26: =VLOOKUP(L26,報名總表及收費!$I$30:$K$118,2) -> C | P26: =IF(VLOOKUP(L26,報名總表及收費!$I$30:$K$118,3)=0,"",VLOOKUP(L26,報名總表及收費!$I$30:$K$118,3,FALSE)) -> 4200 | Q26: =IF(O26="D",YEAR(NOW())-$P$5,IF(O26="C",YEAR(NOW())-$O$5,IF(O26="F",YEAR(NOW())-$Q$5,IF(O26=0,"",O26)))) -> 15 | R26: =IF(E26=0,"",IF(MOD(E26,2)=0,"",VLOOKUP(E26,$L$23:$Q$63,6,FALSE))) | S26: =IF(D26=0,"",VLOOKUP(E26,$L$24:$Q$63,4,FALSE)) | T26: =IF(R26="","",IF(S26="C",IF(H26>=R26,"OK","FAIL"),IF(S26="F",IF(H26<=R26,"OK","FAIL"),IF(S26="D",IF(AND(H26<=R26,H26>=U26),"OK","FAIL"),IF(U26="",IF(H26=S26,"OK","FAIL"),IF(U26="9U",IF(H26<=9,"OK","FAIL"),IF(U26="UP",IF(H26>=15,"OK","FAIL"),IF(U26="DN",IF(H26<=7,"OK","FAIL"))))))))) | U26: =IF(R26="15U","UP",IF(R26="7D","DN",IF(R26="9U","9U",IF(S26="D",10,""))))
F27: =IF(E27="","",VLOOKUP(E27,報名總表及收費!$I$29:$L$110,4)) | H27: =IF(D27=0,"",YEAR(NOW())-D27) | J27: =IF(E27="","",IF(((VLOOKUP(E27,$L$24:$Q$66,5))<G27),"報項時間慢於達標時間",""))&IF(T27="FAIL"," 運動員錯組別","")&IF(E27="","",IF(MOD(E27,2)=1,""," 項目編號為男子組")) | L27: 7 | M27: =COUNTIFS($E$24:$E$159,"=7") -> 0 | N27: =IF(M27>$O$2, L27, "OK") -> OK | O27: =VLOOKUP(L27,報名總表及收費!$I$30:$K$118,2) -> D | P27: =IF(VLOOKUP(L27,報名總表及收費!$I$30:$K$118,3)=0,"",VLOOKUP(L27,報名總表及收費!$I$30:$K$118,3,FALSE)) -> 4500 | Q27: =IF(O27="D",YEAR(NOW())-$P$5,IF(O27="C",YEAR(NOW())-$O$5,IF(O27="F",YEAR(NOW())-$Q$5,IF(O27=0,"",O27)))) -> 14 | R27: =IF(E27=0,"",IF(MOD(E27,2)=0,"",VLOOKUP(E27,$L$23:$Q$63,6,FALSE))) | S27: =IF(D27=0,"",VLOOKUP(E27,$L$24:$Q$63,4,FALSE)) | T27: =IF(R27="","",IF(S27="C",IF(H27>=R27,"OK","FAIL"),IF(S27="F",IF(H27<=R27,"OK","FAIL"),IF(S27="D",IF(AND(H27<=R27,H27>=U27),"OK","FAIL"),IF(U27="",IF(H27=S27,"OK","FAIL"),IF(U27="9U",IF(H27<=9,"OK","FAIL"),IF(U27="UP",IF(H27>=15,"OK","FAIL"),IF(U27="DN",IF(H27<=7,"OK","FAIL"))))))))) | U27: =IF(R27="15U","UP",IF(R27="7D","DN",IF(R27="9U","9U",IF(S27="D",10,""))))
A28: 女運動員 2 | F28: =IF(E28="","",VLOOKUP(E28,報名總表及收費!$I$29:$L$110,4)) | H28: =IF(D28=0,"",YEAR(NOW())-D28) | J28: =IF(E28="","",IF(((VLOOKUP(E28,$L$24:$Q$66,5))<G28),"報項時間慢於達標時間",""))&IF(T28="FAIL"," 運動員錯組別","")&IF(E28="","",IF(MOD(E28,2)=1,""," 項目編號為男子組")) | L28: 9 | M28: =COUNTIFS($E$24:$E$159,"=9") -> 0 | N28: =IF(M28>$O$2, L28, "OK") -> OK | O28: =VLOOKUP(L28,報名總表及收費!$I$30:$K$118,2) -> F | P28: =IF(VLOOKUP(L28,報名總表及收費!$I$30:$K$118,3)=0,"",VLOOKUP(L28,報名總表及收費!$I$30:$K$118,3,FALSE)) -> 5500 | Q28: =IF(O28="D",YEAR(NOW())-$P$5,IF(O28="C",YEAR(NOW())-$O$5,IF(O28="F",YEAR(NOW())-$Q$5,IF(O28=0,"",O28)))) -> 9 | R28: =IF(E28=0,"",IF(MOD(E28,2)=0,"",VLOOKUP(E28,$L$23:$Q$63,6,FALSE))) | S28: =IF(D28=0,"",VLOOKUP(E28,$L$24:$Q$63,4,FALSE)) | T28: =IF(R28="","",IF(S28="C",IF(H28>=R28,"OK","FAIL"),IF(S28="F",IF(H28<=R28,"OK","FAIL"),IF(S28="D",IF(AND(H28<=R28,H28>=U28),"OK","FAIL"),IF(U28="",IF(H28=S28,"OK","FAIL"),IF(U28="9U",IF(H28<=9,"OK","FAIL"),IF(U28="UP",IF(H28>=15,"OK","FAIL"),IF(U28="DN",IF(H28<=7,"OK","FAIL"))))))))) | U28: =IF(R28="15U","UP",IF(R28="7D","DN",IF(R28="9U","9U",IF(S28="D",10,""))))
F29: =IF(E29="","",VLOOKUP(E29,報名總表及收費!$I$29:$L$110,4)) | H29: =IF(D29=0,"",YEAR(NOW())-D29) | J29: =IF(E29="","",IF(((VLOOKUP(E29,$L$24:$Q$66,5))<G29),"報項時間慢於達標時間",""))&IF(T29="FAIL"," 運動員錯組別","")&IF(E29="","",IF(MOD(E29,2)=1,""," 項目編號為男子組")) | L29: 11 | M29: =COUNTIFS($E$24:$E$159,"=11") -> 0 | N29: =IF(M29>$O$2, L29, "OK") -> OK | O29: =VLOOKUP(L29,報名總表及收費!$I$30:$K$118,2) -> C | P29: =IF(VLOOKUP(L29,報名總表及收費!$I$30:$K$118,3)=0,"",VLOOKUP(L29,報名總表及收費!$I$30:$K$118,3,FALSE)) -> 13200 | Q29: =IF(O29="D",YEAR(NOW())-$P$5,IF(O29="C",YEAR(NOW())-$O$5,IF(O29="F",YEAR(NOW())-$Q$5,IF(O29=0,"",O29)))) -> 15 | R29: =IF(E29=0,"",IF(MOD(E29,2)=0,"",VLOOKUP(E29,$L$23:$Q$63,6,FALSE))) | S29: =IF(D29=0,"",VLOOKUP(E29,$L$24:$Q$63,4,FALSE)) | T29: =IF(R29="","",IF(S29="C",IF(H29>=R29,"OK","FAIL"),IF(S29="F",IF(H29<=R29,"OK","FAIL"),IF(S29="D",IF(AND(H29<=R29,H29>=U29),"OK","FAIL"),IF(U29="",IF(H29=S29,"OK","FAIL"),IF(U29="9U",IF(H29<=9,"OK","FAIL"),IF(U29="UP",IF(H29>=15,"OK","FAIL"),IF(U29="DN",IF(H29<=7,"OK","FAIL"))))))))) | U29: =IF(R29="15U","UP",IF(R29="7D","DN",IF(R29="9U","9U",IF(S29="D",10,""))))
F30: =IF(E30="","",VLOOKUP(E30,報名總表及收費!$I$29:$L$110,4)) | H30: =IF(D30=0,"",YEAR(NOW())-D30) | J30: =IF(E30="","",IF(((VLOOKUP(E30,$L$24:$Q$66,5))<G30),"報項時間慢於達標時間",""))&IF(T30="FAIL"," 運動員錯組別","")&IF(E30="","",IF(MOD(E30,2)=1,""," 項目編號為男子組")) | L30: 13 | M30: =COUNTIFS($E$24:$E$159,"=13") -> 0 | N30: =IF(M30>$O$2, L30, "OK") -> OK | O30: =VLOOKUP(L30,報名總表及收費!$I$30:$K$118,2) -> D | P30: =IF(VLOOKUP(L30,報名總表及收費!$I$30:$K$118,3)=0,"",VLOOKUP(L30,報名總表及收費!$I$30:$K$118,3,FALSE)) -> 13400 | Q30: =IF(O30="D",YEAR(NOW())-$P$5,IF(O30="C",YEAR(NOW())-$O$5,IF(O30="F",YEAR(NOW())-$Q$5,IF(O30=0,"",O30)))) -> 14 | R30: =IF(E30=0,"",IF(MOD(E30,2)=0,"",VLOOKUP(E30,$L$23:$Q$63,6,FALSE))) | S30: =IF(D30=0,"",VLOOKUP(E30,$L$24:$Q$63,4,FALSE)) | T30: =IF(R30="","",IF(S30="C",IF(H30>=R30,"OK","FAIL"),IF(S30="F",IF(H30<=R30,"OK","FAIL"),IF(S30="D",IF(AND(H30<=R30,H30>=U30),"OK","FAIL"),IF(U30="",IF(H30=S30,"OK","FAIL"),IF(U30="9U",IF(H30<=9,"OK","FAIL"),IF(U30="UP",IF(H30>=15,"OK","FAIL"),IF(U30="DN",IF(H30<=7,"OK","FAIL"))))))))) | U30: =IF(R30="15U","UP",IF(R30="7D","DN",IF(R30="9U","9U",IF(S30="D",10,""))))
F31: =IF(E31="","",VLOOKUP(E31,報名總表及收費!$I$29:$L$110,4)) | H31: =IF(D31=0,"",YEAR(NOW())-D31) | J31: =IF(E31="","",IF(((VLOOKUP(E31,$L$24:$Q$66,5))<G31),"報項時間慢於達標時間",""))&IF(T31="FAIL"," 運動員錯組別","")&IF(E31="","",IF(MOD(E31,2)=1,""," 項目編號為男子組")) | L31: 15 | M31: =COUNTIFS($E$24:$E$159,"=15") -> 0 | N31: =IF(M31>$O$2, L31, "OK") -> OK | O31: =VLOOKUP(L31,報名總表及收費!$I$30:$K$118,2) -> C | P31: =IF(VLOOKUP(L31,報名總表及收費!$I$30:$K$118,3)=0,"",VLOOKUP(L31,報名總表及收費!$I$30:$K$118,3,FALSE)) -> 3600 | Q31: =IF(O31="D",YEAR(NOW())-$P$5,IF(O31="C",YEAR(NOW())-$O$5,IF(O31="F",YEAR(NOW())-$Q$5,IF(O31=0,"",O31)))) -> 15 | R31: =IF(E31=0,"",IF(MOD(E31,2)=0,"",VLOOKUP(E31,$L$23:$Q$63,6,FALSE))) | S31: =IF(D31=0,"",VLOOKUP(E31,$L$24:$Q$63,4,FALSE)) | T31: =IF(R31="","",IF(S31="C",IF(H31>=R31,"OK","FAIL"),IF(S31="F",IF(H31<=R31,"OK","FAIL"),IF(S31="D",IF(AND(H31<=R31,H31>=U31),"OK","FAIL"),IF(U31="",IF(H31=S31,"OK","FAIL"),IF(U31="9U",IF(H31<=9,"OK","FAIL"),IF(U31="UP",IF(H31>=15,"OK","FAIL"),IF(U31="DN",IF(H31<=7,"OK","FAIL"))))))))) | U31: =IF(R31="15U","UP",IF(R31="7D","DN",IF(R31="9U","9U",IF(S31="D",10,""))))
A32: 女運動員 3 | F32: =IF(E32="","",VLOOKUP(E32,報名總表及收費!$I$29:$L$110,4)) | H32: =IF(D32=0,"",YEAR(NOW())-D32) | J32: =IF(E32="","",IF(((VLOOKUP(E32,$L$24:$Q$66,5))<G32),"報項時間慢於達標時間",""))&IF(T32="FAIL"," 運動員錯組別","")&IF(E32="","",IF(MOD(E32,2)=1,""," 項目編號為男子組")) | L32: 17 | M32: =COUNTIFS($E$24:$E$159,"=17") -> 0 | N32: =IF(M32>$O$2, L32, "OK") -> OK | O32: =VLOOKUP(L32,報名總表及收費!$I$30:$K$118,2) -> D | P32: =IF(VLOOKUP(L32,報名總表及收費!$I$30:$K$118,3)=0,"",VLOOKUP(L32,報名總表及收費!$I$30:$K$118,3,FALSE)) -> 3900 | Q32: =IF(O32="D",YEAR(NOW())-$P$5,IF(O32="C",YEAR(NOW())-$O$5,IF(O32="F",YEAR(NOW())-$Q$5,IF(O32=0,"",O32)))) -> 14 | R32: =IF(E32=0,"",IF(MOD(E32,2)=0,"",VLOOKUP(E32,$L$23:$Q$63,6,FALSE))) | S32: =IF(D32=0,"",VLOOKUP(E32,$L$24:$Q$63,4,FALSE)) | T32: =IF(R32="","",IF(S32="C",IF(H32>=R32,"OK","FAIL"),IF(S32="F",IF(H32<=R32,"OK","FAIL"),IF(S32="D",IF(AND(H32<=R32,H32>=U32),"OK","FAIL"),IF(U32="",IF(H32=S32,"OK","FAIL"),IF(U32="9U",IF(H32<=9,"OK","FAIL"),IF(U32="UP",IF(H32>=15,"OK","FAIL"),IF(U32="DN",IF(H32<=7,"OK","FAIL"))))))))) | U32: =IF(R32="15U","UP",IF(R32="7D","DN",IF(R32="9U","9U",IF(S32="D",10,""))))
F33: =IF(E33="","",VLOOKUP(E33,報名總表及收費!$I$29:$L$110,4)) | H33: =IF(D33=0,"",YEAR(NOW())-D33) | J33: =IF(E33="","",IF(((VLOOKUP(E33,$L$24:$Q$66,5))<G33),"報項時間慢於達標時間",""))&IF(T33="FAIL"," 運動員錯組別","")&IF(E33="","",IF(MOD(E33,2)=1,""," 項目編號為男子組")) | L33: 19 | M33: =COUNTIFS($E$24:$E$159,"=19") -> 0 | N33: =IF(M33>$O$2, L33, "OK") -> OK | O33: =VLOOKUP(L33,報名總表及收費!$I$30:$K$118,2) -> F | P33: =IF(VLOOKUP(L33,報名總表及收費!$I$30:$K$118,3)=0,"",VLOOKUP(L33,報名總表及收費!$I$30:$K$118,3,FALSE)) -> 4300 | Q33: =IF(O33="D",YEAR(NOW())-$P$5,IF(O33="C",YEAR(NOW())-$O$5,IF(O33="F",YEAR(NOW())-$Q$5,IF(O33=0,"",O33)))) -> 9 | R33: =IF(E33=0,"",IF(MOD(E33,2)=0,"",VLOOKUP(E33,$L$23:$Q$63,6,FALSE))) | S33: =IF(D33=0,"",VLOOKUP(E33,$L$24:$Q$63,4,FALSE)) | T33: =IF(R33="","",IF(S33="C",IF(H33>=R33,"OK","FAIL"),IF(S33="F",IF(H33<=R33,"OK","FAIL"),IF(S33="D",IF(AND(H33<=R33,H33>=U33),"OK","FAIL"),IF(U33="",IF(H33=S33,"OK","FAIL"),IF(U33="9U",IF(H33<=9,"OK","FAIL"),IF(U33="UP",IF(H33>=15,"OK","FAIL"),IF(U33="DN",IF(H33<=7,"OK","FAIL"))))))))) | U33: =IF(R33="15U","UP",IF(R33="7D","DN",IF(R33="9U","9U",IF(S33="D",10,""))))
F34: =IF(E34="","",VLOOKUP(E34,報名總表及收費!$I$29:$L$110,4)) | H34: =IF(D34=0,"",YEAR(NOW())-D34) | J34: =IF(E34="","",IF(((VLOOKUP(E34,$L$24:$Q$66,5))<G34),"報項時間慢於達標時間",""))&IF(T34="FAIL"," 運動員錯組別","")&IF(E34="","",IF(MOD(E34,2)=1,""," 項目編號為男子組")) | L34: 21 | M34: =COUNTIFS($E$24:$E$159,"=21") -> 0 | N34: =IF(M34>$O$2, L34, "OK") -> OK | O34: =VLOOKUP(L34,報名總表及收費!$I$30:$K$118,2) -> C | P34: =IF(VLOOKUP(L34,報名總表及收費!$I$30:$K$118,3)=0,"",VLOOKUP(L34,報名總表及收費!$I$30:$K$118,3,FALSE)) | Q34: =IF(O34="D",YEAR(NOW())-$P$5,IF(O34="C",YEAR(NOW())-$O$5,IF(O34="F",YEAR(NOW())-$Q$5,IF(O34=0,"",O34)))) -> 15 | R34: =IF(E34=0,"",IF(MOD(E34,2)=0,"",VLOOKUP(E34,$L$23:$Q$63,6,FALSE))) | S34: =IF(D34=0,"",VLOOKUP(E34,$L$24:$Q$63,4,FALSE)) | T34: =IF(R34="","",IF(S34="C",IF(H34>=R34,"OK","FAIL"),IF(S34="F",IF(H34<=R34,"OK","FAIL"),IF(S34="D",IF(AND(H34<=R34,H34>=U34),"OK","FAIL"),IF(U34="",IF(H34=S34,"OK","FAIL"),IF(U34="9U",IF(H34<=9,"OK","FAIL"),IF(U34="UP",IF(H34>=15,"OK","FAIL"),IF(U34="DN",IF(H34<=7,"OK","FAIL"))))))))) | U34: =IF(R34="15U","UP",IF(R34="7D","DN",IF(R34="9U","9U",IF(S34="D",10,""))))
F35: =IF(E35="","",VLOOKUP(E35,報名總表及收費!$I$29:$L$110,4)) | H35: =IF(D35=0,"",YEAR(NOW())-D35) | J35: =IF(E35="","",IF(((VLOOKUP(E35,$L$24:$Q$66,5))<G35),"報項時間慢於達標時間",""))&IF(T35="FAIL"," 運動員錯組別","")&IF(E35="","",IF(MOD(E35,2)=1,""," 項目編號為男子組")) | L35: 23 | M35: =COUNTIFS($E$24:$E$159,"=23") -> 0 | N35: =IF(M35>$O$2, L35, "OK") -> OK | O35: =VLOOKUP(L35,報名總表及收費!$I$30:$K$118,2) -> D | P35: =IF(VLOOKUP(L35,報名總表及收費!$I$30:$K$118,3)=0,"",VLOOKUP(L35,報名總表及收費!$I$30:$K$118,3,FALSE)) | Q35: =IF(O35="D",YEAR(NOW())-$P$5,IF(O35="C",YEAR(NOW())-$O$5,IF(O35="F",YEAR(NOW())-$Q$5,IF(O35=0,"",O35)))) -> 14 | R35: =IF(E35=0,"",IF(MOD(E35,2)=0,"",VLOOKUP(E35,$L$23:$Q$63,6,FALSE))) | S35: =IF(D35=0,"",VLOOKUP(E35,$L$24:$Q$63,4,FALSE)) | T35: =IF(R35="","",IF(S35="C",IF(H35>=R35,"OK","FAIL"),IF(S35="F",IF(H35<=R35,"OK","FAIL"),IF(S35="D",IF(AND(H35<=R35,H35>=U35),"OK","FAIL"),IF(U35="",IF(H35=S35,"OK","FAIL"),IF(U35="9U",IF(H35<=9,"OK","FAIL"),IF(U35="UP",IF(H35>=15,"OK","FAIL"),IF(U35="DN",IF(H35<=7,"OK","FAIL"))))))))) | U35: =IF(R35="15U","UP",IF(R35="7D","DN",IF(R35="9U","9U",IF(S35="D",10,""))))
A36: 女運動員 4 | F36: =IF(E36="","",VLOOKUP(E36,報名總表及收費!$I$29:$L$110,4)) | H36: =IF(D36=0,"",YEAR(NOW())-D36) | J36: =IF(E36="","",IF(((VLOOKUP(E36,$L$24:$Q$66,5))<G36),"報項時間慢於達標時間",""))&IF(T36="FAIL"," 運動員錯組別","")&IF(E36="","",IF(MOD(E36,2)=1,""," 項目編號為男子組")) | L36: 25 | M36: =COUNTIFS($E$24:$E$159,"=25") -> 0 | N36: =IF(M36>$O$2, L36, "OK") -> OK | O36: =VLOOKUP(L36,報名總表及收費!$I$30:$K$118,2) -> F | P36: =IF(VLOOKUP(L36,報名總表及收費!$I$30:$K$118,3)=0,"",VLOOKUP(L36,報名總表及收費!$I$30:$K$118,3,FALSE)) | Q36: =IF(O36="D",YEAR(NOW())-$P$5,IF(O36="C",YEAR(NOW())-$O$5,IF(O36="F",YEAR(NOW())-$Q$5,IF(O36=0,"",O36)))) -> 9 | R36: =IF(E36=0,"",IF(MOD(E36,2)=0,"",VLOOKUP(E36,$L$23:$Q$63,6,FALSE))) | S36: =IF(D36=0,"",VLOOKUP(E36,$L$24:$Q$63,4,FALSE)) | T36: =IF(R36="","",IF(S36="C",IF(H36>=R36,"OK","FAIL"),IF(S36="F",IF(H36<=R36,"OK","FAIL"),IF(S36="D",IF(AND(H36<=R36,H36>=U36),"OK","FAIL"),IF(U36="",IF(H36=S36,"OK","FAIL"),IF(U36="9U",IF(H36<=9,"OK","FAIL"),IF(U36="UP",IF(H36>=15,"OK","FAIL"),IF(U36="DN",IF(H36<=7,"OK","FAIL"))))))))) | U36: =IF(R36="15U","UP",IF(R36="7D","DN",IF(R36="9U","9U",IF(S36="D",10,""))))
F37: =IF(E37="","",VLOOKUP(E37,報名總表及收費!$I$29:$L$110,4)) | H37: =IF(D37=0,"",YEAR(NOW())-D37) | J37: =IF(E37="","",IF(((VLOOKUP(E37,$L$24:$Q$66,5))<G37),"報項時間慢於達標時間",""))&IF(T37="FAIL"," 運動員錯組別","")&IF(E37="","",IF(MOD(E37,2)=1,""," 項目編號為男子組")) | L37: 27 | M37: =COUNTIFS($E$24:$E$159,"=27") -> 0 | N37: =IF(M37>$O$2, L37, "OK") -> OK | O37: =VLOOKUP(L37,報名總表及收費!$I$30:$K$118,2) -> C | P37: =IF(VLOOKUP(L37,報名總表及收費!$I$30:$K$118,3)=0,"",VLOOKUP(L37,報名總表及收費!$I$30:$K$118,3,FALSE)) -> 13300 | Q37: =IF(O37="D",YEAR(NOW())-$P$5,IF(O37="C",YEAR(NOW())-$O$5,IF(O37="F",YEAR(NOW())-$Q$5,IF(O37=0,"",O37)))) -> 15 | R37: =IF(E37=0,"",IF(MOD(E37,2)=0,"",VLOOKUP(E37,$L$23:$Q$63,6,FALSE))) | S37: =IF(D37=0,"",VLOOKUP(E37,$L$24:$Q$63,4,FALSE)) | T37: =IF(R37="","",IF(S37="C",IF(H37>=R37,"OK","FAIL"),IF(S37="F",IF(H37<=R37,"OK","FAIL"),IF(S37="D",IF(AND(H37<=R37,H37>=U37),"OK","FAIL"),IF(U37="",IF(H37=S37,"OK","FAIL"),IF(U37="9U",IF(H37<=9,"OK","FAIL"),IF(U37="UP",IF(H37>=15,"OK","FAIL"),IF(U37="DN",IF(H37<=7,"OK","FAIL"))))))))) | U37: =IF(R37="15U","UP",IF(R37="7D","DN",IF(R37="9U","9U",IF(S37="D",10,""))))
F38: =IF(E38="","",VLOOKUP(E38,報名總表及收費!$I$29:$L$110,4)) | H38: =IF(D38=0,"",YEAR(NOW())-D38) | J38: =IF(E38="","",IF(((VLOOKUP(E38,$L$24:$Q$66,5))<G38),"報項時間慢於達標時間",""))&IF(T38="FAIL"," 運動員錯組別","")&IF(E38="","",IF(MOD(E38,2)=1,""," 項目編號為男子組")) | L38: 29 | M38: =COUNTIFS($E$24:$E$159,"=29") -> 0 | N38: =IF(M38>$O$2, L38, "OK") -> OK | O38: =VLOOKUP(L38,報名總表及收費!$I$30:$K$118,2) -> D | P38: =IF(VLOOKUP(L38,報名總表及收費!$I$30:$K$118,3)=0,"",VLOOKUP(L38,報名總表及收費!$I$30:$K$118,3,FALSE)) -> 13700 | Q38: =IF(O38="D",YEAR(NOW())-$P$5,IF(O38="C",YEAR(NOW())-$O$5,IF(O38="F",YEAR(NOW())-$Q$5,IF(O38=0,"",O38)))) -> 14 | R38: =IF(E38=0,"",IF(MOD(E38,2)=0,"",VLOOKUP(E38,$L$23:$Q$63,6,FALSE))) | S38: =IF(D38=0,"",VLOOKUP(E38,$L$24:$Q$63,4,FALSE)) | T38: =IF(R38="","",IF(S38="C",IF(H38>=R38,"OK","FAIL"),IF(S38="F",IF(H38<=R38,"OK","FAIL"),IF(S38="D",IF(AND(H38<=R38,H38>=U38),"OK","FAIL"),IF(U38="",IF(H38=S38,"OK","FAIL"),IF(U38="9U",IF(H38<=9,"OK","FAIL"),IF(U38="UP",IF(H38>=15,"OK","FAIL"),IF(U38="DN",IF(H38<=7,"OK","FAIL"))))))))) | U38: =IF(R38="15U","UP",IF(R38="7D","DN",IF(R38="9U","9U",IF(S38="D",10,""))))
F39: =IF(E39="","",VLOOKUP(E39,報名總表及收費!$I$29:$L$110,4)) | H39: =IF(D39=0,"",YEAR(NOW())-D39) | J39: =IF(E39="","",IF(((VLOOKUP(E39,$L$24:$Q$66,5))<G39),"報項時間慢於達標時間",""))&IF(T39="FAIL"," 運動員錯組別","")&IF(E39="","",IF(MOD(E39,2)=1,""," 項目編號為男子組")) | L39: 31 | M39: =COUNTIFS($E$24:$E$159,"=31") -> 0 | N39: =IF(M39>$O$2, L39, "OK") -> OK | O39: =VLOOKUP(L39,報名總表及收費!$I$30:$K$118,2) -> C | P39: =IF(VLOOKUP(L39,報名總表及收費!$I$30:$K$118,3)=0,"",VLOOKUP(L39,報名總表及收費!$I$30:$K$118,3,FALSE)) -> 4000 | Q39: =IF(O39="D",YEAR(NOW())-$P$5,IF(O39="C",YEAR(NOW())-$O$5,IF(O39="F",YEAR(NOW())-$Q$5,IF(O39=0,"",O39)))) -> 15 | R39: =IF(E39=0,"",IF(MOD(E39,2)=0,"",VLOOKUP(E39,$L$23:$Q$63,6,FALSE))) | S39: =IF(D39=0,"",VLOOKUP(E39,$L$24:$Q$63,4,FALSE)) | T39: =IF(R39="","",IF(S39="C",IF(H39>=R39,"OK","FAIL"),IF(S39="F",IF(H39<=R39,"OK","FAIL"),IF(S39="D",IF(AND(H39<=R39,H39>=U39),"OK","FAIL"),IF(U39="",IF(H39=S39,"OK","FAIL"),IF(U39="9U",IF(H39<=9,"OK","FAIL"),IF(U39="UP",IF(H39>=15,"OK","FAIL"),IF(U39="DN",IF(H39<=7,"OK","FAIL"))))))))) | U39: =IF(R39="15U","UP",IF(R39="7D","DN",IF(R39="9U","9U",IF(S39="D",10,""))))
A40: 女運動員 5 | F40: =IF(E40="","",VLOOKUP(E40,報名總表及收費!$I$29:$L$110,4)) | H40: =IF(D40=0,"",YEAR(NOW())-D40) | J40: =IF(E40="","",IF(((VLOOKUP(E40,$L$24:$Q$66,5))<G40),"報項時間慢於達標時間",""))&IF(T40="FAIL"," 運動員錯組別","")&IF(E40="","",IF(MOD(E40,2)=1,""," 項目編號為男子組")) | L40: 33 | M40: =COUNTIFS($E$24:$E$159,"=33") -> 0 | N40: =IF(M40>$O$2, L40, "OK") -> OK | O40: =VLOOKUP(L40,報名總表及收費!$I$30:$K$118,2) -> D | P40: =IF(VLOOKUP(L40,報名總表及收費!$I$30:$K$118,3)=0,"",VLOOKUP(L40,報名總表及收費!$I$30:$K$118,3,FALSE)) -> 4300 | Q40: =IF(O40="D",YEAR(NOW())-$P$5,IF(O40="C",YEAR(NOW())-$O$5,IF(O40="F",YEAR(NOW())-$Q$5,IF(O40=0,"",O40)))) -> 14 | R40: =IF(E40=0,"",IF(MOD(E40,2)=0,"",VLOOKUP(E40,$L$23:$Q$63,6,FALSE))) | S40: =IF(D40=0,"",VLOOKUP(E40,$L$24:$Q$63,4,FALSE)) | T40: =IF(R40="","",IF(S40="C",IF(H40>=R40,"OK","FAIL"),IF(S40="F",IF(H40<=R40,"OK","FAIL"),IF(S40="D",IF(AND(H40<=R40,H40>=U40),"OK","FAIL"),IF(U40="",IF(H40=S40,"OK","FAIL"),IF(U40="9U",IF(H40<=9,"OK","FAIL"),IF(U40="UP",IF(H40>=15,"OK","FAIL"),IF(U40="DN",IF(H40<=7,"OK","FAIL"))))))))) | U40: =IF(R40="15U","UP",IF(R40="7D","DN",IF(R40="9U","9U",IF(S40="D",10,""))))
F41: =IF(E41="","",VLOOKUP(E41,報名總表及收費!$I$29:$L$110,4)) | H41: =IF(D41=0,"",YEAR(NOW())-D41) | J41: =IF(E41="","",IF(((VLOOKUP(E41,$L$24:$Q$66,5))<G41),"報項時間慢於達標時間",""))&IF(T41="FAIL"," 運動員錯組別","")&IF(E41="","",IF(MOD(E41,2)=1,""," 項目編號為男子組")) | L41: 35 | M41: =COUNTIFS($E$24:$E$159,"=35") -> 0 | N41: =IF(M41>$O$2, L41, "OK") -> OK | O41: =VLOOKUP(L41,報名總表及收費!$I$30:$K$118,2) -> F | P41: =IF(VLOOKUP(L41,報名總表及收費!$I$30:$K$118,3)=0,"",VLOOKUP(L41,報名總表及收費!$I$30:$K$118,3,FALSE)) -> 5000 | Q41: =IF(O41="D",YEAR(NOW())-$P$5,IF(O41="C",YEAR(NOW())-$O$5,IF(O41="F",YEAR(NOW())-$Q$5,IF(O41=0,"",O41)))) -> 9 | R41: =IF(E41=0,"",IF(MOD(E41,2)=0,"",VLOOKUP(E41,$L$23:$Q$63,6,FALSE))) | S41: =IF(D41=0,"",VLOOKUP(E41,$L$24:$Q$63,4,FALSE)) | T41: =IF(R41="","",IF(S41="C",IF(H41>=R41,"OK","FAIL"),IF(S41="F",IF(H41<=R41,"OK","FAIL"),IF(S41="D",IF(AND(H41<=R41,H41>=U41),"OK","FAIL"),IF(U41="",IF(H41=S41,"OK","FAIL"),IF(U41="9U",IF(H41<=9,"OK","FAIL"),IF(U41="UP",IF(H41>=15,"OK","FAIL"),IF(U41="DN",IF(H41<=7,"OK","FAIL"))))))))) | U41: =IF(R41="15U","UP",IF(R41="7D","DN",IF(R41="9U","9U",IF(S41="D",10,""))))
F42: =IF(E42="","",VLOOKUP(E42,報名總表及收費!$I$29:$L$110,4)) | H42: =IF(D42=0,"",YEAR(NOW())-D42) | J42: =IF(E42="","",IF(((VLOOKUP(E42,$L$24:$Q$66,5))<G42),"報項時間慢於達標時間",""))&IF(T42="FAIL"," 運動員錯組別","")&IF(E42="","",IF(MOD(E42,2)=1,""," 項目編號為男子組")) | L42: 37 | M42: =COUNTIFS($E$24:$E$159,"=37") -> 0 | N42: =IF(M42>$O$2, L42, "OK") -> OK | O42: =VLOOKUP(L42,報名總表及收費!$I$30:$K$118,2) -> C | P42: =IF(VLOOKUP(L42,報名總表及收費!$I$30:$K$118,3)=0,"",VLOOKUP(L42,報名總表及收費!$I$30:$K$118,3,FALSE)) -> 13700 | Q42: =IF(O42="D",YEAR(NOW())-$P$5,IF(O42="C",YEAR(NOW())-$O$5,IF(O42="F",YEAR(NOW())-$Q$5,IF(O42=0,"",O42)))) -> 15 | R42: =IF(E42=0,"",IF(MOD(E42,2)=0,"",VLOOKUP(E42,$L$23:$Q$63,6,FALSE))) | S42: =IF(D42=0,"",VLOOKUP(E42,$L$24:$Q$63,4,FALSE)) | T42: =IF(R42="","",IF(S42="C",IF(H42>=R42,"OK","FAIL"),IF(S42="F",IF(H42<=R42,"OK","FAIL"),IF(S42="D",IF(AND(H42<=R42,H42>=U42),"OK","FAIL"),IF(U42="",IF(H42=S42,"OK","FAIL"),IF(U42="9U",IF(H42<=9,"OK","FAIL"),IF(U42="UP",IF(H42>=15,"OK","FAIL"),IF(U42="DN",IF(H42<=7,"OK","FAIL"))))))))) | U42: =IF(R42="15U","UP",IF(R42="7D","DN",IF(R42="9U","9U",IF(S42="D",10,""))))
F43: =IF(E43="","",VLOOKUP(E43,報名總表及收費!$I$29:$L$110,4)) | H43: =IF(D43=0,"",YEAR(NOW())-D43) | J43: =IF(E43="","",IF(((VLOOKUP(E43,$L$24:$Q$66,5))<G43),"報項時間慢於達標時間",""))&IF(T43="FAIL"," 運動員錯組別","")&IF(E43="","",IF(MOD(E43,2)=1,""," 項目編號為男子組")) | L43: 39 | M43: =COUNTIFS($E$24:$E$159,"=39") -> 0 | N43: =IF(M43>$O$2, L43, "OK") -> OK | O43: =VLOOKUP(L43,報名總表及收費!$I$30:$K$118,2) -> D | P43: =IF(VLOOKUP(L43,報名總表及收費!$I$30:$K$118,3)=0,"",VLOOKUP(L43,報名總表及收費!$I$30:$K$118,3,FALSE)) -> 14200 | Q43: =IF(O43="D",YEAR(NOW())-$P$5,IF(O43="C",YEAR(NOW())-$O$5,IF(O43="F",YEAR(NOW())-$Q$5,IF(O43=0,"",O43)))) -> 14 | R43: =IF(E43=0,"",IF(MOD(E43,2)=0,"",VLOOKUP(E43,$L$23:$Q$63,6,FALSE))) | S43: =IF(D43=0,"",VLOOKUP(E43,$L$24:$Q$63,4,FALSE)) | T43: =IF(R43="","",IF(S43="C",IF(H43>=R43,"OK","FAIL"),IF(S43="F",IF(H43<=R43,"OK","FAIL"),IF(S43="D",IF(AND(H43<=R43,H43>=U43),"OK","FAIL"),IF(U43="",IF(H43=S43,"OK","FAIL"),IF(U43="9U",IF(H43<=9,"OK","FAIL"),IF(U43="UP",IF(H43>=15,"OK","FAIL"),IF(U43="DN",IF(H43<=7,"OK","FAIL"))))))))) | U43: =IF(R43="15U","UP",IF(R43="7D","DN",IF(R43="9U","9U",IF(S43="D",10,""))))
A44: 女運動員 6 | F44: =IF(E44="","",VLOOKUP(E44,報名總表及收費!$I$29:$L$110,4)) | H44: =IF(D44=0,"",YEAR(NOW())-D44) | J44: =IF(E44="","",IF(((VLOOKUP(E44,$L$24:$Q$66,5))<G44),"報項時間慢於達標時間",""))&IF(T44="FAIL"," 運動員錯組別","")&IF(E44="","",IF(MOD(E44,2)=1,""," 項目編號為男子組")) | L44: 41 | M44: =COUNTIFS($E$24:$E$159,"=41") -> 0 | N44: =IF(M44>$O$2, L44, "OK") -> OK | O44: =VLOOKUP(L44,報名總表及收費!$I$30:$K$118,2) -> C | P44: =IF(VLOOKUP(L44,報名總表及收費!$I$30:$K$118,3)=0,"",VLOOKUP(L44,報名總表及收費!$I$30:$K$118,3,FALSE)) -> 3800 | Q44: =IF(O44="D",YEAR(NOW())-$P$5,IF(O44="C",YEAR(NOW())-$O$5,IF(O44="F",YEAR(NOW())-$Q$5,IF(O44=0,"",O44)))) -> 15 | R44: =IF(E44=0,"",IF(MOD(E44,2)=0,"",VLOOKUP(E44,$L$23:$Q$63,6,FALSE))) | S44: =IF(D44=0,"",VLOOKUP(E44,$L$24:$Q$63,4,FALSE)) | T44: =IF(R44="","",IF(S44="C",IF(H44>=R44,"OK","FAIL"),IF(S44="F",IF(H44<=R44,"OK","FAIL"),IF(S44="D",IF(AND(H44<=R44,H44>=U44),"OK","FAIL"),IF(U44="",IF(H44=S44,"OK","FAIL"),IF(U44="9U",IF(H44<=9,"OK","FAIL"),IF(U44="UP",IF(H44>=15,"OK","FAIL"),IF(U44="DN",IF(H44<=7,"OK","FAIL"))))))))) | U44: =IF(R44="15U","UP",IF(R44="7D","DN",IF(R44="9U","9U",IF(S44="D",10,""))))
F45: =IF(E45="","",VLOOKUP(E45,報名總表及收費!$I$29:$L$110,4)) | H45: =IF(D45=0,"",YEAR(NOW())-D45) | J45: =IF(E45="","",IF(((VLOOKUP(E45,$L$24:$Q$66,5))<G45),"報項時間慢於達標時間",""))&IF(T45="FAIL"," 運動員錯組別","")&IF(E45="","",IF(MOD(E45,2)=1,""," 項目編號為男子組")) | L45: 43 | M45: =COUNTIFS($E$24:$E$159,"=43") -> 0 | N45: =IF(M45>$O$2, L45, "OK") -> OK | O45: =VLOOKUP(L45,報名總表及收費!$I$30:$K$118,2) -> D | P45: =IF(VLOOKUP(L45,報名總表及收費!$I$30:$K$118,3)=0,"",VLOOKUP(L45,報名總表及收費!$I$30:$K$118,3,FALSE)) -> 4000 | Q45: =IF(O45="D",YEAR(NOW())-$P$5,IF(O45="C",YEAR(NOW())-$O$5,IF(O45="F",YEAR(NOW())-$Q$5,IF(O45=0,"",O45)))) -> 14 | R45: =IF(E45=0,"",IF(MOD(E45,2)=0,"",VLOOKUP(E45,$L$23:$Q$63,6,FALSE))) | S45: =IF(D45=0,"",VLOOKUP(E45,$L$24:$Q$63,4,FALSE)) | T45: =IF(R45="","",IF(S45="C",IF(H45>=R45,"OK","FAIL"),IF(S45="F",IF(H45<=R45,"OK","FAIL"),IF(S45="D",IF(AND(H45<=R45,H45>=U45),"OK","FAIL"),IF(U45="",IF(H45=S45,"OK","FAIL"),IF(U45="9U",IF(H45<=9,"OK","FAIL"),IF(U45="UP",IF(H45>=15,"OK","FAIL"),IF(U45="DN",IF(H45<=7,"OK","FAIL"))))))))) | U45: =IF(R45="15U","UP",IF(R45="7D","DN",IF(R45="9U","9U",IF(S45="D",10,""))))
F46: =IF(E46="","",VLOOKUP(E46,報名總表及收費!$I$29:$L$110,4)) | H46: =IF(D46=0,"",YEAR(NOW())-D46) | J46: =IF(E46="","",IF(((VLOOKUP(E46,$L$24:$Q$66,5))<G46),"報項時間慢於達標時間",""))&IF(T46="FAIL"," 運動員錯組別","")&IF(E46="","",IF(MOD(E46,2)=1,""," 項目編號為男子組")) | L46: 45 | M46: =COUNTIFS($E$24:$E$159,"=45") -> 0 | N46: =IF(M46>$O$2, L46, "OK") -> OK | O46: =VLOOKUP(L46,報名總表及收費!$I$30:$K$118,2) -> F | P46: =IF(VLOOKUP(L46,報名總表及收費!$I$30:$K$118,3)=0,"",VLOOKUP(L46,報名總表及收費!$I$30:$K$118,3,FALSE)) -> 5000 | Q46: =IF(O46="D",YEAR(NOW())-$P$5,IF(O46="C",YEAR(NOW())-$O$5,IF(O46="F",YEAR(NOW())-$Q$5,IF(O46=0,"",O46)))) -> 9 | R46: =IF(E46=0,"",IF(MOD(E46,2)=0,"",VLOOKUP(E46,$L$23:$Q$63,6,FALSE))) | S46: =IF(D46=0,"",VLOOKUP(E46,$L$24:$Q$63,4,FALSE)) | T46: =IF(R46="","",IF(S46="C",IF(H46>=R46,"OK","FAIL"),IF(S46="F",IF(H46<=R46,"OK","FAIL"),IF(S46="D",IF(AND(H46<=R46,H46>=U46),"OK","FAIL"),IF(U46="",IF(H46=S46,"OK","FAIL"),IF(U46="9U",IF(H46<=9,"OK","FAIL"),IF(U46="UP",IF(H46>=15,"OK","FAIL"),IF(U46="DN",IF(H46<=7,"OK","FAIL"))))))))) | U46: =IF(R46="15U","UP",IF(R46="7D","DN",IF(R46="9U","9U",IF(S46="D",10,""))))
F47: =IF(E47="","",VLOOKUP(E47,報名總表及收費!$I$29:$L$110,4)) | H47: =IF(D47=0,"",YEAR(NOW())-D47) | J47: =IF(E47="","",IF(((VLOOKUP(E47,$L$24:$Q$66,5))<G47),"報項時間慢於達標時間",""))&IF(T47="FAIL"," 運動員錯組別","")&IF(E47="","",IF(MOD(E47,2)=1,""," 項目編號為男子組")) | L47: 47 | M47: =COUNTIFS($E$24:$E$159,"=47") -> 0 | N47: =IF(M47>$O$2, L47, "OK") -> OK | O47: =VLOOKUP(L47,報名總表及收費!$I$30:$K$118,2) -> C | P47: =IF(VLOOKUP(L47,報名總表及收費!$I$30:$K$118,3)=0,"",VLOOKUP(L47,報名總表及收費!$I$30:$K$118,3,FALSE)) -> 12000 | Q47: =IF(O47="D",YEAR(NOW())-$P$5,IF(O47="C",YEAR(NOW())-$O$5,IF(O47="F",YEAR(NOW())-$Q$5,IF(O47=0,"",O47)))) -> 15 | R47: =IF(E47=0,"",IF(MOD(E47,2)=0,"",VLOOKUP(E47,$L$23:$Q$63,6,FALSE))) | S47: =IF(D47=0,"",VLOOKUP(E47,$L$24:$Q$63,4,FALSE)) | T47: =IF(R47="","",IF(S47="C",IF(H47>=R47,"OK","FAIL"),IF(S47="F",IF(H47<=R47,"OK","FAIL"),IF(S47="D",IF(AND(H47<=R47,H47>=U47),"OK","FAIL"),IF(U47="",IF(H47=S47,"OK","FAIL"),IF(U47="9U",IF(H47<=9,"OK","FAIL"),IF(U47="UP",IF(H47>=15,"OK","FAIL"),IF(U47="DN",IF(H47<=7,"OK","FAIL"))))))))) | U47: =IF(R47="15U","UP",IF(R47="7D","DN",IF(R47="9U","9U",IF(S47="D",10,""))))
A48: 女運動員 7 | F48: =IF(E48="","",VLOOKUP(E48,報名總表及收費!$I$29:$L$110,4)) | H48: =IF(D48=0,"",YEAR(NOW())-D48) | J48: =IF(E48="","",IF(((VLOOKUP(E48,$L$24:$Q$66,5))<G48),"報項時間慢於達標時間",""))&IF(T48="FAIL"," 運動員錯組別","")&IF(E48="","",IF(MOD(E48,2)=1,""," 項目編號為男子組")) | L48: 49 | M48: =COUNTIFS($E$24:$E$159,"=49") -> 0 | N48: =IF(M48>$O$2, L48, "OK") -> OK | O48: =VLOOKUP(L48,報名總表及收費!$I$30:$K$118,2) -> D | P48: =IF(VLOOKUP(L48,報名總表及收費!$I$30:$K$118,3)=0,"",VLOOKUP(L48,報名總表及收費!$I$30:$K$118,3,FALSE)) -> 12400 | Q48: =IF(O48="D",YEAR(NOW())-$P$5,IF(O48="C",YEAR(NOW())-$O$5,IF(O48="F",YEAR(NOW())-$Q$5,IF(O48=0,"",O48)))) -> 14 | R48: =IF(E48=0,"",IF(MOD(E48,2)=0,"",VLOOKUP(E48,$L$23:$Q$63,6,FALSE))) | S48: =IF(D48=0,"",VLOOKUP(E48,$L$24:$Q$63,4,FALSE)) | T48: =IF(R48="","",IF(S48="C",IF(H48>=R48,"OK","FAIL"),IF(S48="F",IF(H48<=R48,"OK","FAIL"),IF(S48="D",IF(AND(H48<=R48,H48>=U48),"OK","FAIL"),IF(U48="",IF(H48=S48,"OK","FAIL"),IF(U48="9U",IF(H48<=9,"OK","FAIL"),IF(U48="UP",IF(H48>=15,"OK","FAIL"),IF(U48="DN",IF(H48<=7,"OK","FAIL"))))))))) | U48: =IF(R48="15U","UP",IF(R48="7D","DN",IF(R48="9U","9U",IF(S48="D",10,""))))
F49: =IF(E49="","",VLOOKUP(E49,報名總表及收費!$I$29:$L$110,4)) | H49: =IF(D49=0,"",YEAR(NOW())-D49) | J49: =IF(E49="","",IF(((VLOOKUP(E49,$L$24:$Q$66,5))<G49),"報項時間慢於達標時間",""))&IF(T49="FAIL"," 運動員錯組別","")&IF(E49="","",IF(MOD(E49,2)=1,""," 項目編號為男子組")) | L49: 51 | M49: =COUNTIFS($E$24:$E$159,"=51") -> 0 | N49: =IF(M49>$O$2, L49, "OK") -> OK | O49: =VLOOKUP(L49,報名總表及收費!$I$30:$K$118,2) -> C | P49: =IF(VLOOKUP(L49,報名總表及收費!$I$30:$K$118,3)=0,"",VLOOKUP(L49,報名總表及收費!$I$30:$K$118,3,FALSE)) | Q49: =IF(O49="D",YEAR(NOW())-$P$5,IF(O49="C",YEAR(NOW())-$O$5,IF(O49="F",YEAR(NOW())-$Q$5,IF(O49=0,"",O49)))) -> 15 | R49: =IF(E49=0,"",IF(MOD(E49,2)=0,"",VLOOKUP(E49,$L$23:$Q$63,6,FALSE))) | S49: =IF(D49=0,"",VLOOKUP(E49,$L$24:$Q$63,4,FALSE)) | T49: =IF(R49="","",IF(S49="C",IF(H49>=R49,"OK","FAIL"),IF(S49="F",IF(H49<=R49,"OK","FAIL"),IF(S49="D",IF(AND(H49<=R49,H49>=U49),"OK","FAIL"),IF(U49="",IF(H49=S49,"OK","FAIL"),IF(U49="9U",IF(H49<=9,"OK","FAIL"),IF(U49="UP",IF(H49>=15,"OK","FAIL"),IF(U49="DN",IF(H49<=7,"OK","FAIL"))))))))) | U49: =IF(R49="15U","UP",IF(R49="7D","DN",IF(R49="9U","9U",IF(S49="D",10,""))))
F50: =IF(E50="","",VLOOKUP(E50,報名總表及收費!$I$29:$L$110,4)) | H50: =IF(D50=0,"",YEAR(NOW())-D50) | J50: =IF(E50="","",IF(((VLOOKUP(E50,$L$24:$Q$66,5))<G50),"報項時間慢於達標時間",""))&IF(T50="FAIL"," 運動員錯組別","")&IF(E50="","",IF(MOD(E50,2)=1,""," 項目編號為男子組")) | L50: 53 | M50: =COUNTIFS($E$24:$E$159,"=53") -> 0 | N50: =IF(M50>$O$2, L50, "OK") -> OK | O50: =VLOOKUP(L50,報名總表及收費!$I$30:$K$118,2) -> D | P50: =IF(VLOOKUP(L50,報名總表及收費!$I$30:$K$118,3)=0,"",VLOOKUP(L50,報名總表及收費!$I$30:$K$118,3,FALSE)) | Q50: =IF(O50="D",YEAR(NOW())-$P$5,IF(O50="C",YEAR(NOW())-$O$5,IF(O50="F",YEAR(NOW())-$Q$5,IF(O50=0,"",O50)))) -> 14 | R50: =IF(E50=0,"",IF(MOD(E50,2)=0,"",VLOOKUP(E50,$L$23:$Q$63,6,FALSE))) | S50: =IF(D50=0,"",VLOOKUP(E50,$L$24:$Q$63,4,FALSE)) | T50: =IF(R50="","",IF(S50="C",IF(H50>=R50,"OK","FAIL"),IF(S50="F",IF(H50<=R50,"OK","FAIL"),IF(S50="D",IF(AND(H50<=R50,H50>=U50),"OK","FAIL"),IF(U50="",IF(H50=S50,"OK","FAIL"),IF(U50="9U",IF(H50<=9,"OK","FAIL"),IF(U50="UP",IF(H50>=15,"OK","FAIL"),IF(U50="DN",IF(H50<=7,"OK","FAIL"))))))))) | U50: =IF(R50="15U","UP",IF(R50="7D","DN",IF(R50="9U","9U",IF(S50="D",10,""))))
F51: =IF(E51="","",VLOOKUP(E51,報名總表及收費!$I$29:$L$110,4)) | H51: =IF(D51=0,"",YEAR(NOW())-D51) | J51: =IF(E51="","",IF(((VLOOKUP(E51,$L$24:$Q$66,5))<G51),"報項時間慢於達標時間",""))&IF(T51="FAIL"," 運動員錯組別","")&IF(E51="","",IF(MOD(E51,2)=1,""," 項目編號為男子組")) | L51: 55 | M51: =COUNTIFS($E$24:$E$159,"=55") -> 0 | N51: =IF(M51>$O$2, L51, "OK") -> OK | O51: =VLOOKUP(L51,報名總表及收費!$I$30:$K$118,2) | P51: =IF(VLOOKUP(L51,報名總表及收費!$I$30:$K$118,3)=0,"",VLOOKUP(L51,報名總表及收費!$I$30:$K$118,3,FALSE)) | Q51: =IF(O51="D",YEAR(NOW())-$P$5,IF(O51="C",YEAR(NOW())-$O$5,IF(O51="F",YEAR(NOW())-$Q$5,IF(O51=0,"",O51)))) | R51: =IF(E51=0,"",IF(MOD(E51,2)=0,"",VLOOKUP(E51,$L$23:$Q$63,6,FALSE))) | S51: =IF(D51=0,"",VLOOKUP(E51,$L$24:$Q$63,4,FALSE)) | T51: =IF(R51="","",IF(S51="C",IF(H51>=R51,"OK","FAIL"),IF(S51="F",IF(H51<=R51,"OK","FAIL"),IF(S51="D",IF(AND(H51<=R51,H51>=U51),"OK","FAIL"),IF(U51="",IF(H51=S51,"OK","FAIL"),IF(U51="9U",IF(H51<=9,"OK","FAIL"),IF(U51="UP",IF(H51>=15,"OK","FAIL"),IF(U51="DN",IF(H51<=7,"OK","FAIL"))))))))) | U51: =IF(R51="15U","UP",IF(R51="7D","DN",IF(R51="9U","9U",IF(S51="D",10,""))))
A52: 女運動員 8 | F52: =IF(E52="","",VLOOKUP(E52,報名總表及收費!$I$29:$L$110,4)) | H52: =IF(D52=0,"",YEAR(NOW())-D52) | J52: =IF(E52="","",IF(((VLOOKUP(E52,$L$24:$Q$66,5))<G52),"報項時間慢於達標時間",""))&IF(T52="FAIL"," 運動員錯組別","")&IF(E52="","",IF(MOD(E52,2)=1,""," 項目編號為男子組")) | L52: 57 | M52: =COUNTIFS($E$24:$E$159,"=57") -> 0 | N52: =IF(M52>$O$2, L52, "OK") -> OK | O52: =VLOOKUP(L52,報名總表及收費!$I$30:$K$118,2) | P52: =IF(VLOOKUP(L52,報名總表及收費!$I$30:$K$118,3)=0,"",VLOOKUP(L52,報名總表及收費!$I$30:$K$118,3,FALSE)) | Q52: =IF(O52="D",YEAR(NOW())-$P$5,IF(O52="C",YEAR(NOW())-$O$5,IF(O52="F",YEAR(NOW())-$Q$5,IF(O52=0,"",O52)))) | R52: =IF(E52=0,"",IF(MOD(E52,2)=0,"",VLOOKUP(E52,$L$23:$Q$63,6,FALSE))) | S52: =IF(D52=0,"",VLOOKUP(E52,$L$24:$Q$63,4,FALSE)) | T52: =IF(R52="","",IF(S52="C",IF(H52>=R52,"OK","FAIL"),IF(S52="F",IF(H52<=R52,"OK","FAIL"),IF(S52="D",IF(AND(H52<=R52,H52>=U52),"OK","FAIL"),IF(U52="",IF(H52=S52,"OK","FAIL"),IF(U52="9U",IF(H52<=9,"OK","FAIL"),IF(U52="UP",IF(H52>=15,"OK","FAIL"),IF(U52="DN",IF(H52<=7,"OK","FAIL"))))))))) | U52: =IF(R52="15U","UP",IF(R52="7D","DN",IF(R52="9U","9U",IF(S52="D",10,""))))
F53: =IF(E53="","",VLOOKUP(E53,報名總表及收費!$I$29:$L$110,4)) | H53: =IF(D53=0,"",YEAR(NOW())-D53) | J53: =IF(E53="","",IF(((VLOOKUP(E53,$L$24:$Q$66,5))<G53),"報項時間慢於達標時間",""))&IF(T53="FAIL"," 運動員錯組別","")&IF(E53="","",IF(MOD(E53,2)=1,""," 項目編號為男子組")) | L53: 59 | M53: =COUNTIFS($E$24:$E$159,"=59") -> 0 | N53: =IF(M53>$O$2, L53, "OK") -> OK | O53: =VLOOKUP(L53,報名總表及收費!$I$30:$K$118,2) | P53: =IF(VLOOKUP(L53,報名總表及收費!$I$30:$K$118,3)=0,"",VLOOKUP(L53,報名總表及收費!$I$30:$K$118,3,FALSE)) | Q53: =IF(O53="D",YEAR(NOW())-$P$5,IF(O53="C",YEAR(NOW())-$O$5,IF(O53="F",YEAR(NOW())-$Q$5,IF(O53=0,"",O53)))) | R53: =IF(E53=0,"",IF(MOD(E53,2)=0,"",VLOOKUP(E53,$L$23:$Q$63,6,FALSE))) | S53: =IF(D53=0,"",VLOOKUP(E53,$L$24:$Q$63,4,FALSE)) | T53: =IF(R53="","",IF(S53="C",IF(H53>=R53,"OK","FAIL"),IF(S53="F",IF(H53<=R53,"OK","FAIL"),IF(S53="D",IF(AND(H53<=R53,H53>=U53),"OK","FAIL"),IF(U53="",IF(H53=S53,"OK","FAIL"),IF(U53="9U",IF(H53<=9,"OK","FAIL"),IF(U53="UP",IF(H53>=15,"OK","FAIL"),IF(U53="DN",IF(H53<=7,"OK","FAIL"))))))))) | U53: =IF(R53="15U","UP",IF(R53="7D","DN",IF(R53="9U","9U",IF(S53="D",10,""))))
F54: =IF(E54="","",VLOOKUP(E54,報名總表及收費!$I$29:$L$110,4)) | H54: =IF(D54=0,"",YEAR(NOW())-D54) | J54: =IF(E54="","",IF(((VLOOKUP(E54,$L$24:$Q$66,5))<G54),"報項時間慢於達標時間",""))&IF(T54="FAIL"," 運動員錯組別","")&IF(E54="","",IF(MOD(E54,2)=1,""," 項目編號為男子組")) | L54: 61 | M54: =COUNTIFS($E$24:$E$159,"=61") -> 0 | N54: =IF(M54>$O$2, L54, "OK") -> OK | O54: =VLOOKUP(L54,報名總表及收費!$I$30:$K$118,2) | P54: =IF(VLOOKUP(L54,報名總表及收費!$I$30:$K$118,3)=0,"",VLOOKUP(L54,報名總表及收費!$I$30:$K$118,3,FALSE)) | Q54: =IF(O54="D",YEAR(NOW())-$P$5,IF(O54="C",YEAR(NOW())-$O$5,IF(O54="F",YEAR(NOW())-$Q$5,IF(O54=0,"",O54)))) | R54: =IF(E54=0,"",IF(MOD(E54,2)=0,"",VLOOKUP(E54,$L$23:$Q$63,6,FALSE))) | S54: =IF(D54=0,"",VLOOKUP(E54,$L$24:$Q$63,4,FALSE)) | T54: =IF(R54="","",IF(S54="C",IF(H54>=R54,"OK","FAIL"),IF(S54="F",IF(H54<=R54,"OK","FAIL"),IF(S54="D",IF(AND(H54<=R54,H54>=U54),"OK","FAIL"),IF(U54="",IF(H54=S54,"OK","FAIL"),IF(U54="9U",IF(H54<=9,"OK","FAIL"),IF(U54="UP",IF(H54>=15,"OK","FAIL"),IF(U54="DN",IF(H54<=7,"OK","FAIL"))))))))) | U54: =IF(R54="15U","UP",IF(R54="7D","DN",IF(R54="9U","9U",IF(S54="D",10,""))))
F55: =IF(E55="","",VLOOKUP(E55,報名總表及收費!$I$29:$L$110,4)) | H55: =IF(D55=0,"",YEAR(NOW())-D55) | J55: =IF(E55="","",IF(((VLOOKUP(E55,$L$24:$Q$66,5))<G55),"報項時間慢於達標時間",""))&IF(T55="FAIL"," 運動員錯組別","")&IF(E55="","",IF(MOD(E55,2)=1,""," 項目編號為男子組")) | L55: 63 | M55: =COUNTIFS($E$24:$E$159,"=63") -> 0 | N55: =IF(M55>$O$2, L55, "OK") -> OK | O55: =VLOOKUP(L55,報名總表及收費!$I$30:$K$118,2) | P55: =IF(VLOOKUP(L55,報名總表及收費!$I$30:$K$118,3)=0,"",VLOOKUP(L55,報名總表及收費!$I$30:$K$118,3,FALSE)) | Q55: =IF(O55="D",YEAR(NOW())-$P$5,IF(O55="C",YEAR(NOW())-$O$5,IF(O55="F",YEAR(NOW())-$Q$5,IF(O55=0,"",O55)))) | R55: =IF(E55=0,"",IF(MOD(E55,2)=0,"",VLOOKUP(E55,$L$23:$Q$63,6,FALSE))) | S55: =IF(D55=0,"",VLOOKUP(E55,$L$24:$Q$63,4,FALSE)) | T55: =IF(R55="","",IF(S55="C",IF(H55>=R55,"OK","FAIL"),IF(S55="F",IF(H55<=R55,"OK","FAIL"),IF(S55="D",IF(AND(H55<=R55,H55>=U55),"OK","FAIL"),IF(U55="",IF(H55=S55,"OK","FAIL"),IF(U55="9U",IF(H55<=9,"OK","FAIL"),IF(U55="UP",IF(H55>=15,"OK","FAIL"),IF(U55="DN",IF(H55<=7,"OK","FAIL"))))))))) | U55: =IF(R55="15U","UP",IF(R55="7D","DN",IF(R55="9U","9U",IF(S55="D",10,""))))
A56: 女運動員 9 | F56: =IF(E56="","",VLOOKUP(E56,報名總表及收費!$I$29:$L$110,4)) | H56: =IF(D56=0,"",YEAR(NOW())-D56) | J56: =IF(E56="","",IF(((VLOOKUP(E56,$L$24:$Q$66,5))<G56),"報項時間慢於達標時間",""))&IF(T56="FAIL"," 運動員錯組別","")&IF(E56="","",IF(MOD(E56,2)=1,""," 項目編號為男子組")) | L56: 65 | M56: =COUNTIFS($E$24:$E$159,"=65") -> 0 | N56: =IF(M56>$O$2, L56, "OK") -> OK | O56: =VLOOKUP(L56,報名總表及收費!$I$30:$K$118,2) | P56: =IF(VLOOKUP(L56,報名總表及收費!$I$30:$K$118,3)=0,"",VLOOKUP(L56,報名總表及收費!$I$30:$K$118,3,FALSE)) | Q56: =IF(O56="D",YEAR(NOW())-$P$5,IF(O56="C",YEAR(NOW())-$O$5,IF(O56="F",YEAR(NOW())-$Q$5,IF(O56=0,"",O56)))) | R56: =IF(E56=0,"",IF(MOD(E56,2)=0,"",VLOOKUP(E56,$L$23:$Q$63,6,FALSE))) | S56: =IF(D56=0,"",VLOOKUP(E56,$L$24:$Q$63,4,FALSE)) | T56: =IF(R56="","",IF(S56="C",IF(H56>=R56,"OK","FAIL"),IF(S56="F",IF(H56<=R56,"OK","FAIL"),IF(S56="D",IF(AND(H56<=R56,H56>=U56),"OK","FAIL"),IF(U56="",IF(H56=S56,"OK","FAIL"),IF(U56="9U",IF(H56<=9,"OK","FAIL"),IF(U56="UP",IF(H56>=15,"OK","FAIL"),IF(U56="DN",IF(H56<=7,"OK","FAIL"))))))))) | U56: =IF(R56="15U","UP",IF(R56="7D","DN",IF(R56="9U","9U",IF(S56="D",10,""))))
F57: =IF(E57="","",VLOOKUP(E57,報名總表及收費!$I$29:$L$110,4)) | H57: =IF(D57=0,"",YEAR(NOW())-D57) | J57: =IF(E57="","",IF(((VLOOKUP(E57,$L$24:$Q$66,5))<G57),"報項時間慢於達標時間",""))&IF(T57="FAIL"," 運動員錯組別","")&IF(E57="","",IF(MOD(E57,2)=1,""," 項目編號為男子組")) | L57: 67 | M57: =COUNTIFS($E$24:$E$159,"=67") -> 0 | N57: =IF(M57>$O$2, L57, "OK") -> OK | O57: =VLOOKUP(L57,報名總表及收費!$I$30:$K$118,2) | P57: =IF(VLOOKUP(L57,報名總表及收費!$I$30:$K$118,3)=0,"",VLOOKUP(L57,報名總表及收費!$I$30:$K$118,3,FALSE)) | Q57: =IF(O57="D",YEAR(NOW())-$P$5,IF(O57="C",YEAR(NOW())-$O$5,IF(O57="F",YEAR(NOW())-$Q$5,IF(O57=0,"",O57)))) | R57: =IF(E57=0,"",IF(MOD(E57,2)=0,"",VLOOKUP(E57,$L$23:$Q$63,6,FALSE))) | S57: =IF(D57=0,"",VLOOKUP(E57,$L$24:$Q$63,4,FALSE)) | T57: =IF(R57="","",IF(S57="C",IF(H57>=R57,"OK","FAIL"),IF(S57="F",IF(H57<=R57,"OK","FAIL"),IF(S57="D",IF(AND(H57<=R57,H57>=U57),"OK","FAIL"),IF(U57="",IF(H57=S57,"OK","FAIL"),IF(U57="9U",IF(H57<=9,"OK","FAIL"),IF(U57="UP",IF(H57>=15,"OK","FAIL"),IF(U57="DN",IF(H57<=7,"OK","FAIL"))))))))) | U57: =IF(R57="15U","UP",IF(R57="7D","DN",IF(R57="9U","9U",IF(S57="D",10,""))))
F58: =IF(E58="","",VLOOKUP(E58,報名總表及收費!$I$29:$L$110,4)) | H58: =IF(D58=0,"",YEAR(NOW())-D58) | J58: =IF(E58="","",IF(((VLOOKUP(E58,$L$24:$Q$66,5))<G58),"報項時間慢於達標時間",""))&IF(T58="FAIL"," 運動員錯組別","")&IF(E58="","",IF(MOD(E58,2)=1,""," 項目編號為男子組")) | L58: 69 | M58: =COUNTIFS($E$24:$E$159,"=63") -> 0 | N58: =IF(M58>$O$2, L58, "OK") -> OK | O58: =VLOOKUP(L58,報名總表及收費!$I$30:$K$118,2) | P58: =IF(VLOOKUP(L58,報名總表及收費!$I$30:$K$118,3)=0,"",VLOOKUP(L58,報名總表及收費!$I$30:$K$118,3,FALSE)) | Q58: =IF(O58="D",YEAR(NOW())-$P$5,IF(O58="C",YEAR(NOW())-$O$5,IF(O58="F",YEAR(NOW())-$Q$5,IF(O58=0,"",O58)))) | R58: =IF(E58=0,"",IF(MOD(E58,2)=0,"",VLOOKUP(E58,$L$23:$Q$63,6,FALSE))) | S58: =IF(D58=0,"",VLOOKUP(E58,$L$24:$Q$63,4,FALSE)) | T58: =IF(R58="","",IF(S58="C",IF(H58>=R58,"OK","FAIL"),IF(S58="F",IF(H58<=R58,"OK","FAIL"),IF(S58="D",IF(AND(H58<=R58,H58>=U58),"OK","FAIL"),IF(U58="",IF(H58=S58,"OK","FAIL"),IF(U58="9U",IF(H58<=9,"OK","FAIL"),IF(U58="UP",IF(H58>=15,"OK","FAIL"),IF(U58="DN",IF(H58<=7,"OK","FAIL"))))))))) | U58: =IF(R58="15U","UP",IF(R58="7D","DN",IF(R58="9U","9U",IF(S58="D",10,""))))
F59: =IF(E59="","",VLOOKUP(E59,報名總表及收費!$I$29:$L$110,4)) | H59: =IF(D59=0,"",YEAR(NOW())-D59) | J59: =IF(E59="","",IF(((VLOOKUP(E59,$L$24:$Q$66,5))<G59),"報項時間慢於達標時間",""))&IF(T59="FAIL"," 運動員錯組別","")&IF(E59="","",IF(MOD(E59,2)=1,""," 項目編號為男子組")) | L59: 71 | M59: =COUNTIFS($E$24:$E$159,"=65") -> 0 | N59: =IF(M59>$O$2, L59, "OK") -> OK | O59: =VLOOKUP(L59,報名總表及收費!$I$30:$K$118,2) | P59: =IF(VLOOKUP(L59,報名總表及收費!$I$30:$K$118,3)=0,"",VLOOKUP(L59,報名總表及收費!$I$30:$K$118,3,FALSE)) | Q59: =IF(O59="D",YEAR(NOW())-$P$5,IF(O59="C",YEAR(NOW())-$O$5,IF(O59="F",YEAR(NOW())-$Q$5,IF(O59=0,"",O59)))) | R59: =IF(E59=0,"",IF(MOD(E59,2)=0,"",VLOOKUP(E59,$L$23:$Q$63,6,FALSE))) | S59: =IF(D59=0,"",VLOOKUP(E59,$L$24:$Q$63,4,FALSE)) | T59: =IF(R59="","",IF(S59="C",IF(H59>=R59,"OK","FAIL"),IF(S59="F",IF(H59<=R59,"OK","FAIL"),IF(S59="D",IF(AND(H59<=R59,H59>=U59),"OK","FAIL"),IF(U59="",IF(H59=S59,"OK","FAIL"),IF(U59="9U",IF(H59<=9,"OK","FAIL"),IF(U59="UP",IF(H59>=15,"OK","FAIL"),IF(U59="DN",IF(H59<=7,"OK","FAIL"))))))))) | U59: =IF(R59="15U","UP",IF(R59="7D","DN",IF(R59="9U","9U",IF(S59="D",10,""))))
A60: 女運動員 10 | F60: =IF(E60="","",VLOOKUP(E60,報名總表及收費!$I$29:$L$110,4)) | H60: =IF(D60=0,"",YEAR(NOW())-D60) | J60: =IF(E60="","",IF(((VLOOKUP(E60,$L$24:$Q$66,5))<G60),"報項時間慢於達標時間",""))&IF(T60="FAIL"," 運動員錯組別","")&IF(E60="","",IF(MOD(E60,2)=1,""," 項目編號為男子組")) | L60: 73 | M60: =COUNTIFS($E$24:$E$159,"=67") -> 0 | N60: =IF(M60>$O$2, L60, "OK") -> OK | O60: =VLOOKUP(L60,報名總表及收費!$I$30:$K$118,2) | P60: =IF(VLOOKUP(L60,報名總表及收費!$I$30:$K$118,3)=0,"",VLOOKUP(L60,報名總表及收費!$I$30:$K$118,3,FALSE)) | Q60: =IF(O60="D",YEAR(NOW())-$P$5,IF(O60="C",YEAR(NOW())-$O$5,IF(O60="F",YEAR(NOW())-$Q$5,IF(O60=0,"",O60)))) | R60: =IF(E60=0,"",IF(MOD(E60,2)=0,"",VLOOKUP(E60,$L$23:$Q$63,6,FALSE))) | S60: =IF(D60=0,"",VLOOKUP(E60,$L$24:$Q$63,4,FALSE)) | T60: =IF(R60="","",IF(S60="C",IF(H60>=R60,"OK","FAIL"),IF(S60="F",IF(H60<=R60,"OK","FAIL"),IF(S60="D",IF(AND(H60<=R60,H60>=U60),"OK","FAIL"),IF(U60="",IF(H60=S60,"OK","FAIL"),IF(U60="9U",IF(H60<=9,"OK","FAIL"),IF(U60="UP",IF(H60>=15,"OK","FAIL"),IF(U60="DN",IF(H60<=7,"OK","FAIL"))))))))) | U60: =IF(R60="15U","UP",IF(R60="7D","DN",IF(R60="9U","9U",IF(S60="D",10,""))))
F61: =IF(E61="","",VLOOKUP(E61,報名總表及收費!$I$29:$L$110,4)) | H61: =IF(D61=0,"",YEAR(NOW())-D61) | J61: =IF(E61="","",IF(((VLOOKUP(E61,$L$24:$Q$66,5))<G61),"報項時間慢於達標時間",""))&IF(T61="FAIL"," 運動員錯組別","")&IF(E61="","",IF(MOD(E61,2)=1,""," 項目編號為男子組")) | L61: 75 | M61: =COUNTIFS($E$24:$E$159,"=63") -> 0 | N61: =IF(M61>$O$2, L61, "OK") -> OK | O61: =VLOOKUP(L61,報名總表及收費!$I$30:$K$118,2) | P61: =IF(VLOOKUP(L61,報名總表及收費!$I$30:$K$118,3)=0,"",VLOOKUP(L61,報名總表及收費!$I$30:$K$118,3,FALSE)) | Q61: =IF(O61="D",YEAR(NOW())-$P$5,IF(O61="C",YEAR(NOW())-$O$5,IF(O61="F",YEAR(NOW())-$Q$5,IF(O61=0,"",O61)))) | R61: =IF(E61=0,"",IF(MOD(E61,2)=0,"",VLOOKUP(E61,$L$23:$Q$63,6,FALSE))) | S61: =IF(D61=0,"",VLOOKUP(E61,$L$24:$Q$63,4,FALSE)) | T61: =IF(R61="","",IF(S61="C",IF(H61>=R61,"OK","FAIL"),IF(S61="F",IF(H61<=R61,"OK","FAIL"),IF(S61="D",IF(AND(H61<=R61,H61>=U61),"OK","FAIL"),IF(U61="",IF(H61=S61,"OK","FAIL"),IF(U61="9U",IF(H61<=9,"OK","FAIL"),IF(U61="UP",IF(H61>=15,"OK","FAIL"),IF(U61="DN",IF(H61<=7,"OK","FAIL"))))))))) | U61: =IF(R61="15U","UP",IF(R61="7D","DN",IF(R61="9U","9U",IF(S61="D",10,""))))
F62: =IF(E62="","",VLOOKUP(E62,報名總表及收費!$I$29:$L$110,4)) | H62: =IF(D62=0,"",YEAR(NOW())-D62) | J62: =IF(E62="","",IF(((VLOOKUP(E62,$L$24:$Q$66,5))<G62),"報項時間慢於達標時間",""))&IF(T62="FAIL"," 運動員錯組別","")&IF(E62="","",IF(MOD(E62,2)=1,""," 項目編號為男子組")) | L62: 77 | M62: =COUNTIFS($E$24:$E$159,"=65") -> 0 | N62: =IF(M62>$O$2, L62, "OK") -> OK | O62: =VLOOKUP(L62,報名總表及收費!$I$30:$K$118,2) | P62: =IF(VLOOKUP(L62,報名總表及收費!$I$30:$K$118,3)=0,"",VLOOKUP(L62,報名總表及收費!$I$30:$K$118,3,FALSE)) | Q62: =IF(O62="D",YEAR(NOW())-$P$5,IF(O62="C",YEAR(NOW())-$O$5,IF(O62="F",YEAR(NOW())-$Q$5,IF(O62=0,"",O62)))) | R62: =IF(E62=0,"",IF(MOD(E62,2)=0,"",VLOOKUP(E62,$L$23:$Q$63,6,FALSE))) | S62: =IF(D62=0,"",VLOOKUP(E62,$L$24:$Q$63,4,FALSE)) | T62: =IF(R62="","",IF(S62="C",IF(H62>=R62,"OK","FAIL"),IF(S62="F",IF(H62<=R62,"OK","FAIL"),IF(S62="D",IF(AND(H62<=R62,H62>=U62),"OK","FAIL"),IF(U62="",IF(H62=S62,"OK","FAIL"),IF(U62="9U",IF(H62<=9,"OK","FAIL"),IF(U62="UP",IF(H62>=15,"OK","FAIL"),IF(U62="DN",IF(H62<=7,"OK","FAIL"))))))))) | U62: =IF(R62="15U","UP",IF(R62="7D","DN",IF(R62="9U","9U",IF(S62="D",10,""))))
F63: =IF(E63="","",VLOOKUP(E63,報名總表及收費!$I$29:$L$110,4)) | H63: =IF(D63=0,"",YEAR(NOW())-D63) | J63: =IF(E63="","",IF(((VLOOKUP(E63,$L$24:$Q$66,5))<G63),"報項時間慢於達標時間",""))&IF(T63="FAIL"," 運動員錯組別","")&IF(E63="","",IF(MOD(E63,2)=1,""," 項目編號為男子組")) | L63: 79 | M63: =COUNTIFS($E$24:$E$159,"=67") -> 0 | N63: =IF(M63>$O$2, L63, "OK") -> OK | O63: =VLOOKUP(L63,報名總表及收費!$I$30:$K$118,2) | P63: =IF(VLOOKUP(L63,報名總表及收費!$I$30:$K$118,3)=0,"",VLOOKUP(L63,報名總表及收費!$I$30:$K$118,3,FALSE)) | Q63: =IF(O63="D",YEAR(NOW())-$P$5,IF(O63="C",YEAR(NOW())-$O$5,IF(O63="F",YEAR(NOW())-$Q$5,IF(O63=0,"",O63)))) | R63: =IF(E63=0,"",IF(MOD(E63,2)=0,"",VLOOKUP(E63,$L$23:$Q$63,6,FALSE))) | S63: =IF(D63=0,"",VLOOKUP(E63,$L$24:$Q$63,4,FALSE)) | T63: =IF(R63="","",IF(S63="C",IF(H63>=R63,"OK","FAIL"),IF(S63="F",IF(H63<=R63,"OK","FAIL"),IF(S63="D",IF(AND(H63<=R63,H63>=U63),"OK","FAIL"),IF(U63="",IF(H63=S63,"OK","FAIL"),IF(U63="9U",IF(H63<=9,"OK","FAIL"),IF(U63="UP",IF(H63>=15,"OK","FAIL"),IF(U63="DN",IF(H63<=7,"OK","FAIL"))))))))) | U63: =IF(R63="15U","UP",IF(R63="7D","DN",IF(R63="9U","9U",IF(S63="D",10,""))))
A64: 女運動員 11 | F64: =IF(E64="","",VLOOKUP(E64,報名總表及收費!$I$29:$L$110,4)) | H64: =IF(D64=0,"",YEAR(NOW())-D64) | J64: =IF(E64="","",IF(((VLOOKUP(E64,$L$24:$Q$66,5))<G64),"報項時間慢於達標時間",""))&IF(T64="FAIL"," 運動員錯組別","")&IF(E64="","",IF(MOD(E64,2)=1,""," 項目編號為男子組")) | M64: =SUM(M24:M63) -> 0 | Q64: =IF(O64="D",YEAR(NOW())-$P$5,IF(O64="C",YEAR(NOW())-$O$5,IF(O64="F",YEAR(NOW())-$Q$5,IF(O64=0,"",O64)))) | R64: =IF(E64=0,"",IF(MOD(E64,2)=0,"",VLOOKUP(E64,$L$23:$Q$63,6,FALSE))) | S64: =IF(D64=0,"",VLOOKUP(E64,$L$24:$Q$63,4,FALSE)) | T64: =IF(R64="","",IF(S64="C",IF(H64>=R64,"OK","FAIL"),IF(S64="F",IF(H64<=R64,"OK","FAIL"),IF(S64="D",IF(AND(H64<=R64,H64>=U64),"OK","FAIL"),IF(U64="",IF(H64=S64,"OK","FAIL"),IF(U64="9U",IF(H64<=9,"OK","FAIL"),IF(U64="UP",IF(H64>=15,"OK","FAIL"),IF(U64="DN",IF(H64<=7,"OK","FAIL"))))))))) | U64: =IF(R64="15U","UP",IF(R64="7D","DN",IF(R64="9U","9U",IF(S64="D",10,""))))
F65: =IF(E65="","",VLOOKUP(E65,報名總表及收費!$I$29:$L$110,4)) | H65: =IF(D65=0,"",YEAR(NOW())-D65) | J65: =IF(E65="","",IF(((VLOOKUP(E65,$L$24:$Q$66,5))<G65),"報項時間慢於達標時間",""))&IF(T65="FAIL"," 運動員錯組別","")&IF(E65="","",IF(MOD(E65,2)=1,""," 項目編號為男子組")) | Q65: =IF(O65="D",YEAR(NOW())-$P$5,IF(O65="C",YEAR(NOW())-$O$5,IF(O65="F",YEAR(NOW())-$Q$5,IF(O65=0,"",O65)))) | R65: =IF(E65=0,"",IF(MOD(E65,2)=0,"",VLOOKUP(E65,$L$23:$Q$63,6,FALSE))) | S65: =IF(D65=0,"",VLOOKUP(E65,$L$24:$Q$63,4,FALSE)) | T65: =IF(R65="","",IF(S65="C",IF(H65>=R65,"OK","FAIL"),IF(S65="F",IF(H65<=R65,"OK","FAIL"),IF(S65="D",IF(AND(H65<=R65,H65>=U65),"OK","FAIL"),IF(U65="",IF(H65=S65,"OK","FAIL"),IF(U65="9U",IF(H65<=9,"OK","FAIL"),IF(U65="UP",IF(H65>=15,"OK","FAIL"),IF(U65="DN",IF(H65<=7,"OK","FAIL"))))))))) | U65: =IF(R65="15U","UP",IF(R65="7D","DN",IF(R65="9U","9U",IF(S65="D",10,""))))
F66: =IF(E66="","",VLOOKUP(E66,報名總表及收費!$I$29:$L$110,4)) | H66: =IF(D66=0,"",YEAR(NOW())-D66) | J66: =IF(E66="","",IF(((VLOOKUP(E66,$L$24:$Q$66,5))<G66),"報項時間慢於達標時間",""))&IF(T66="FAIL"," 運動員錯組別","")&IF(E66="","",IF(MOD(E66,2)=1,""," 項目編號為男子組")) | Q66: =IF(O66="D",YEAR(NOW())-$P$5,IF(O66="C",YEAR(NOW())-$O$5,IF(O66="F",YEAR(NOW())-$Q$5,IF(O66=0,"",O66)))) | R66: =IF(E66=0,"",IF(MOD(E66,2)=0,"",VLOOKUP(E66,$L$23:$Q$63,6,FALSE))) | S66: =IF(D66=0,"",VLOOKUP(E66,$L$24:$Q$63,4,FALSE)) | T66: =IF(R66="","",IF(S66="C",IF(H66>=R66,"OK","FAIL"),IF(S66="F",IF(H66<=R66,"OK","FAIL"),IF(S66="D",IF(AND(H66<=R66,H66>=U66),"OK","FAIL"),IF(U66="",IF(H66=S66,"OK","FAIL"),IF(U66="9U",IF(H66<=9,"OK","FAIL"),IF(U66="UP",IF(H66>=15,"OK","FAIL"),IF(U66="DN",IF(H66<=7,"OK","FAIL"))))))))) | U66: =IF(R66="15U","UP",IF(R66="7D","DN",IF(R66="9U","9U",IF(S66="D",10,""))))
F67: =IF(E67="","",VLOOKUP(E67,報名總表及收費!$I$29:$L$110,4)) | H67: =IF(D67=0,"",YEAR(NOW())-D67) | J67: =IF(E67="","",IF(((VLOOKUP(E67,$L$24:$Q$66,5))<G67),"報項時間慢於達標時間",""))&IF(T67="FAIL"," 運動員錯組別","")&IF(E67="","",IF(MOD(E67,2)=1,""," 項目編號為男子組")) | Q67: =IF(O67="D",YEAR(NOW())-$P$5,IF(O67="C",YEAR(NOW())-$O$5,IF(O67="F",YEAR(NOW())-$Q$5,IF(O67=0,"",O67)))) | R67: =IF(E67=0,"",IF(MOD(E67,2)=0,"",VLOOKUP(E67,$L$23:$Q$63,6,FALSE))) | S67: =IF(D67=0,"",VLOOKUP(E67,$L$24:$Q$63,4,FALSE)) | T67: =IF(R67="","",IF(S67="C",IF(H67>=R67,"OK","FAIL"),IF(S67="F",IF(H67<=R67,"OK","FAIL"),IF(S67="D",IF(AND(H67<=R67,H67>=U67),"OK","FAIL"),IF(U67="",IF(H67=S67,"OK","FAIL"),IF(U67="9U",IF(H67<=9,"OK","FAIL"),IF(U67="UP",IF(H67>=15,"OK","FAIL"),IF(U67="DN",IF(H67<=7,"OK","FAIL"))))))))) | U67: =IF(R67="15U","UP",IF(R67="7D","DN",IF(R67="9U","9U",IF(S67="D",10,""))))
A68: 女運動員 12 | F68: =IF(E68="","",VLOOKUP(E68,報名總表及收費!$I$29:$L$110,4)) | H68: =IF(D68=0,"",YEAR(NOW())-D68) | J68: =IF(E68="","",IF(((VLOOKUP(E68,$L$24:$Q$66,5))<G68),"報項時間慢於達標時間",""))&IF(T68="FAIL"," 運動員錯組別","")&IF(E68="","",IF(MOD(E68,2)=1,""," 項目編號為男子組")) | Q68: =IF(O68="D",YEAR(NOW())-$P$5,IF(O68="C",YEAR(NOW())-$O$5,IF(O68="F",YEAR(NOW())-$Q$5,IF(O68=0,"",O68)))) | R68: =IF(E68=0,"",IF(MOD(E68,2)=0,"",VLOOKUP(E68,$L$23:$Q$63,6,FALSE))) | S68: =IF(D68=0,"",VLOOKUP(E68,$L$24:$Q$63,4,FALSE)) | T68: =IF(R68="","",IF(S68="C",IF(H68>=R68,"OK","FAIL"),IF(S68="F",IF(H68<=R68,"OK","FAIL"),IF(S68="D",IF(AND(H68<=R68,H68>=U68),"OK","FAIL"),IF(U68="",IF(H68=S68,"OK","FAIL"),IF(U68="9U",IF(H68<=9,"OK","FAIL"),IF(U68="UP",IF(H68>=15,"OK","FAIL"),IF(U68="DN",IF(H68<=7,"OK","FAIL"))))))))) | U68: =IF(R68="15U","UP",IF(R68="7D","DN",IF(R68="9U","9U",IF(S68="D",10,""))))
F69: =IF(E69="","",VLOOKUP(E69,報名總表及收費!$I$29:$L$110,4)) | H69: =IF(D69=0,"",YEAR(NOW())-D69) | J69: =IF(E69="","",IF(((VLOOKUP(E69,$L$24:$Q$66,5))<G69),"報項時間慢於達標時間",""))&IF(T69="FAIL"," 運動員錯組別","")&IF(E69="","",IF(MOD(E69,2)=1,""," 項目編號為男子組")) | Q69: =IF(O69="D",YEAR(NOW())-$P$5,IF(O69="C",YEAR(NOW())-$O$5,IF(O69="F",YEAR(NOW())-$Q$5,IF(O69=0,"",O69)))) | R69: =IF(E69=0,"",IF(MOD(E69,2)=0,"",VLOOKUP(E69,$L$23:$Q$63,6,FALSE))) | S69: =IF(D69=0,"",VLOOKUP(E69,$L$24:$Q$63,4,FALSE)) | T69: =IF(R69="","",IF(S69="C",IF(H69>=R69,"OK","FAIL"),IF(S69="F",IF(H69<=R69,"OK","FAIL"),IF(S69="D",IF(AND(H69<=R69,H69>=U69),"OK","FAIL"),IF(U69="",IF(H69=S69,"OK","FAIL"),IF(U69="9U",IF(H69<=9,"OK","FAIL"),IF(U69="UP",IF(H69>=15,"OK","FAIL"),IF(U69="DN",IF(H69<=7,"OK","FAIL"))))))))) | U69: =IF(R69="15U","UP",IF(R69="7D","DN",IF(R69="9U","9U",IF(S69="D",10,""))))
F70: =IF(E70="","",VLOOKUP(E70,報名總表及收費!$I$29:$L$110,4)) | H70: =IF(D70=0,"",YEAR(NOW())-D70) | J70: =IF(E70="","",IF(((VLOOKUP(E70,$L$24:$Q$66,5))<G70),"報項時間慢於達標時間",""))&IF(T70="FAIL"," 運動員錯組別","")&IF(E70="","",IF(MOD(E70,2)=1,""," 項目編號為男子組")) | Q70: =IF(O70="D",YEAR(NOW())-$P$5,IF(O70="C",YEAR(NOW())-$O$5,IF(O70="F",YEAR(NOW())-$Q$5,IF(O70=0,"",O70)))) | R70: =IF(E70=0,"",IF(MOD(E70,2)=0,"",VLOOKUP(E70,$L$23:$Q$63,6,FALSE))) | S70: =IF(D70=0,"",VLOOKUP(E70,$L$24:$Q$63,4,FALSE)) | T70: =IF(R70="","",IF(S70="C",IF(H70>=R70,"OK","FAIL"),IF(S70="F",IF(H70<=R70,"OK","FAIL"),IF(S70="D",IF(AND(H70<=R70,H70>=U70),"OK","FAIL"),IF(U70="",IF(H70=S70,"OK","FAIL"),IF(U70="9U",IF(H70<=9,"OK","FAIL"),IF(U70="UP",IF(H70>=15,"OK","FAIL"),IF(U70="DN",IF(H70<=7,"OK","FAIL"))))))))) | U70: =IF(R70="15U","UP",IF(R70="7D","DN",IF(R70="9U","9U",IF(S70="D",10,""))))
F71: =IF(E71="","",VLOOKUP(E71,報名總表及收費!$I$29:$L$110,4)) | H71: =IF(D71=0,"",YEAR(NOW())-D71) | J71: =IF(E71="","",IF(((VLOOKUP(E71,$L$24:$Q$66,5))<G71),"報項時間慢於達標時間",""))&IF(T71="FAIL"," 運動員錯組別","")&IF(E71="","",IF(MOD(E71,2)=1,""," 項目編號為男子組")) | Q71: =IF(O71="D",YEAR(NOW())-$P$5,IF(O71="C",YEAR(NOW())-$O$5,IF(O71="F",YEAR(NOW())-$Q$5,IF(O71=0,"",O71)))) | R71: =IF(E71=0,"",IF(MOD(E71,2)=0,"",VLOOKUP(E71,$L$23:$Q$63,6,FALSE))) | S71: =IF(D71=0,"",VLOOKUP(E71,$L$24:$Q$63,4,FALSE)) | T71: =IF(R71="","",IF(S71="C",IF(H71>=R71,"OK","FAIL"),IF(S71="F",IF(H71<=R71,"OK","FAIL"),IF(S71="D",IF(AND(H71<=R71,H71>=U71),"OK","FAIL"),IF(U71="",IF(H71=S71,"OK","FAIL"),IF(U71="9U",IF(H71<=9,"OK","FAIL"),IF(U71="UP",IF(H71>=15,"OK","FAIL"),IF(U71="DN",IF(H71<=7,"OK","FAIL"))))))))) | U71: =IF(R71="15U","UP",IF(R71="7D","DN",IF(R71="9U","9U",IF(S71="D",10,""))))
A72: 女運動員 13 | F72: =IF(E72="","",VLOOKUP(E72,報名總表及收費!$I$29:$L$110,4)) | H72: =IF(D72=0,"",YEAR(NOW())-D72) | J72: =IF(E72="","",IF(((VLOOKUP(E72,$L$24:$Q$66,5))<G72),"報項時間慢於達標時間",""))&IF(T72="FAIL"," 運動員錯組別","")&IF(E72="","",IF(MOD(E72,2)=1,""," 項目編號為男子組")) | Q72: =IF(O72="D",YEAR(NOW())-$P$5,IF(O72="C",YEAR(NOW())-$O$5,IF(O72="F",YEAR(NOW())-$Q$5,IF(O72=0,"",O72)))) | R72: =IF(E72=0,"",IF(MOD(E72,2)=0,"",VLOOKUP(E72,$L$23:$Q$63,6,FALSE))) | S72: =IF(D72=0,"",VLOOKUP(E72,$L$24:$Q$63,4,FALSE)) | T72: =IF(R72="","",IF(S72="C",IF(H72>=R72,"OK","FAIL"),IF(S72="F",IF(H72<=R72,"OK","FAIL"),IF(S72="D",IF(AND(H72<=R72,H72>=U72),"OK","FAIL"),IF(U72="",IF(H72=S72,"OK","FAIL"),IF(U72="9U",IF(H72<=9,"OK","FAIL"),IF(U72="UP",IF(H72>=15,"OK","FAIL"),IF(U72="DN",IF(H72<=7,"OK","FAIL"))))))))) | U72: =IF(R72="15U","UP",IF(R72="7D","DN",IF(R72="9U","9U",IF(S72="D",10,""))))
F73: =IF(E73="","",VLOOKUP(E73,報名總表及收費!$I$29:$L$110,4)) | H73: =IF(D73=0,"",YEAR(NOW())-D73) | J73: =IF(E73="","",IF(((VLOOKUP(E73,$L$24:$Q$66,5))<G73),"報項時間慢於達標時間",""))&IF(T73="FAIL"," 運動員錯組別","")&IF(E73="","",IF(MOD(E73,2)=1,""," 項目編號為男子組")) | Q73: =IF(O73="D",YEAR(NOW())-$P$5,IF(O73="C",YEAR(NOW())-$O$5,IF(O73="F",YEAR(NOW())-$Q$5,IF(O73=0,"",O73)))) | R73: =IF(E73=0,"",IF(MOD(E73,2)=0,"",VLOOKUP(E73,$L$23:$Q$63,6,FALSE))) | S73: =IF(D73=0,"",VLOOKUP(E73,$L$24:$Q$63,4,FALSE)) | T73: =IF(R73="","",IF(S73="C",IF(H73>=R73,"OK","FAIL"),IF(S73="F",IF(H73<=R73,"OK","FAIL"),IF(S73="D",IF(AND(H73<=R73,H73>=U73),"OK","FAIL"),IF(U73="",IF(H73=S73,"OK","FAIL"),IF(U73="9U",IF(H73<=9,"OK","FAIL"),IF(U73="UP",IF(H73>=15,"OK","FAIL"),IF(U73="DN",IF(H73<=7,"OK","FAIL"))))))))) | U73: =IF(R73="15U","UP",IF(R73="7D","DN",IF(R73="9U","9U",IF(S73="D",10,""))))
F74: =IF(E74="","",VLOOKUP(E74,報名總表及收費!$I$29:$L$110,4)) | H74: =IF(D74=0,"",YEAR(NOW())-D74) | J74: =IF(E74="","",IF(((VLOOKUP(E74,$L$24:$Q$66,5))<G74),"報項時間慢於達標時間",""))&IF(T74="FAIL"," 運動員錯組別","")&IF(E74="","",IF(MOD(E74,2)=1,""," 項目編號為男子組")) | Q74: =IF(O74="D",YEAR(NOW())-$P$5,IF(O74="C",YEAR(NOW())-$O$5,IF(O74="F",YEAR(NOW())-$Q$5,IF(O74=0,"",O74)))) | R74: =IF(E74=0,"",IF(MOD(E74,2)=0,"",VLOOKUP(E74,$L$23:$Q$63,6,FALSE))) | S74: =IF(D74=0,"",VLOOKUP(E74,$L$24:$Q$63,4,FALSE)) | T74: =IF(R74="","",IF(S74="C",IF(H74>=R74,"OK","FAIL"),IF(S74="F",IF(H74<=R74,"OK","FAIL"),IF(S74="D",IF(AND(H74<=R74,H74>=U74),"OK","FAIL"),IF(U74="",IF(H74=S74,"OK","FAIL"),IF(U74="9U",IF(H74<=9,"OK","FAIL"),IF(U74="UP",IF(H74>=15,"OK","FAIL"),IF(U74="DN",IF(H74<=7,"OK","FAIL"))))))))) | U74: =IF(R74="15U","UP",IF(R74="7D","DN",IF(R74="9U","9U",IF(S74="D",10,""))))
F75: =IF(E75="","",VLOOKUP(E75,報名總表及收費!$I$29:$L$110,4)) | H75: =IF(D75=0,"",YEAR(NOW())-D75) | J75: =IF(E75="","",IF(((VLOOKUP(E75,$L$24:$Q$66,5))<G75),"報項時間慢於達標時間",""))&IF(T75="FAIL"," 運動員錯組別","")&IF(E75="","",IF(MOD(E75,2)=1,""," 項目編號為男子組")) | Q75: =IF(O75="D",YEAR(NOW())-$P$5,IF(O75="C",YEAR(NOW())-$O$5,IF(O75="F",YEAR(NOW())-$Q$5,IF(O75=0,"",O75)))) | R75: =IF(E75=0,"",IF(MOD(E75,2)=0,"",VLOOKUP(E75,$L$23:$Q$63,6,FALSE))) | S75: =IF(D75=0,"",VLOOKUP(E75,$L$24:$Q$63,4,FALSE)) | T75: =IF(R75="","",IF(S75="C",IF(H75>=R75,"OK","FAIL"),IF(S75="F",IF(H75<=R75,"OK","FAIL"),IF(S75="D",IF(AND(H75<=R75,H75>=U75),"OK","FAIL"),IF(U75="",IF(H75=S75,"OK","FAIL"),IF(U75="9U",IF(H75<=9,"OK","FAIL"),IF(U75="UP",IF(H75>=15,"OK","FAIL"),IF(U75="DN",IF(H75<=7,"OK","FAIL"))))))))) | U75: =IF(R75="15U","UP",IF(R75="7D","DN",IF(R75="9U","9U",IF(S75="D",10,""))))
A76: 女運動員 14 | F76: =IF(E76="","",VLOOKUP(E76,報名總表及收費!$I$29:$L$110,4)) | H76: =IF(D76=0,"",YEAR(NOW())-D76) | J76: =IF(E76="","",IF(((VLOOKUP(E76,$L$24:$Q$66,5))<G76),"報項時間慢於達標時間",""))&IF(T76="FAIL"," 運動員錯組別","")&IF(E76="","",IF(MOD(E76,2)=1,""," 項目編號為男子組")) | Q76: =IF(O76="D",YEAR(NOW())-$P$5,IF(O76="C",YEAR(NOW())-$O$5,IF(O76="F",YEAR(NOW())-$Q$5,IF(O76=0,"",O76)))) | R76: =IF(E76=0,"",IF(MOD(E76,2)=0,"",VLOOKUP(E76,$L$23:$Q$63,6,FALSE))) | S76: =IF(D76=0,"",VLOOKUP(E76,$L$24:$Q$63,4,FALSE)) | T76: =IF(R76="","",IF(S76="C",IF(H76>=R76,"OK","FAIL"),IF(S76="F",IF(H76<=R76,"OK","FAIL"),IF(S76="D",IF(AND(H76<=R76,H76>=U76),"OK","FAIL"),IF(U76="",IF(H76=S76,"OK","FAIL"),IF(U76="9U",IF(H76<=9,"OK","FAIL"),IF(U76="UP",IF(H76>=15,"OK","FAIL"),IF(U76="DN",IF(H76<=7,"OK","FAIL"))))))))) | U76: =IF(R76="15U","UP",IF(R76="7D","DN",IF(R76="9U","9U",IF(S76="D",10,""))))
F77: =IF(E77="","",VLOOKUP(E77,報名總表及收費!$I$29:$L$110,4)) | H77: =IF(D77=0,"",YEAR(NOW())-D77) | J77: =IF(E77="","",IF(((VLOOKUP(E77,$L$24:$Q$66,5))<G77),"報項時間慢於達標時間",""))&IF(T77="FAIL"," 運動員錯組別","")&IF(E77="","",IF(MOD(E77,2)=1,""," 項目編號為男子組")) | Q77: =IF(O77="D",YEAR(NOW())-$P$5,IF(O77="C",YEAR(NOW())-$O$5,IF(O77="F",YEAR(NOW())-$Q$5,IF(O77=0,"",O77)))) | R77: =IF(E77=0,"",IF(MOD(E77,2)=0,"",VLOOKUP(E77,$L$23:$Q$63,6,FALSE))) | S77: =IF(D77=0,"",VLOOKUP(E77,$L$24:$Q$63,4,FALSE)) | T77: =IF(R77="","",IF(S77="C",IF(H77>=R77,"OK","FAIL"),IF(S77="F",IF(H77<=R77,"OK","FAIL"),IF(S77="D",IF(AND(H77<=R77,H77>=U77),"OK","FAIL"),IF(U77="",IF(H77=S77,"OK","FAIL"),IF(U77="9U",IF(H77<=9,"OK","FAIL"),IF(U77="UP",IF(H77>=15,"OK","FAIL"),IF(U77="DN",IF(H77<=7,"OK","FAIL"))))))))) | U77: =IF(R77="15U","UP",IF(R77="7D","DN",IF(R77="9U","9U",IF(S77="D",10,""))))
F78: =IF(E78="","",VLOOKUP(E78,報名總表及收費!$I$29:$L$110,4)) | H78: =IF(D78=0,"",YEAR(NOW())-D78) | J78: =IF(E78="","",IF(((VLOOKUP(E78,$L$24:$Q$66,5))<G78),"報項時間慢於達標時間",""))&IF(T78="FAIL"," 運動員錯組別","")&IF(E78="","",IF(MOD(E78,2)=1,""," 項目編號為男子組")) | Q78: =IF(O78="D",YEAR(NOW())-$P$5,IF(O78="C",YEAR(NOW())-$O$5,IF(O78="F",YEAR(NOW())-$Q$5,IF(O78=0,"",O78)))) | R78: =IF(E78=0,"",IF(MOD(E78,2)=0,"",VLOOKUP(E78,$L$23:$Q$63,6,FALSE))) | S78: =IF(D78=0,"",VLOOKUP(E78,$L$24:$Q$63,4,FALSE)) | T78: =IF(R78="","",IF(S78="C",IF(H78>=R78,"OK","FAIL"),IF(S78="F",IF(H78<=R78,"OK","FAIL"),IF(S78="D",IF(AND(H78<=R78,H78>=U78),"OK","FAIL"),IF(U78="",IF(H78=S78,"OK","FAIL"),IF(U78="9U",IF(H78<=9,"OK","FAIL"),IF(U78="UP",IF(H78>=15,"OK","FAIL"),IF(U78="DN",IF(H78<=7,"OK","FAIL"))))))))) | U78: =IF(R78="15U","UP",IF(R78="7D","DN",IF(R78="9U","9U",IF(S78="D",10,""))))
F79: =IF(E79="","",VLOOKUP(E79,報名總表及收費!$I$29:$L$110,4)) | H79: =IF(D79=0,"",YEAR(NOW())-D79) | J79: =IF(E79="","",IF(((VLOOKUP(E79,$L$24:$Q$66,5))<G79),"報項時間慢於達標時間",""))&IF(T79="FAIL"," 運動員錯組別","")&IF(E79="","",IF(MOD(E79,2)=1,""," 項目編號為男子組")) | Q79: =IF(O79="D",YEAR(NOW())-$P$5,IF(O79="C",YEAR(NOW())-$O$5,IF(O79="F",YEAR(NOW())-$Q$5,IF(O79=0,"",O79)))) | R79: =IF(E79=0,"",IF(MOD(E79,2)=0,"",VLOOKUP(E79,$L$23:$Q$63,6,FALSE))) | S79: =IF(D79=0,"",VLOOKUP(E79,$L$24:$Q$63,4,FALSE)) | T79: =IF(R79="","",IF(S79="C",IF(H79>=R79,"OK","FAIL"),IF(S79="F",IF(H79<=R79,"OK","FAIL"),IF(S79="D",IF(AND(H79<=R79,H79>=U79),"OK","FAIL"),IF(U79="",IF(H79=S79,"OK","FAIL"),IF(U79="9U",IF(H79<=9,"OK","FAIL"),IF(U79="UP",IF(H79>=15,"OK","FAIL"),IF(U79="DN",IF(H79<=7,"OK","FAIL"))))))))) | U79: =IF(R79="15U","UP",IF(R79="7D","DN",IF(R79="9U","9U",IF(S79="D",10,""))))
A80: 女運動員 15 | F80: =IF(E80="","",VLOOKUP(E80,報名總表及收費!$I$29:$L$110,4)) | H80: =IF(D80=0,"",YEAR(NOW())-D80) | J80: =IF(E80="","",IF(((VLOOKUP(E80,$L$24:$Q$66,5))<G80),"報項時間慢於達標時間",""))&IF(T80="FAIL"," 運動員錯組別","")&IF(E80="","",IF(MOD(E80,2)=1,""," 項目編號為男子組")) | Q80: =IF(O80="D",YEAR(NOW())-$P$5,IF(O80="C",YEAR(NOW())-$O$5,IF(O80="F",YEAR(NOW())-$Q$5,IF(O80=0,"",O80)))) | R80: =IF(E80=0,"",IF(MOD(E80,2)=0,"",VLOOKUP(E80,$L$23:$Q$63,6,FALSE))) | S80: =IF(D80=0,"",VLOOKUP(E80,$L$24:$Q$63,4,FALSE)) | T80: =IF(R80="","",IF(S80="C",IF(H80>=R80,"OK","FAIL"),IF(S80="F",IF(H80<=R80,"OK","FAIL"),IF(S80="D",IF(AND(H80<=R80,H80>=U80),"OK","FAIL"),IF(U80="",IF(H80=S80,"OK","FAIL"),IF(U80="9U",IF(H80<=9,"OK","FAIL"),IF(U80="UP",IF(H80>=15,"OK","FAIL"),IF(U80="DN",IF(H80<=7,"OK","FAIL"))))))))) | U80: =IF(R80="15U","UP",IF(R80="7D","DN",IF(R80="9U","9U",IF(S80="D",10,""))))
F81: =IF(E81="","",VLOOKUP(E81,報名總表及收費!$I$29:$L$110,4)) | H81: =IF(D81=0,"",YEAR(NOW())-D81) | J81: =IF(E81="","",IF(((VLOOKUP(E81,$L$24:$Q$66,5))<G81),"報項時間慢於達標時間",""))&IF(T81="FAIL"," 運動員錯組別","")&IF(E81="","",IF(MOD(E81,2)=1,""," 項目編號為男子組")) | Q81: =IF(O81="D",YEAR(NOW())-$P$5,IF(O81="C",YEAR(NOW())-$O$5,IF(O81="F",YEAR(NOW())-$Q$5,IF(O81=0,"",O81)))) | R81: =IF(E81=0,"",IF(MOD(E81,2)=0,"",VLOOKUP(E81,$L$23:$Q$63,6,FALSE))) | S81: =IF(D81=0,"",VLOOKUP(E81,$L$24:$Q$63,4,FALSE)) | T81: =IF(R81="","",IF(S81="C",IF(H81>=R81,"OK","FAIL"),IF(S81="F",IF(H81<=R81,"OK","FAIL"),IF(S81="D",IF(AND(H81<=R81,H81>=U81),"OK","FAIL"),IF(U81="",IF(H81=S81,"OK","FAIL"),IF(U81="9U",IF(H81<=9,"OK","FAIL"),IF(U81="UP",IF(H81>=15,"OK","FAIL"),IF(U81="DN",IF(H81<=7,"OK","FAIL"))))))))) | U81: =IF(R81="15U","UP",IF(R81="7D","DN",IF(R81="9U","9U",IF(S81="D",10,""))))
F82: =IF(E82="","",VLOOKUP(E82,報名總表及收費!$I$29:$L$110,4)) | H82: =IF(D82=0,"",YEAR(NOW())-D82) | J82: =IF(E82="","",IF(((VLOOKUP(E82,$L$24:$Q$66,5))<G82),"報項時間慢於達標時間",""))&IF(T82="FAIL"," 運動員錯組別","")&IF(E82="","",IF(MOD(E82,2)=1,""," 項目編號為男子組")) | Q82: =IF(O82="D",YEAR(NOW())-$P$5,IF(O82="C",YEAR(NOW())-$O$5,IF(O82="F",YEAR(NOW())-$Q$5,IF(O82=0,"",O82)))) | R82: =IF(E82=0,"",IF(MOD(E82,2)=0,"",VLOOKUP(E82,$L$23:$Q$63,6,FALSE))) | S82: =IF(D82=0,"",VLOOKUP(E82,$L$24:$Q$63,4,FALSE)) | T82: =IF(R82="","",IF(S82="C",IF(H82>=R82,"OK","FAIL"),IF(S82="F",IF(H82<=R82,"OK","FAIL"),IF(S82="D",IF(AND(H82<=R82,H82>=U82),"OK","FAIL"),IF(U82="",IF(H82=S82,"OK","FAIL"),IF(U82="9U",IF(H82<=9,"OK","FAIL"),IF(U82="UP",IF(H82>=15,"OK","FAIL"),IF(U82="DN",IF(H82<=7,"OK","FAIL"))))))))) | U82: =IF(R82="15U","UP",IF(R82="7D","DN",IF(R82="9U","9U",IF(S82="D",10,""))))
F83: =IF(E83="","",VLOOKUP(E83,報名總表及收費!$I$29:$L$110,4)) | H83: =IF(D83=0,"",YEAR(NOW())-D83) | J83: =IF(E83="","",IF(((VLOOKUP(E83,$L$24:$Q$66,5))<G83),"報項時間慢於達標時間",""))&IF(T83="FAIL"," 運動員錯組別","")&IF(E83="","",IF(MOD(E83,2)=1,""," 項目編號為男子組")) | Q83: =IF(O83="D",YEAR(NOW())-$P$5,IF(O83="C",YEAR(NOW())-$O$5,IF(O83="F",YEAR(NOW())-$Q$5,IF(O83=0,"",O83)))) | R83: =IF(E83=0,"",IF(MOD(E83,2)=0,"",VLOOKUP(E83,$L$23:$Q$63,6,FALSE))) | S83: =IF(D83=0,"",VLOOKUP(E83,$L$24:$Q$63,4,FALSE)) | T83: =IF(R83="","",IF(S83="C",IF(H83>=R83,"OK","FAIL"),IF(S83="F",IF(H83<=R83,"OK","FAIL"),IF(S83="D",IF(AND(H83<=R83,H83>=U83),"OK","FAIL"),IF(U83="",IF(H83=S83,"OK","FAIL"),IF(U83="9U",IF(H83<=9,"OK","FAIL"),IF(U83="UP",IF(H83>=15,"OK","FAIL"),IF(U83="DN",IF(H83<=7,"OK","FAIL"))))))))) | U83: =IF(R83="15U","UP",IF(R83="7D","DN",IF(R83="9U","9U",IF(S83="D",10,""))))
A84: 女運動員 16 | F84: =IF(E84="","",VLOOKUP(E84,報名總表及收費!$I$29:$L$110,4)) | H84: =IF(D84=0,"",YEAR(NOW())-D84) | J84: =IF(E84="","",IF(((VLOOKUP(E84,$L$24:$Q$66,5))<G84),"報項時間慢於達標時間",""))&IF(T84="FAIL"," 運動員錯組別","")&IF(E84="","",IF(MOD(E84,2)=1,""," 項目編號為男子組")) | Q84: =IF(O84="D",YEAR(NOW())-$P$5,IF(O84="C",YEAR(NOW())-$O$5,IF(O84="F",YEAR(NOW())-$Q$5,IF(O84=0,"",O84)))) | R84: =IF(E84=0,"",IF(MOD(E84,2)=0,"",VLOOKUP(E84,$L$23:$Q$63,6,FALSE))) | S84: =IF(D84=0,"",VLOOKUP(E84,$L$24:$Q$63,4,FALSE)) | T84: =IF(R84="","",IF(S84="C",IF(H84>=R84,"OK","FAIL"),IF(S84="F",IF(H84<=R84,"OK","FAIL"),IF(S84="D",IF(AND(H84<=R84,H84>=U84),"OK","FAIL"),IF(U84="",IF(H84=S84,"OK","FAIL"),IF(U84="9U",IF(H84<=9,"OK","FAIL"),IF(U84="UP",IF(H84>=15,"OK","FAIL"),IF(U84="DN",IF(H84<=7,"OK","FAIL"))))))))) | U84: =IF(R84="15U","UP",IF(R84="7D","DN",IF(R84="9U","9U",IF(S84="D",10,""))))
F85: =IF(E85="","",VLOOKUP(E85,報名總表及收費!$I$29:$L$110,4)) | H85: =IF(D85=0,"",YEAR(NOW())-D85) | J85: =IF(E85="","",IF(((VLOOKUP(E85,$L$24:$Q$66,5))<G85),"報項時間慢於達標時間",""))&IF(T85="FAIL"," 運動員錯組別","")&IF(E85="","",IF(MOD(E85,2)=1,""," 項目編號為男子組")) | Q85: =IF(O85="D",YEAR(NOW())-$P$5,IF(O85="C",YEAR(NOW())-$O$5,IF(O85="F",YEAR(NOW())-$Q$5,IF(O85=0,"",O85)))) | R85: =IF(E85=0,"",IF(MOD(E85,2)=0,"",VLOOKUP(E85,$L$23:$Q$63,6,FALSE))) | S85: =IF(D85=0,"",VLOOKUP(E85,$L$24:$Q$63,4,FALSE)) | T85: =IF(R85="","",IF(S85="C",IF(H85>=R85,"OK","FAIL"),IF(S85="F",IF(H85<=R85,"OK","FAIL"),IF(S85="D",IF(AND(H85<=R85,H85>=U85),"OK","FAIL"),IF(U85="",IF(H85=S85,"OK","FAIL"),IF(U85="9U",IF(H85<=9,"OK","FAIL"),IF(U85="UP",IF(H85>=15,"OK","FAIL"),IF(U85="DN",IF(H85<=7,"OK","FAIL"))))))))) | U85: =IF(R85="15U","UP",IF(R85="7D","DN",IF(R85="9U","9U",IF(S85="D",10,""))))
F86: =IF(E86="","",VLOOKUP(E86,報名總表及收費!$I$29:$L$110,4)) | H86: =IF(D86=0,"",YEAR(NOW())-D86) | J86: =IF(E86="","",IF(((VLOOKUP(E86,$L$24:$Q$66,5))<G86),"報項時間慢於達標時間",""))&IF(T86="FAIL"," 運動員錯組別","")&IF(E86="","",IF(MOD(E86,2)=1,""," 項目編號為男子組")) | Q86: =IF(O86="D",YEAR(NOW())-$P$5,IF(O86="C",YEAR(NOW())-$O$5,IF(O86="F",YEAR(NOW())-$Q$5,IF(O86=0,"",O86)))) | R86: =IF(E86=0,"",IF(MOD(E86,2)=0,"",VLOOKUP(E86,$L$23:$Q$63,6,FALSE))) | S86: =IF(D86=0,"",VLOOKUP(E86,$L$24:$Q$63,4,FALSE)) | T86: =IF(R86="","",IF(S86="C",IF(H86>=R86,"OK","FAIL"),IF(S86="F",IF(H86<=R86,"OK","FAIL"),IF(S86="D",IF(AND(H86<=R86,H86>=U86),"OK","FAIL"),IF(U86="",IF(H86=S86,"OK","FAIL"),IF(U86="9U",IF(H86<=9,"OK","FAIL"),IF(U86="UP",IF(H86>=15,"OK","FAIL"),IF(U86="DN",IF(H86<=7,"OK","FAIL"))))))))) | U86: =IF(R86="15U","UP",IF(R86="7D","DN",IF(R86="9U","9U",IF(S86="D",10,""))))
F87: =IF(E87="","",VLOOKUP(E87,報名總表及收費!$I$29:$L$110,4)) | H87: =IF(D87=0,"",YEAR(NOW())-D87) | J87: =IF(E87="","",IF(((VLOOKUP(E87,$L$24:$Q$66,5))<G87),"報項時間慢於達標時間",""))&IF(T87="FAIL"," 運動員錯組別","")&IF(E87="","",IF(MOD(E87,2)=1,""," 項目編號為男子組")) | Q87: =IF(O87="D",YEAR(NOW())-$P$5,IF(O87="C",YEAR(NOW())-$O$5,IF(O87="F",YEAR(NOW())-$Q$5,IF(O87=0,"",O87)))) | R87: =IF(E87=0,"",IF(MOD(E87,2)=0,"",VLOOKUP(E87,$L$23:$Q$63,6,FALSE))) | S87: =IF(D87=0,"",VLOOKUP(E87,$L$24:$Q$63,4,FALSE)) | T87: =IF(R87="","",IF(S87="C",IF(H87>=R87,"OK","FAIL"),IF(S87="F",IF(H87<=R87,"OK","FAIL"),IF(S87="D",IF(AND(H87<=R87,H87>=U87),"OK","FAIL"),IF(U87="",IF(H87=S87,"OK","FAIL"),IF(U87="9U",IF(H87<=9,"OK","FAIL"),IF(U87="UP",IF(H87>=15,"OK","FAIL"),IF(U87="DN",IF(H87<=7,"OK","FAIL"))))))))) | U87: =IF(R87="15U","UP",IF(R87="7D","DN",IF(R87="9U","9U",IF(S87="D",10,""))))
A88: 女運動員 17 | F88: =IF(E88="","",VLOOKUP(E88,報名總表及收費!$I$29:$L$110,4)) | H88: =IF(D88=0,"",YEAR(NOW())-D88) | J88: =IF(E88="","",IF(((VLOOKUP(E88,$L$24:$Q$66,5))<G88),"報項時間慢於達標時間",""))&IF(T88="FAIL"," 運動員錯組別","")&IF(E88="","",IF(MOD(E88,2)=1,""," 項目編號為男子組")) | Q88: =IF(O88="D",YEAR(NOW())-$P$5,IF(O88="C",YEAR(NOW())-$O$5,IF(O88="F",YEAR(NOW())-$Q$5,IF(O88=0,"",O88)))) | R88: =IF(E88=0,"",IF(MOD(E88,2)=0,"",VLOOKUP(E88,$L$23:$Q$63,6,FALSE))) | S88: =IF(D88=0,"",VLOOKUP(E88,$L$24:$Q$63,4,FALSE)) | T88: =IF(R88="","",IF(S88="C",IF(H88>=R88,"OK","FAIL"),IF(S88="F",IF(H88<=R88,"OK","FAIL"),IF(S88="D",IF(AND(H88<=R88,H88>=U88),"OK","FAIL"),IF(U88="",IF(H88=S88,"OK","FAIL"),IF(U88="9U",IF(H88<=9,"OK","FAIL"),IF(U88="UP",IF(H88>=15,"OK","FAIL"),IF(U88="DN",IF(H88<=7,"OK","FAIL"))))))))) | U88: =IF(R88="15U","UP",IF(R88="7D","DN",IF(R88="9U","9U",IF(S88="D",10,""))))
F89: =IF(E89="","",VLOOKUP(E89,報名總表及收費!$I$29:$L$110,4)) | H89: =IF(D89=0,"",YEAR(NOW())-D89) | J89: =IF(E89="","",IF(((VLOOKUP(E89,$L$24:$Q$66,5))<G89),"報項時間慢於達標時間",""))&IF(T89="FAIL"," 運動員錯組別","")&IF(E89="","",IF(MOD(E89,2)=1,""," 項目編號為男子組")) | Q89: =IF(O89="D",YEAR(NOW())-$P$5,IF(O89="C",YEAR(NOW())-$O$5,IF(O89="F",YEAR(NOW())-$Q$5,IF(O89=0,"",O89)))) | R89: =IF(E89=0,"",IF(MOD(E89,2)=0,"",VLOOKUP(E89,$L$23:$Q$63,6,FALSE))) | S89: =IF(D89=0,"",VLOOKUP(E89,$L$24:$Q$63,4,FALSE)) | T89: =IF(R89="","",IF(S89="C",IF(H89>=R89,"OK","FAIL"),IF(S89="F",IF(H89<=R89,"OK","FAIL"),IF(S89="D",IF(AND(H89<=R89,H89>=U89),"OK","FAIL"),IF(U89="",IF(H89=S89,"OK","FAIL"),IF(U89="9U",IF(H89<=9,"OK","FAIL"),IF(U89="UP",IF(H89>=15,"OK","FAIL"),IF(U89="DN",IF(H89<=7,"OK","FAIL"))))))))) | U89: =IF(R89="15U","UP",IF(R89="7D","DN",IF(R89="9U","9U",IF(S89="D",10,""))))
F90: =IF(E90="","",VLOOKUP(E90,報名總表及收費!$I$29:$L$110,4)) | H90: =IF(D90=0,"",YEAR(NOW())-D90) | J90: =IF(E90="","",IF(((VLOOKUP(E90,$L$24:$Q$66,5))<G90),"報項時間慢於達標時間",""))&IF(T90="FAIL"," 運動員錯組別","")&IF(E90="","",IF(MOD(E90,2)=1,""," 項目編號為男子組")) | Q90: =IF(O90="D",YEAR(NOW())-$P$5,IF(O90="C",YEAR(NOW())-$O$5,IF(O90="F",YEAR(NOW())-$Q$5,IF(O90=0,"",O90)))) | R90: =IF(E90=0,"",IF(MOD(E90,2)=0,"",VLOOKUP(E90,$L$23:$Q$63,6,FALSE))) | S90: =IF(D90=0,"",VLOOKUP(E90,$L$24:$Q$63,4,FALSE)) | T90: =IF(R90="","",IF(S90="C",IF(H90>=R90,"OK","FAIL"),IF(S90="F",IF(H90<=R90,"OK","FAIL"),IF(S90="D",IF(AND(H90<=R90,H90>=U90),"OK","FAIL"),IF(U90="",IF(H90=S90,"OK","FAIL"),IF(U90="9U",IF(H90<=9,"OK","FAIL"),IF(U90="UP",IF(H90>=15,"OK","FAIL"),IF(U90="DN",IF(H90<=7,"OK","FAIL"))))))))) | U90: =IF(R90="15U","UP",IF(R90="7D","DN",IF(R90="9U","9U",IF(S90="D",10,""))))
F91: =IF(E91="","",VLOOKUP(E91,報名總表及收費!$I$29:$L$110,4)) | H91: =IF(D91=0,"",YEAR(NOW())-D91) | J91: =IF(E91="","",IF(((VLOOKUP(E91,$L$24:$Q$66,5))<G91),"報項時間慢於達標時間",""))&IF(T91="FAIL"," 運動員錯組別","")&IF(E91="","",IF(MOD(E91,2)=1,""," 項目編號為男子組")) | Q91: =IF(O91="D",YEAR(NOW())-$P$5,IF(O91="C",YEAR(NOW())-$O$5,IF(O91="F",YEAR(NOW())-$Q$5,IF(O91=0,"",O91)))) | R91: =IF(E91=0,"",IF(MOD(E91,2)=0,"",VLOOKUP(E91,$L$23:$Q$63,6,FALSE))) | S91: =IF(D91=0,"",VLOOKUP(E91,$L$24:$Q$63,4,FALSE)) | T91: =IF(R91="","",IF(S91="C",IF(H91>=R91,"OK","FAIL"),IF(S91="F",IF(H91<=R91,"OK","FAIL"),IF(S91="D",IF(AND(H91<=R91,H91>=U91),"OK","FAIL"),IF(U91="",IF(H91=S91,"OK","FAIL"),IF(U91="9U",IF(H91<=9,"OK","FAIL"),IF(U91="UP",IF(H91>=15,"OK","FAIL"),IF(U91="DN",IF(H91<=7,"OK","FAIL"))))))))) | U91: =IF(R91="15U","UP",IF(R91="7D","DN",IF(R91="9U","9U",IF(S91="D",10,""))))
A92: 女運動員 18 | F92: =IF(E92="","",VLOOKUP(E92,報名總表及收費!$I$29:$L$110,4)) | H92: =IF(D92=0,"",YEAR(NOW())-D92) | J92: =IF(E92="","",IF(((VLOOKUP(E92,$L$24:$Q$66,5))<G92),"報項時間慢於達標時間",""))&IF(T92="FAIL"," 運動員錯組別","")&IF(E92="","",IF(MOD(E92,2)=1,""," 項目編號為男子組")) | Q92: =IF(O92="D",YEAR(NOW())-$P$5,IF(O92="C",YEAR(NOW())-$O$5,IF(O92="F",YEAR(NOW())-$Q$5,IF(O92=0,"",O92)))) | R92: =IF(E92=0,"",IF(MOD(E92,2)=0,"",VLOOKUP(E92,$L$23:$Q$63,6,FALSE))) | S92: =IF(D92=0,"",VLOOKUP(E92,$L$24:$Q$63,4,FALSE)) | T92: =IF(R92="","",IF(S92="C",IF(H92>=R92,"OK","FAIL"),IF(S92="F",IF(H92<=R92,"OK","FAIL"),IF(S92="D",IF(AND(H92<=R92,H92>=U92),"OK","FAIL"),IF(U92="",IF(H92=S92,"OK","FAIL"),IF(U92="9U",IF(H92<=9,"OK","FAIL"),IF(U92="UP",IF(H92>=15,"OK","FAIL"),IF(U92="DN",IF(H92<=7,"OK","FAIL"))))))))) | U92: =IF(R92="15U","UP",IF(R92="7D","DN",IF(R92="9U","9U",IF(S92="D",10,""))))
F93: =IF(E93="","",VLOOKUP(E93,報名總表及收費!$I$29:$L$110,4)) | H93: =IF(D93=0,"",YEAR(NOW())-D93) | J93: =IF(E93="","",IF(((VLOOKUP(E93,$L$24:$Q$66,5))<G93),"報項時間慢於達標時間",""))&IF(T93="FAIL"," 運動員錯組別","")&IF(E93="","",IF(MOD(E93,2)=1,""," 項目編號為男子組")) | Q93: =IF(O93="D",YEAR(NOW())-$P$5,IF(O93="C",YEAR(NOW())-$O$5,IF(O93="F",YEAR(NOW())-$Q$5,IF(O93=0,"",O93)))) | R93: =IF(E93=0,"",IF(MOD(E93,2)=0,"",VLOOKUP(E93,$L$23:$Q$63,6,FALSE))) | S93: =IF(D93=0,"",VLOOKUP(E93,$L$24:$Q$63,4,FALSE)) | T93: =IF(R93="","",IF(S93="C",IF(H93>=R93,"OK","FAIL"),IF(S93="F",IF(H93<=R93,"OK","FAIL"),IF(S93="D",IF(AND(H93<=R93,H93>=U93),"OK","FAIL"),IF(U93="",IF(H93=S93,"OK","FAIL"),IF(U93="9U",IF(H93<=9,"OK","FAIL"),IF(U93="UP",IF(H93>=15,"OK","FAIL"),IF(U93="DN",IF(H93<=7,"OK","FAIL"))))))))) | U93: =IF(R93="15U","UP",IF(R93="7D","DN",IF(R93="9U","9U",IF(S93="D",10,""))))
F94: =IF(E94="","",VLOOKUP(E94,報名總表及收費!$I$29:$L$110,4)) | H94: =IF(D94=0,"",YEAR(NOW())-D94) | J94: =IF(E94="","",IF(((VLOOKUP(E94,$L$24:$Q$66,5))<G94),"報項時間慢於達標時間",""))&IF(T94="FAIL"," 運動員錯組別","")&IF(E94="","",IF(MOD(E94,2)=1,""," 項目編號為男子組")) | Q94: =IF(O94="D",YEAR(NOW())-$P$5,IF(O94="C",YEAR(NOW())-$O$5,IF(O94="F",YEAR(NOW())-$Q$5,IF(O94=0,"",O94)))) | R94: =IF(E94=0,"",IF(MOD(E94,2)=0,"",VLOOKUP(E94,$L$23:$Q$63,6,FALSE))) | S94: =IF(D94=0,"",VLOOKUP(E94,$L$24:$Q$63,4,FALSE)) | T94: =IF(R94="","",IF(S94="C",IF(H94>=R94,"OK","FAIL"),IF(S94="F",IF(H94<=R94,"OK","FAIL"),IF(S94="D",IF(AND(H94<=R94,H94>=U94),"OK","FAIL"),IF(U94="",IF(H94=S94,"OK","FAIL"),IF(U94="9U",IF(H94<=9,"OK","FAIL"),IF(U94="UP",IF(H94>=15,"OK","FAIL"),IF(U94="DN",IF(H94<=7,"OK","FAIL"))))))))) | U94: =IF(R94="15U","UP",IF(R94="7D","DN",IF(R94="9U","9U",IF(S94="D",10,""))))
F95: =IF(E95="","",VLOOKUP(E95,報名總表及收費!$I$29:$L$110,4)) | H95: =IF(D95=0,"",YEAR(NOW())-D95) | J95: =IF(E95="","",IF(((VLOOKUP(E95,$L$24:$Q$66,5))<G95),"報項時間慢於達標時間",""))&IF(T95="FAIL"," 運動員錯組別","")&IF(E95="","",IF(MOD(E95,2)=1,""," 項目編號為男子組")) | Q95: =IF(O95="D",YEAR(NOW())-$P$5,IF(O95="C",YEAR(NOW())-$O$5,IF(O95="F",YEAR(NOW())-$Q$5,IF(O95=0,"",O95)))) | R95: =IF(E95=0,"",IF(MOD(E95,2)=0,"",VLOOKUP(E95,$L$23:$Q$63,6,FALSE))) | S95: =IF(D95=0,"",VLOOKUP(E95,$L$24:$Q$63,4,FALSE)) | T95: =IF(R95="","",IF(S95="C",IF(H95>=R95,"OK","FAIL"),IF(S95="F",IF(H95<=R95,"OK","FAIL"),IF(S95="D",IF(AND(H95<=R95,H95>=U95),"OK","FAIL"),IF(U95="",IF(H95=S95,"OK","FAIL"),IF(U95="9U",IF(H95<=9,"OK","FAIL"),IF(U95="UP",IF(H95>=15,"OK","FAIL"),IF(U95="DN",IF(H95<=7,"OK","FAIL"))))))))) | U95: =IF(R95="15U","UP",IF(R95="7D","DN",IF(R95="9U","9U",IF(S95="D",10,""))))
A96: 女運動員 19 | F96: =IF(E96="","",VLOOKUP(E96,報名總表及收費!$I$29:$L$110,4)) | H96: =IF(D96=0,"",YEAR(NOW())-D96) | J96: =IF(E96="","",IF(((VLOOKUP(E96,$L$24:$Q$66,5))<G96),"報項時間慢於達標時間",""))&IF(T96="FAIL"," 運動員錯組別","")&IF(E96="","",IF(MOD(E96,2)=1,""," 項目編號為男子組")) | Q96: =IF(O96="D",YEAR(NOW())-$P$5,IF(O96="C",YEAR(NOW())-$O$5,IF(O96="F",YEAR(NOW())-$Q$5,IF(O96=0,"",O96)))) | R96: =IF(E96=0,"",IF(MOD(E96,2)=0,"",VLOOKUP(E96,$L$23:$Q$63,6,FALSE))) | S96: =IF(D96=0,"",VLOOKUP(E96,$L$24:$Q$63,4,FALSE)) | T96: =IF(R96="","",IF(S96="C",IF(H96>=R96,"OK","FAIL"),IF(S96="F",IF(H96<=R96,"OK","FAIL"),IF(S96="D",IF(AND(H96<=R96,H96>=U96),"OK","FAIL"),IF(U96="",IF(H96=S96,"OK","FAIL"),IF(U96="9U",IF(H96<=9,"OK","FAIL"),IF(U96="UP",IF(H96>=15,"OK","FAIL"),IF(U96="DN",IF(H96<=7,"OK","FAIL"))))))))) | U96: =IF(R96="15U","UP",IF(R96="7D","DN",IF(R96="9U","9U",IF(S96="D",10,""))))
F97: =IF(E97="","",VLOOKUP(E97,報名總表及收費!$I$29:$L$110,4)) | H97: =IF(D97=0,"",YEAR(NOW())-D97) | J97: =IF(E97="","",IF(((VLOOKUP(E97,$L$24:$Q$66,5))<G97),"報項時間慢於達標時間",""))&IF(T97="FAIL"," 運動員錯組別","")&IF(E97="","",IF(MOD(E97,2)=1,""," 項目編號為男子組")) | Q97: =IF(O97="D",YEAR(NOW())-$P$5,IF(O97="C",YEAR(NOW())-$O$5,IF(O97="F",YEAR(NOW())-$Q$5,IF(O97=0,"",O97)))) | R97: =IF(E97=0,"",IF(MOD(E97,2)=0,"",VLOOKUP(E97,$L$23:$Q$63,6,FALSE))) | S97: =IF(D97=0,"",VLOOKUP(E97,$L$24:$Q$63,4,FALSE)) | T97: =IF(R97="","",IF(S97="C",IF(H97>=R97,"OK","FAIL"),IF(S97="F",IF(H97<=R97,"OK","FAIL"),IF(S97="D",IF(AND(H97<=R97,H97>=U97),"OK","FAIL"),IF(U97="",IF(H97=S97,"OK","FAIL"),IF(U97="9U",IF(H97<=9,"OK","FAIL"),IF(U97="UP",IF(H97>=15,"OK","FAIL"),IF(U97="DN",IF(H97<=7,"OK","FAIL"))))))))) | U97: =IF(R97="15U","UP",IF(R97="7D","DN",IF(R97="9U","9U",IF(S97="D",10,""))))
F98: =IF(E98="","",VLOOKUP(E98,報名總表及收費!$I$29:$L$110,4)) | H98: =IF(D98=0,"",YEAR(NOW())-D98) | J98: =IF(E98="","",IF(((VLOOKUP(E98,$L$24:$Q$66,5))<G98),"報項時間慢於達標時間",""))&IF(T98="FAIL"," 運動員錯組別","")&IF(E98="","",IF(MOD(E98,2)=1,""," 項目編號為男子組")) | Q98: =IF(O98="D",YEAR(NOW())-$P$5,IF(O98="C",YEAR(NOW())-$O$5,IF(O98="F",YEAR(NOW())-$Q$5,IF(O98=0,"",O98)))) | R98: =IF(E98=0,"",IF(MOD(E98,2)=0,"",VLOOKUP(E98,$L$23:$Q$63,6,FALSE))) | S98: =IF(D98=0,"",VLOOKUP(E98,$L$24:$Q$63,4,FALSE)) | T98: =IF(R98="","",IF(S98="C",IF(H98>=R98,"OK","FAIL"),IF(S98="F",IF(H98<=R98,"OK","FAIL"),IF(S98="D",IF(AND(H98<=R98,H98>=U98),"OK","FAIL"),IF(U98="",IF(H98=S98,"OK","FAIL"),IF(U98="9U",IF(H98<=9,"OK","FAIL"),IF(U98="UP",IF(H98>=15,"OK","FAIL"),IF(U98="DN",IF(H98<=7,"OK","FAIL"))))))))) | U98: =IF(R98="15U","UP",IF(R98="7D","DN",IF(R98="9U","9U",IF(S98="D",10,""))))
F99: =IF(E99="","",VLOOKUP(E99,報名總表及收費!$I$29:$L$110,4)) | H99: =IF(D99=0,"",YEAR(NOW())-D99) | J99: =IF(E99="","",IF(((VLOOKUP(E99,$L$24:$Q$66,5))<G99),"報項時間慢於達標時間",""))&IF(T99="FAIL"," 運動員錯組別","")&IF(E99="","",IF(MOD(E99,2)=1,""," 項目編號為男子組")) | Q99: =IF(O99="D",YEAR(NOW())-$P$5,IF(O99="C",YEAR(NOW())-$O$5,IF(O99="F",YEAR(NOW())-$Q$5,IF(O99=0,"",O99)))) | R99: =IF(E99=0,"",IF(MOD(E99,2)=0,"",VLOOKUP(E99,$L$23:$Q$63,6,FALSE))) | S99: =IF(D99=0,"",VLOOKUP(E99,$L$24:$Q$63,4,FALSE)) | T99: =IF(R99="","",IF(S99="C",IF(H99>=R99,"OK","FAIL"),IF(S99="F",IF(H99<=R99,"OK","FAIL"),IF(S99="D",IF(AND(H99<=R99,H99>=U99),"OK","FAIL"),IF(U99="",IF(H99=S99,"OK","FAIL"),IF(U99="9U",IF(H99<=9,"OK","FAIL"),IF(U99="UP",IF(H99>=15,"OK","FAIL"),IF(U99="DN",IF(H99<=7,"OK","FAIL"))))))))) | U99: =IF(R99="15U","UP",IF(R99="7D","DN",IF(R99="9U","9U",IF(S99="D",10,""))))
A100: 女運動員 20 | F100: =IF(E100="","",VLOOKUP(E100,報名總表及收費!$I$29:$L$110,4)) | H100: =IF(D100=0,"",YEAR(NOW())-D100) | J100: =IF(E100="","",IF(((VLOOKUP(E100,$L$24:$Q$66,5))<G100),"報項時間慢於達標時間",""))&IF(T100="FAIL"," 運動員錯組別","")&IF(E100="","",IF(MOD(E100,2)=1,""," 項目編號為男子組")) | Q100: =IF(O100="D",YEAR(NOW())-$P$5,IF(O100="C",YEAR(NOW())-$O$5,IF(O100="F",YEAR(NOW())-$Q$5,IF(O100=0,"",O100)))) | R100: =IF(E100=0,"",IF(MOD(E100,2)=0,"",VLOOKUP(E100,$L$23:$Q$63,6,FALSE))) | S100: =IF(D100=0,"",VLOOKUP(E100,$L$24:$Q$63,4,FALSE)) | T100: =IF(R100="","",IF(S100="C",IF(H100>=R100,"OK","FAIL"),IF(S100="F",IF(H100<=R100,"OK","FAIL"),IF(S100="D",IF(AND(H100<=R100,H100>=U100),"OK","FAIL"),IF(U100="",IF(H100=S100,"OK","FAIL"),IF(U100="9U",IF(H100<=9,"OK","FAIL"),IF(U100="UP",IF(H100>=15,"OK","FAIL"),IF(U100="DN",IF(H100<=7,"OK","FAIL"))))))))) | U100: =IF(R100="15U","UP",IF(R100="7D","DN",IF(R100="9U","9U",IF(S100="D",10,""))))
F101: =IF(E101="","",VLOOKUP(E101,報名總表及收費!$I$29:$L$110,4)) | H101: =IF(D101=0,"",YEAR(NOW())-D101) | J101: =IF(E101="","",IF(((VLOOKUP(E101,$L$24:$Q$66,5))<G101),"報項時間慢於達標時間",""))&IF(T101="FAIL"," 運動員錯組別","")&IF(E101="","",IF(MOD(E101,2)=1,""," 項目編號為男子組")) | Q101: =IF(O101="D",YEAR(NOW())-$P$5,IF(O101="C",YEAR(NOW())-$O$5,IF(O101="F",YEAR(NOW())-$Q$5,IF(O101=0,"",O101)))) | R101: =IF(E101=0,"",IF(MOD(E101,2)=0,"",VLOOKUP(E101,$L$23:$Q$63,6,FALSE))) | S101: =IF(D101=0,"",VLOOKUP(E101,$L$24:$Q$63,4,FALSE)) | T101: =IF(R101="","",IF(S101="C",IF(H101>=R101,"OK","FAIL"),IF(S101="F",IF(H101<=R101,"OK","FAIL"),IF(S101="D",IF(AND(H101<=R101,H101>=U101),"OK","FAIL"),IF(U101="",IF(H101=S101,"OK","FAIL"),IF(U101="9U",IF(H101<=9,"OK","FAIL"),IF(U101="UP",IF(H101>=15,"OK","FAIL"),IF(U101="DN",IF(H101<=7,"OK","FAIL"))))))))) | U101: =IF(R101="15U","UP",IF(R101="7D","DN",IF(R101="9U","9U",IF(S101="D",10,""))))
F102: =IF(E102="","",VLOOKUP(E102,報名總表及收費!$I$29:$L$110,4)) | H102: =IF(D102=0,"",YEAR(NOW())-D102) | J102: =IF(E102="","",IF(((VLOOKUP(E102,$L$24:$Q$66,5))<G102),"報項時間慢於達標時間",""))&IF(T102="FAIL"," 運動員錯組別","")&IF(E102="","",IF(MOD(E102,2)=1,""," 項目編號為男子組")) | Q102: =IF(O102="D",YEAR(NOW())-$P$5,IF(O102="C",YEAR(NOW())-$O$5,IF(O102="F",YEAR(NOW())-$Q$5,IF(O102=0,"",O102)))) | R102: =IF(E102=0,"",IF(MOD(E102,2)=0,"",VLOOKUP(E102,$L$23:$Q$63,6,FALSE))) | S102: =IF(D102=0,"",VLOOKUP(E102,$L$24:$Q$63,4,FALSE)) | T102: =IF(R102="","",IF(S102="C",IF(H102>=R102,"OK","FAIL"),IF(S102="F",IF(H102<=R102,"OK","FAIL"),IF(S102="D",IF(AND(H102<=R102,H102>=U102),"OK","FAIL"),IF(U102="",IF(H102=S102,"OK","FAIL"),IF(U102="9U",IF(H102<=9,"OK","FAIL"),IF(U102="UP",IF(H102>=15,"OK","FAIL"),IF(U102="DN",IF(H102<=7,"OK","FAIL"))))))))) | U102: =IF(R102="15U","UP",IF(R102="7D","DN",IF(R102="9U","9U",IF(S102="D",10,""))))
F103: =IF(E103="","",VLOOKUP(E103,報名總表及收費!$I$29:$L$110,4)) | H103: =IF(D103=0,"",YEAR(NOW())-D103) | J103: =IF(E103="","",IF(((VLOOKUP(E103,$L$24:$Q$66,5))<G103),"報項時間慢於達標時間",""))&IF(T103="FAIL"," 運動員錯組別","")&IF(E103="","",IF(MOD(E103,2)=1,""," 項目編號為男子組")) | Q103: =IF(O103="D",YEAR(NOW())-$P$5,IF(O103="C",YEAR(NOW())-$O$5,IF(O103="F",YEAR(NOW())-$Q$5,IF(O103=0,"",O103)))) | R103: =IF(E103=0,"",IF(MOD(E103,2)=0,"",VLOOKUP(E103,$L$23:$Q$63,6,FALSE))) | S103: =IF(D103=0,"",VLOOKUP(E103,$L$24:$Q$63,4,FALSE)) | T103: =IF(R103="","",IF(S103="C",IF(H103>=R103,"OK","FAIL"),IF(S103="F",IF(H103<=R103,"OK","FAIL"),IF(S103="D",IF(AND(H103<=R103,H103>=U103),"OK","FAIL"),IF(U103="",IF(H103=S103,"OK","FAIL"),IF(U103="9U",IF(H103<=9,"OK","FAIL"),IF(U103="UP",IF(H103>=15,"OK","FAIL"),IF(U103="DN",IF(H103<=7,"OK","FAIL"))))))))) | U103: =IF(R103="15U","UP",IF(R103="7D","DN",IF(R103="9U","9U",IF(S103="D",10,""))))
...

Sheet 運動員註冊表
A1: 香港中華業餘游泳聯會
A2: 電子郵件: hkcasa.org.hk@gmail.com
A3: 2023年度屬會泳員註冊表 (電子版本)
A5: 請注意以下事項︰
A6: 1. 任何時間均接受運動員註冊，請於截止報名比賽日期或之前完成運動員註冊程序
A7: 2. 運動員註冊費全免
A8: 3. 如有懷疑，本會有權要求屬會提交運動員身份証明文件以茲核實
D11: 屬會名稱 | E11: =IF(報名總表及收費!B10=0,"",報名總表及收費!B10)
B13: 中文姓名 | C13: 英文姓名 | D13: 性別 | E13: 出生日期 (yyyy/mm/dd) | F13: 證件號碼 (只需填英文字母及前 4 位數字)
A14: 1
A15: 2
A16: 3
A17: 4
A18: 5
A19: 6
A20: 7
A21: 8
A22: 9
A23: 10
A24: 11
A25: 12
... A213: 200
