Workbook

Sheet 報名總表及收費
A1: 香港中華業餘游泳聯會 比賽報名總表及收據 | H1: 比賽名稱 | I1: 比賽日期 | J1: 比賽地點 | M1: A | N1: B | O1: C | P1: D | Q1: E | R1: F | AO1: Fee (Ind) | AP1: Fee (Relay)
H2: 屬會新秀游泳比賽(第一天) | I2: 45053 | J2: 大環山游泳池 | L2: 新秀1 | S2: 新秀賽3項 | T2: 4 | U2: 4X50米四式階梯接力 | V2: 32 | W2: 4X50米自由式階梯接力 | X2: 34 | AE2: 4X50米四式階梯接力 | AF2: 31 | AG2: 4X50米自由式階梯接力 | AH2: 33 | AO2: 15 | AP2: 30
A3: 填表注意事項: | H3: 屬會新秀游泳比賽(第二天) | I3: 45060 | J3: 大環山游泳池 | L3: 新秀2 | S3: 新秀賽3項 | T3: 4 | U3: 4X50米四式階梯接力 | V3: 34 | W3: 4X50米自由式階梯接力 | X3: 36 | AE3: 4X50米四式階梯接力 | AF3: 33 | AG3: 4X50米自由式階梯接力 | AH3: 35 | AO3: 15 | AP3: 30
H4: 周年(長池)游泳錦標賽 | I4: 7,23/7/2023 | J4: 中山公園游泳池 | L4: 周年 | M4: 2007 | N4: 2008 | O4: 2008 | P4: 2009 | S4: 週年賽4項 | T4: 4 | U4: 男甲 4X100米混合泳接力 | V4: 28 | W4: 男乙 4X100米混合泳接力 | X4: 30 | Y4: 男甲 4X100米自由泳接力 | Z4: 58 | AA4: 男乙 4X100米自由泳接力 | AB4: 60 | AE4: 女甲 4X100米混合泳接力 | AF4: 27 | AG4: 女乙 4X100米混合泳接力 | AH4: 29 | AI4: 女甲 4X100米自由泳接力 | AJ4: 57 | AK4: 女乙 4X100米自由泳接力 | AL4: 59 | AO4: 15 | AP4: 30
A5: 1. 請先在此版面先填寫基本資料，其後相關資料會自動顯示所屬版面及位置上 | H5: 周年(短池)游泳錦標賽 | I5: 45256 | J5: 城門谷游泳池 | L5: 短池 | M5: 2007 | N5: 2008 | O5: 2008 | P5: 2009 | Q5: 2013 | R5: 2014 | S5: 週年賽4項 | T5: 4 | U5: 男甲 4X50米自由泳接力 | V5: 22 | W5: 男乙 4X50米自由泳接力 | X5: 24 | Y5: 男丙 4X50米自由泳接力 | Z5: 26 | AA5: 男甲 4X50米四式接力 | AB5: 52 | AC5: 男乙 4X50米四式接力 | AD5: 54 | AE5: 女甲 4X50米自由泳接力 | AF5: 21 | AG5: 女乙 4X50米自由泳接力 | AH5: 23 | AI5: 女丙 4X50米自由泳接力 | AJ5: 25 | AK5: 女甲 4X50米四式接力 | AL5: 41 | AM5: 女乙 4X50米四式接力 | AN5: 43 | AO5: 15 | AP5: 30
A6: 2. 報名格式及要求，請參閱報名版面 | H6: 第一屆嶺南杯少年游泳分齡邀請賽 | I6: 45151 | J6: 中山公園游泳池 | L6: 嶺南杯 | S6: 3項 | T6: 3 | U6: 男女子混合4X50米四式接力 | V6: 81 | W6: 男女子混合4x50米自由泳接力 | X6: 82 | AO6: 50 | AP6: 100
A7: 3. 請盡量使用Microsoft Excel填寫報名表，以獲得最佳效果。表格內所有提示只供參考。
A8: Google sheet 報名連結 | H8: 年齡 | I8: 1 | J8: 2 | K8: 3 | L8: 4 | M8: 5 | N8: 6 | O8: 7 | P8: 8 | Q8: 9 | R8: 10 | S8: 11 | T8: 12 | U8: 13 | V8: 14 | W8: 15 | X8: 16 | Y8: 17 | Z8: 18 | AA8: 19 | AB8: 20 | AC8: 21 | AD8: 22 | AE8: 23 | AF8: 24 | AG8: 25 | AH8: 26 | AI8: 27 | AJ8: 28 | AK8: 29 | AL8: 30 | AM8: 31 | AN8: 32 | AO8: 33 | AP8: 34 | AQ8: 35 | AR8: 36 | AS8: 37 | AT8: 38 | AU8: 39 | AV8: 40 | AW8: 41 | AX8: 42 | AY8: 43 | AZ8: 44 | BA8: 45 | BB8: 46 | BC8: 47 | BD8: 48 | BE8: 49 | BF8: 50 | BG8: 51 | BH8: 52 | BI8: 53 | BJ8: 54 | BK8: 55 | BL8: 56 | BM8: 57 | BN8: 58 | BO8: 59 | BP8: 60 | BQ8: 61 | BR8: 62 | BS8: 63 | BT8: 64 | BU8: 65 | BV8: 66 | BW8: 67 | BX8: 68 | BY8: 69 | BZ8: 70 | CA8: 71 | CB8: 72 | CC8: 73 | CD8: 74 | CE8: 75 | CF8: 76 | CG8: 77 | CH8: 78 | CI8: 79 | CJ8: 80 | CK8: 81 | CL8: 82
H9: 新秀1 | I9: 10 | J9: 10 | K9: 11 | L9: 11 | M9: 10 | N9: 10 | O9: 11 | P9: 11 | Q9: 10 | R9: 10 | S9: 11 | T9: 11 | U9: 10 | V9: 10 | W9: 11 | X9: 11 | Y9: 10 | Z9: 10 | AA9: 11 | AB9: 11 | AC9: 10 | AD9: 10 | AE9: 11 | AF9: 11 | AG9: 11 | AH9: 11 | AI9: 10 | AJ9: 10 | AK9: 11 | AL9: 11 | AQ9: 8 | AR9: 8 | AS9: 9 | AT9: 9 | AU9: 7D | AV9: 7D | AW9: 8 | AX9: 8 | AY9: 9 | AZ9: 9 | BA9: 8 | BB9: 8 | BC9: 9 | BD9: 9 | BE9: 7D | BF9: 7D | BG9: 8 | BH9: 8 | BI9: 9 | BJ9: 9 | BK9: 9 | BL9: 9 | BM9: 9 | BN9: 9
A10: 團體名稱: | E10: 比賽名稱: | F10: 周年(短池)游泳錦標賽 | H10: 新秀2 | I10: 14 | J10: 14 | K10: 15U | L10: 15U | M10: 14 | N10: 14 | O10: 15U | P10: 15U | Q10: 14 | R10: 14 | S10: 15U | T10: 15U | U10: 14 | V10: 14 | W10: 15U | X10: 15U | Y10: 14 | Z10: 14 | AA10: 15U | AB10: 15U | AC10: 14 | AD10: 14 | AE10: 15U | AF10: 15U | AG10: 14 | AH10: 14 | AI10: 15U | AJ10: 15U | AK10: 14 | AL10: 14 | AM10: 15U | AN10: 15U | AS10: 12 | AT10: 12 | AU10: 13 | AV10: 13 | AW10: 12 | AX10: 12 | AY10: 13 | AZ10: 13 | BA10: 12 | BB10: 12 | BC10: 13 | BD10: 13 | BE10: 12 | BF10: 12 | BG10: 13 | BH10: 13 | BI10: 12 | BJ10: 12 | BK10: 13 | BL10: 13 | BM10: 12 | BN10: 12 | BO10: 13 | BP10: 13 | BQ10: 12 | BR10: 12 | BS10: 13 | BT10: 13 | BU10: 12 | BV10: 12 | BW10: 13 | BX10: 13
A11: 負責人: | E11: 比賽日期: | F11: =IF($F$10="","",VLOOKUP($F$10,$H$2:$J$6,2,FALSE)) -> 45256 | H11: 周年 | I11: C | J11: A | K11: D | L11: B | M11: C | N11: A | O11: D | P11: B | Q11: C | R11: A | S11: C | T11: A | U11: D | V11: B | W11: C | X11: A | Y11: D | Z11: B | AA11: C | AB11: A | AC11: D | AD11: B | AE11: C | AF11: A | AG11: D | AH11: B | AI11: C | AJ11: A | AK11: D | AL11: B | AM11: C | AN11: A | AO11: D | AP11: B | AQ11: C | AR11: A | AS11: D | AT11: B | AU11: C | AV11: A | AW11: C | AX11: A | AY11: D | AZ11: B | BA11: C | BB11: A | BC11: D | BD11: B | BE11: C | BF11: A | BG11: D | BH11: B | BI11: C | BJ11: A | BK11: D | BL11: B | BM11: C | BN11: A | BO11: D | BP11: B
A12: 聯絡電話: | E12: 比賽地點: | F12: =IF($F$10="","",VLOOKUP($F$10,$H$2:$J$6,3,FALSE)) -> 城門谷游泳池 | H12: 短池 | I12: C | J12: A | K12: D | L12: B | M12: C | N12: A | O12: D | P12: B | Q12: F | R12: E | S12: C | T12: A | U12: D | V12: B | W12: C | X12: A | Y12: D | Z12: B | AA12: F | AB12: E | AC12: C | AD12: A | AE12: D | AF12: B | AG12: F | AH12: E | AI12: C | AJ12: A | AK12: D | AL12: B | AM12: C | AN12: A | AO12: D | AP12: B | AQ12: F | AR12: E | AS12: C | AT12: A | AU12: D | AV12: B | AW12: C | AX12: A | AY12: D | AZ12: B | BA12: F | BB12: E | BC12: C | BD12: A | BE12: D | BF12: B | BG12: C | BH12: A | BI12: D | BJ12: B
H13: 嶺南杯 | I13: 9U | J13: 9U | K13: 10 | L13: 10 | M13: 11 | N13: 11 | O13: 12 | P13: 12 | Q13: 13 | R13: 13 | S13: 9U | T13: 9U | U13: 10 | V13: 10 | W13: 11 | X13: 11 | Y13: 12 | Z13: 12 | AA13: 13 | AB13: 13 | AC13: 9U | AD13: 9U | AE13: 10 | AF13: 10 | AG13: 11 | AH13: 11 | AI13: 12 | AJ13: 12 | AK13: 13 | AL13: 13 | AM13: 9U | AN13: 9U | AO13: 10 | AP13: 10 | AQ13: 11 | AR13: 11 | AS13: 12 | AT13: 12 | AU13: 13 | AV13: 13 | AW13: 9U | AX13: 9U | AY13: 10 | AZ13: 10 | BA13: 11 | BB13: 11 | BC13: 12 | BD13: 12 | BE13: 13 | BF13: 13 | BG13: 9U | BH13: 9U | BI13: 10 | BJ13: 10 | BK13: 11 | BL13: 11 | BM13: 12 | BN13: 12 | BO13: 13 | BP13: 13 | BQ13: 9U | BR13: 9U | BS13: 10 | BT13: 10 | BU13: 11 | BV13: 11 | BW13: 12 | BX13: 12 | BY13: 13 | BZ13: 13 | CA13: 9U | CB13: 9U | CC13: 10 | CD13: 10 | CE13: 11 | CF13: 11 | CG13: 12 | CH13: 12 | CI13: 13 | CJ13: 13 | CK13: Open | CL13: Open
D14: 數量 | E14: 費用 | F14: 收費
C15: 單項(男) | D15: =COUNTA(男!E24:E163) -> 0 | E15: =H31 -> 15 | F15: =E15*D15 -> 0 | H15: 達標時間
H16: 新秀1
C17: 單項(女) | D17: =COUNTA(女!E24:E159) -> 0 | E17: =H31 -> 15 | F17: =E17*D17 -> 0 | H17: 新秀2
H18: 周年 | I18: 30000 | J18: 11003 | K18: 30000 | L18: 11003 | M18: 13656 | N18: 32000 | O18: 13656 | P18: 32000 | Q18: 33000 | R18: 31500 | S18: 14200 | T18: 14000 | U18: 14200 | V18: 14000 | W18: 3701 | X18: 3755 | Y18: 3701 | Z18: 3755 | AA18: 32500 | AB18: 60000 | AC18: 32500 | AD18: 60000 | AE18: 4300 | AF18: 3497 | AG18: 4300 | AH18: 3564 | AI18: 0 | AJ18: 0 | AK18: 0 | AL18: 0 | AM18: 13199 | AN18: 25000 | AO18: 13199 | AP18: 25000 | AQ18: 32000 | AR18: 12792 | AS18: 32000 | AT18: 12792 | AU18: 32000 | AV18: 32000 | AW18: 15000 | AX18: 12915 | AY18: 15000 | AZ18: 12915 | BA18: 4406 | BB18: 3108 | BC18: 4406 | BD18: 3108 | BE18: 63000 | BF18: 30370 | BG18: 63000 | BH18: 30370 | BI18: 4000 | BJ18: 3834 | BK18: 4000 | BL18: 3834 | BM18: 0 | BN18: 0 | BO18: 0 | BP18: 0
C19: 接力 | D19: =COUNTA(男!G16:G19)+COUNTA(女!G16:G20) -> 0 | E19: =H32 -> 30 | F19: =E19*D19 -> 0 | H19: 短池 | I19: 13400 | J19: 13000 | K19: 13600 | L19: 13200 | M19: 4200 | N19: 3900 | O19: 4500 | P19: 4200 | Q19: 5500 | R19: 5000 | S19: 13200 | T19: 12600 | U19: 13400 | V19: 12800 | W19: 3600 | X19: 3300 | Y19: 3900 | Z19: 3600 | AA19: 4300 | AB19: 4000 | AI19: 13300 | AJ19: 12600 | AK19: 13700 | AL19: 13200 | AM19: 4000 | AN19: 3600 | AO19: 4300 | AP19: 3800 | AQ19: 5000 | AR19: 4500 | AS19: 13700 | AT19: 12900 | AU19: 14200 | AV19: 13400 | AW19: 3800 | AX19: 3500 | AY19: 4000 | AZ19: 3800 | BA19: 5000 | BB19: 4500 | BC19: 12000 | BD19: 11400 | BE19: 12400 | BF19: 11900
H20: 嶺南杯 | I20: 4500 | J20: 4400 | K20: 4300 | L20: 4200 | M20: 4100 | N20: 4000 | O20: 4000 | P20: 3900 | Q20: 4000 | R20: 3900 | S20: 4700 | T20: 4600 | U20: 4600 | V20: 4500 | W20: 4500 | X20: 4400 | Y20: 4400 | Z20: 4300 | AA20: 4300 | AB20: 4200 | AC20: 15500 | AD20: 15300 | AE20: 15300 | AF20: 15100 | AG20: 15100 | AH20: 14900 | AI20: 14900 | AJ20: 14700 | AK20: 14700 | AL20: 14500 | AM20: 14500 | AN20: 14300 | AO20: 14300 | AP20: 14100 | AQ20: 14100 | AR20: 13900 | AS20: 13900 | AT20: 13700 | AU20: 13900 | AV20: 13700 | AW20: 14000 | AX20: 13800 | AY20: 13800 | AZ20: 13600 | BA20: 13600 | BB20: 13400 | BC20: 13400 | BD20: 13200 | BE20: 13200 | BF20: 13000 | BG20: 15200 | BH20: 15000 | BI20: 15000 | BJ20: 14800 | BK20: 14800 | BL20: 14600 | BM20: 14600 | BN20: 14400 | BO20: 14500 | BP20: 14200 | BQ20: 5000 | BR20: 4900 | BS20: 4900 | BT20: 4800 | BU20: 4800 | BV20: 4700 | BW20: 4700 | BX20: 4600 | BY20: 4600 | BZ20: 4500 | CA20: 4600 | CB20: 4500 | CC20: 4500 | CD20: 4400 | CE20: 4400 | CF20: 4300 | CG20: 4300 | CH20: 4200 | CI20: 4200 | CJ20: 4100
C21: 成績證書行政費 | D21: =男!N2+女!N2 -> 0 | E21: $40.00 | F21: =E21*D21 -> 0
H22: Events
C23: 領取證書方式: | H23: 新秀1 | I23: 100米背泳 | J23: 100米背泳 | K23: 100米背泳 | L23: 100米背泳 | M23: 100米蛙泳 | N23: 100米蛙泳 | O23: 100米蛙泳 | P23: 100米蛙泳 | Q23: 50米蝶泳 | R23: 50米蝶泳 | S23: 50米蝶泳 | T23: 50米蝶泳 | U23: 50米自由泳 | V23: 50米自由泳 | W23: 50米自由泳 | X23: 50米自由泳 | Y23: 50米背泳 | Z23: 50米背泳 | AA23: 50米背泳 | AB23: 50米背泳 | AC23: 50米蛙泳 | AD23: 50米蛙泳 | AE23: 50米蛙泳 | AF23: 50米蛙泳 | AG23: 100米蝶泳 | AH23: 100米蝶泳 | AI23: 100米自由泳 | AJ23: 100米自由泳 | AK23: 100米自由泳 | AL23: 100米自由泳 | AM23: 4X50米四式接力 | AN23: 4X50米四式接力 | AO23: 4X50米自由泳接力 | AP23: 4X50米自由泳接力 | AQ23: 50米背泳 | AR23: 50米背泳 | AS23: 50米背泳 | AT23: 50米背泳 | AU23: 50米蛙泳 | AV23: 50米蛙泳 | AW23: 50米蛙泳 | AX23: 50米蛙泳 | AY23: 50米蛙泳 | AZ23: 50米蛙泳 | BA23: 50米蝶泳 | BB23: 50米蝶泳 | BC23: 50米蝶泳 | BD23: 50米蝶泳 | BE23: 50米自由泳 | BF23: 50米自由泳 | BG23: 50米自由泳 | BH23: 50米自由泳 | BI23: 50米自由泳 | BJ23: 50米自由泳 | BK23: 100米蛙泳 | BL23: 100米蛙泳 | BM23: 100米自由泳 | BN23: 100米自由泳
H24: 新秀2 | I24: 100米背泳 | J24: 100米背泳 | K24: 100米背泳 | L24: 100米背泳 | M24: 100米蛙泳 | N24: 100米蛙泳 | O24: 100米蛙泳 | P24: 100米蛙泳 | Q24: 50米蝶泳 | R24: 50米蝶泳 | S24: 50米蝶泳 | T24: 50米蝶泳 | U24: 50米自由泳 | V24: 50米自由泳 | W24: 50米自由泳 | X24: 50米自由泳 | Y24: 50米背泳 | Z24: 50米背泳 | AA24: 50米背泳 | AB24: 50米背泳 | AC24: 50米蛙泳 | AD24: 50米蛙泳 | AE24: 50米蛙泳 | AF24: 50米蛙泳 | AG24: 100米蝶泳 | AH24: 100米蝶泳 | AI24: 100米蝶泳 | AJ24: 100米蝶泳 | AK24: 100米自由泳 | AL24: 100米自由泳 | AM24: 100米自由泳 | AN24: 100米自由泳 | AO24: 4X50米四式接力 | AP24: 4X50米四式接力 | AQ24: 4X50米自由泳接力 | AR24: 4X50米自由泳接力 | AS24: 100米背泳 | AT24: 100米背泳 | AU24: 100米背泳 | AV24: 100米背泳 | AW24: 100米蛙泳 | AX24: 100米蛙泳 | AY24: 100米蛙泳 | AZ24: 100米蛙泳 | BA24: 50米蝶泳 | BB24: 50米蝶泳 | BC24: 50米蝶泳 | BD24: 50米蝶泳 | BE24: 50米自由泳 | BF24: 50米自由泳 | BG24: 50米自由泳 | BH24: 50米自由泳 | BI24: 50米背泳 | BJ24: 50米背泳 | BK24: 50米背泳 | BL24: 50米背泳 | BM24: 50米蛙泳 | BN24: 50米蛙泳 | BO24: 50米蛙泳 | BP24: 50米蛙泳 | BQ24: 100米蝶泳 | BR24: 100米蝶泳 | BS24: 100米蝶泳 | BT24: 100米蝶泳 | BU24: 100米自由泳 | BV24: 100米自由泳 | BW24: 100米自由泳 | BX24: 100米自由泳
C25: 郵寄地址: | H25: 周年 | I25: 女甲 200米自由泳 | J25: 男甲 100米自由泳 | K25: 女乙 200米自由泳 | L25: 男乙 100米自由泳 | M25: 女甲 100米蛙泳 | N25: 男甲 200米蛙泳 | O25: 女乙 100米蛙泳 | P25: 男乙 200米蛙泳 | Q25: 女甲 200米背泳 | R25: 男甲 200米蝶泳 | S25: 女甲 100米蝶泳 | T25: 男甲 100米背泳 | U25: 女乙 100米蝶泳 | V25: 男乙 100米背泳 | W25: 女甲 50米自由泳 | X25: 男甲 50米蛙泳 | Y25: 女乙 50米自由泳 | Z25: 男乙 50米蛙泳 | AA25: 女甲 200米個人混合泳 | AB25: 男甲 400米自由泳 | AC25: 女乙 200米個人混合泳 | AD25: 男乙 400米自由泳 | AE25: 女甲 50米背泳 | AF25: 男甲 50米蝶泳 | AG25: 女乙 50米背泳 | AH25: 男乙 50米蝶泳 | AI25: 女甲 4X100米混合泳接力 | AJ25: 男甲 4X100米混合泳接力 | AK25: 女乙 4X100米混合泳接力 | AL25: 男乙 4X100米混合泳接力 | AM25: 女甲 100米自由泳 | AN25: 男甲 200米自由泳 | AO25: 女乙 100米自由泳 | AP25: 男乙 200米自由泳 | AQ25: 女甲 200米蛙泳 | AR25: 男甲 100米蛙泳 | AS25: 女乙 200米蛙泳 | AT25: 男乙 100米蛙泳 | AU25: 女甲 200米蝶泳 | AV25: 男甲 200米背泳 | AW25: 女甲 100米背泳 | AX25: 男甲 100米蝶泳 | AY25: 女乙 100米背泳 | AZ25: 男乙 100米蝶泳 | BA25: 女甲 50米蛙泳 | BB25: 男甲 50米自由泳 | BC25: 女乙 50米蛙泳 | BD25: 男乙 50米自由泳 | BE25: 女甲 400米自由泳 | BF25: 男甲 200米個人混合泳 | BG25: 女乙 400米自由泳 | BH25: 男乙 200米個人混合泳 | BI25: 女甲 50米蝶泳 | BJ25: 男甲 50米背泳 | BK25: 女乙 50米蝶泳 | BL25: 男乙 50米背泳 | BM25: 女甲 4X100米自由泳接力 | BN25: 男甲 4X100米自由泳接力 | BO25: 女乙 4X100米自由泳接力 | BP25: 男乙 4X100米自由泳接力
E26: 總收費 | F26: =F15+F17+F19+F21 -> 0 | H26: 短池 | I26: 女甲 100米背泳 | J26: 男甲 100米背泳 | K26: 女乙 100米背泳 | L26: 男乙 100米背泳 | M26: 女甲 50米蛙泳 | N26: 男甲 50米蛙泳 | O26: 女乙 50米蛙泳 | P26: 男乙 50米蛙泳 | Q26: 女丙 50米蛙泳 | R26: 男丙 50米蛙泳 | S26: 女甲 100米蝶泳 | T26: 男甲 100米蝶泳 | U26: 女乙 100米蝶泳 | V26: 男乙 100米蝶泳 | W26: 女甲 50米自由泳 | X26: 男甲 50米自由泳 | Y26: 女乙 50米自由泳 | Z26: 男乙 50米自由泳 | AA26: 女丙 50米自由泳 | AB26: 男丙 50米自由泳 | AC26: 女甲 4X50米自由泳接力 | AD26: 男甲 4X50米自由泳接力 | AE26: 女乙 4X50米自由泳接力 | AF26: 男乙 4X50米自由泳接力 | AG26: 女丙 4X50米自由泳接力 | AH26: 男丙 4X50米自由泳接力 | AI26: 女甲 100米個人混合泳 | AJ26: 男甲 100米個人混合泳 | AK26: 女乙 100米個人混合泳 | AL26: 男乙 100米個人混合泳 | AM26: 女甲 50米背泳 | AN26: 男甲 50米背泳 | AO26: 女乙 50米背泳 | AP26: 男乙 50米背泳 | AQ26: 女丙 50米背泳 | AR26: 男丙 50米背泳 | AS26: 女甲 100米蛙泳 | AT26: 男甲 100米蛙泳 | AU26: 女乙 100米蛙泳 | AV26: 男乙 100米蛙泳 | AW26: 女甲 50米蝶泳 | AX26: 男甲 50米蝶泳 | AY26: 女乙 50米蝶泳 | AZ26: 男乙 50米蝶泳 | BA26: 女丙 50米蝶泳 | BB26: 男丙 50米蝶泳 | BC26: 女甲 100米自由泳 | BD26: 男甲 100米自由泳 | BE26: 女乙 100米自由泳 | BF26: 男乙 100米自由泳 | BG26: 女甲 4X50米四式接力 | BH26: 男甲 4X50米四式接力 | BI26: 女乙 4X50米四式接力 | BJ26: 男乙 4X50米四式接力
H27: 嶺南杯 | I27: 女子9歲及以下50米自由泳 | J27: 男子9歲及以下50米自由泳 | K27: 女子10歲50米自由泳 | L27: 男子10歲50米自由泳 | M27: 女子11歲50米自由泳 | N27: 男子11歲50米自由泳 | O27: 女子12歲50米自由泳 | P27: 男子12歲50米自由泳 | Q27: 女子13歲50米自由泳 | R27: 男子13歲50米自由泳 | S27: 女子9歲及以下50米背泳 | T27: 男子9歲及以下50米背泳 | U27: 女子10歲50米背泳 | V27: 男子10歲50米背泳 | W27: 女子11歲50米背泳 | X27: 男子11歲50米背泳 | Y27: 女子12歲50米背泳 | Z27: 男子12歲50米背泳 | AA27: 女子13歲50米背泳 | AB27: 男子13歲50米背泳 | AC27: 女子9歲及以下100米蛙泳 | AD27: 男子9歲及以下100米蛙泳 | AE27: 女子10歲100米蛙泳 | AF27: 男子10歲100米蛙泳 | AG27: 女子11歲100米蛙泳 | AH27: 男子11歲100米蛙泳 | AI27: 女子12歲100米蛙泳 | AJ27: 男子12歲100米蛙泳 | AK27: 女子13歲100米蛙泳 | AL27: 男子13歲100米蛙泳 | AM27: 女子9歲及以下100米蝶泳 | AN27: 男子9歲及以下100米蝶泳 | AO27: 女子10歲100米蝶泳 | AP27: 男子10歲100米蝶泳 | AQ27: 女子11歲100米蝶泳 | AR27: 男子11歲100米蝶泳 | AS27: 女子12歲100米蝶泳 | AT27: 男子12歲100米蝶泳 | AU27: 女子13歲100米蝶泳 | AV27: 男子13歲100米蝶泳 | AW27: 女子9歲及以下100米自由泳 | AX27: 男子9歲及以下100米自由泳 | AY27: 女子10歲100米自由泳 | AZ27: 男子10歲100米自由泳 | BA27: 女子11歲100米自由泳 | BB27: 男子11歲100米自由泳 | BC27: 女子12歲100米自由泳 | BD27: 男子12歲100米自由泳 | BE27: 女子13歲100米自由泳 | BF27: 男子13歲100米自由泳 | BG27: 女子9歲及以下100米背泳 | BH27: 男子9歲及以下100米背泳 | BI27: 女子10歲100米背泳 | BJ27: 男子10歲100米背泳 | BK27: 女子11歲100米背泳 | BL27: 男子11歲100米背泳 | BM27: 女子12歲100米背泳 | BN27: 男子12歲100米背泳 | BO27: 女子13歲100米背泳 | BP27: 男子13歲100米背泳 | BQ27: 女子9歲及以下50米蛙泳 | BR27: 男子9歲及以下50米蛙泳 | BS27: 女子10歲50米蛙泳 | BT27: 男子10歲50米蛙泳 | BU27: 女子11歲50米蛙泳 | BV27: 男子11歲50米蛙泳 | BW27: 女子12歲50米蛙泳 | BX27: 男子12歲50米蛙泳 | BY27: 女子13歲50米蛙泳 | BZ27: 男子13歲50米蛙泳 | CA27: 女子9歲及以下50米蝶泳 | CB27: 男子9歲及以下50米蝶泳 | CC27: 女子10歲50米蝶泳 | CD27: 男子10歲50米蝶泳 | CE27: 女子11歲50米蝶泳 | CF27: 男子11歲50米蝶泳 | CG27: 女子12歲50米蝶泳 | CH27: 男子12歲50米蝶泳 | CI27: 女子13歲50米蝶泳 | CJ27: 男子13歲50米蝶泳
A29: 付來現金 / 支票 : | H29: =F10 -> 周年(短池)游泳錦標賽 | J29: 年齡 | K29: 達標時間 | L29: Events
H30: =VLOOKUP($H$29,$H$2:$M$6,5,FALSE) -> 短池 | I30: 1 | J30: =IF(VLOOKUP($H$30,$H$9:$CL$14,I30+1,FALSE)=0,"",VLOOKUP($H$30,$H$9:$CL$14,I30+1,FALSE)) -> C | K30: =IF(VLOOKUP($H$30,$H$16:$CL$20,I30+1,FALSE)=0,"",VLOOKUP($H$30,$H$16:$CL$20,I30+1,FALSE)) -> 13400 | L30: =IF(VLOOKUP($H$30,$H$23:$CL$27,I30+1,FALSE)=0,"",VLOOKUP($H$30,$H$23:$CL$27,I30+1,FALSE)) -> 女甲 100米背泳
A31: 收款人 : | H31: =VLOOKUP($H$30,$L$2:$AP$6,30,FALSE) -> 15 | I31: 2 | J31: =IF(VLOOKUP($H$30,$H$9:$CL$14,I31+1,FALSE)=0,"",VLOOKUP($H$30,$H$9:$CL$14,I31+1,FALSE)) -> A | K31: =IF(VLOOKUP($H$30,$H$16:$CL$20,I31+1,FALSE)=0,"",VLOOKUP($H$30,$H$16:$CL$20,I31+1,FALSE)) -> 13000 | L31: =IF(VLOOKUP($H$30,$H$23:$CL$27,I31+1,FALSE)=0,"",VLOOKUP($H$30,$H$23:$CL$27,I31+1,FALSE)) -> 男甲 100米背泳
H32: =VLOOKUP($H$30,$L$2:$AP$6,31,FALSE) -> 30 | I32: 3 | J32: =IF(VLOOKUP($H$30,$H$9:$CL$14,I32+1,FALSE)=0,"",VLOOKUP($H$30,$H$9:$CL$14,I32+1,FALSE)) -> D | K32: =IF(VLOOKUP($H$30,$H$16:$CL$20,I32+1,FALSE)=0,"",VLOOKUP($H$30,$H$16:$CL$20,I32+1,FALSE)) -> 13600 | L32: =IF(VLOOKUP($H$30,$H$23:$CL$27,I32+1,FALSE)=0,"",VLOOKUP($H$30,$H$23:$CL$27,I32+1,FALSE)) -> 女乙 100米背泳
A33: 日期 : | I33: 4 | J33: =IF(VLOOKUP($H$30,$H$9:$CL$14,I33+1,FALSE)=0,"",VLOOKUP($H$30,$H$9:$CL$14,I33+1,FALSE)) -> B | K33: =IF(VLOOKUP($H$30,$H$16:$CL$20,I33+1,FALSE)=0,"",VLOOKUP($H$30,$H$16:$CL$20,I33+1,FALSE)) -> 13200 | L33: =IF(VLOOKUP($H$30,$H$23:$CL$27,I33+1,FALSE)=0,"",VLOOKUP($H$30,$H$23:$CL$27,I33+1,FALSE)) -> 男乙 100米背泳
I34: 5 | J34: =IF(VLOOKUP($H$30,$H$9:$CL$14,I34+1,FALSE)=0,"",VLOOKUP($H$30,$H$9:$CL$14,I34+1,FALSE)) -> C | K34: =IF(VLOOKUP($H$30,$H$16:$CL$20,I34+1,FALSE)=0,"",VLOOKUP($H$30,$H$16:$CL$20,I34+1,FALSE)) -> 4200 | L34: =IF(VLOOKUP($H$30,$H$23:$CL$27,I34+1,FALSE)=0,"",VLOOKUP($H$30,$H$23:$CL$27,I34+1,FALSE)) -> 女甲 50米蛙泳
H35: 欄1 | I35: 6 | J35: =IF(VLOOKUP($H$30,$H$9:$CL$14,I35+1,FALSE)=0,"",VLOOKUP($H$30,$H$9:$CL$14,I35+1,FALSE)) -> A | K35: =IF(VLOOKUP($H$30,$H$16:$CL$20,I35+1,FALSE)=0,"",VLOOKUP($H$30,$H$16:$CL$20,I35+1,FALSE)) -> 3900 | L35: =IF(VLOOKUP($H$30,$H$23:$CL$27,I35+1,FALSE)=0,"",VLOOKUP($H$30,$H$23:$CL$27,I35+1,FALSE)) -> 男甲 50米蛙泳
H36: 順豐到付(費用在取件時支付) | I36: 7 | J36: =IF(VLOOKUP($H$30,$H$9:$CL$14,I36+1,FALSE)=0,"",VLOOKUP($H$30,$H$9:$CL$14,I36+1,FALSE)) -> D | K36: =IF(VLOOKUP($H$30,$H$16:$CL$20,I36+1,FALSE)=0,"",VLOOKUP($H$30,$H$16:$CL$20,I36+1,FALSE)) -> 4500 | L36: =IF(VLOOKUP($H$30,$H$23:$CL$27,I36+1,FALSE)=0,"",VLOOKUP($H$30,$H$23:$CL$27,I36+1,FALSE)) -> 女乙 50米蛙泳
H37: 郵政平郵(郵費由本會支付) | I37: 8 | J37: =IF(VLOOKUP($H$30,$H$9:$CL$14,I37+1,FALSE)=0,"",VLOOKUP($H$30,$H$9:$CL$14,I37+1,FALSE)) -> B | K37: =IF(VLOOKUP($H$30,$H$16:$CL$20,I37+1,FALSE)=0,"",VLOOKUP($H$30,$H$16:$CL$20,I37+1,FALSE)) -> 4200 | L37: =IF(VLOOKUP($H$30,$H$23:$CL$27,I37+1,FALSE)=0,"",VLOOKUP($H$30,$H$23:$CL$27,I37+1,FALSE)) -> 男乙 50米蛙泳
I38: 9 | J38: =IF(VLOOKUP($H$30,$H$9:$CL$14,I38+1,FALSE)=0,"",VLOOKUP($H$30,$H$9:$CL$14,I38+1,FALSE)) -> F | K38: =IF(VLOOKUP($H$30,$H$16:$CL$20,I38+1,FALSE)=0,"",VLOOKUP($H$30,$H$16:$CL$20,I38+1,FALSE)) -> 5500 | L38: =IF(VLOOKUP($H$30,$H$23:$CL$27,I38+1,FALSE)=0,"",VLOOKUP($H$30,$H$23:$CL$27,I38+1,FALSE)) -> 女丙 50米蛙泳
I39: 10 | J39: =IF(VLOOKUP($H$30,$H$9:$CL$14,I39+1,FALSE)=0,"",VLOOKUP($H$30,$H$9:$CL$14,I39+1,FALSE)) -> E | K39: =IF(VLOOKUP($H$30,$H$16:$CL$20,I39+1,FALSE)=0,"",VLOOKUP($H$30,$H$16:$CL$20,I39+1,FALSE)) -> 5000 | L39: =IF(VLOOKUP($H$30,$H$23:$CL$27,I39+1,FALSE)=0,"",VLOOKUP($H$30,$H$23:$CL$27,I39+1,FALSE)) -> 男丙 50米蛙泳
I40: 11 | J40: =IF(VLOOKUP($H$30,$H$9:$CL$14,I40+1,FALSE)=0,"",VLOOKUP($H$30,$H$9:$CL$14,I40+1,FALSE)) -> C | K40: =IF(VLOOKUP($H$30,$H$16:$CL$20,I40+1,FALSE)=0,"",VLOOKUP($H$30,$H$16:$CL$20,I40+1,FALSE)) -> 13200 | L40: =IF(VLOOKUP($H$30,$H$23:$CL$27,I40+1,FALSE)=0,"",VLOOKUP($H$30,$H$23:$CL$27,I40+1,FALSE)) -> 女甲 100米蝶泳
I41: 12 | J41: =IF(VLOOKUP($H$30,$H$9:$CL$14,I41+1,FALSE)=0,"",VLOOKUP($H$30,$H$9:$CL$14,I41+1,FALSE)) -> A | K41: =IF(VLOOKUP($H$30,$H$16:$CL$20,I41+1,FALSE)=0,"",VLOOKUP($H$30,$H$16:$CL$20,I41+1,FALSE)) -> 12600 | L41: =IF(VLOOKUP($H$30,$H$23:$CL$27,I41+1,FALSE)=0,"",VLOOKUP($H$30,$H$23:$CL$27,I41+1,FALSE)) -> 男甲 100米蝶泳
...

Sheet 男
A1: 香港中華業餘游泳聯會 比賽報名表 (男子) | O1: Max Event per club
A2: 填表注意事項: | N2: =COUNTA(I24:I163) -> 0 | O2: =VLOOKUP(F11,報名總表及收費!H1:T7,13,FALSE) -> 4 | T2: 欄1
A3: 1. 請根據所屬性別分別填寫在指定的報名表上(報名表分為男，女)，接力在報名表上方，只需按比賽項目輸入報項時間便可 | T3: Y
A4: 2. 請準確及清楚填寫各項資料，所有超額報名、資料不全、錯填資料均被視為無效。無效報名會被拒參賽，報名費怒不退回。 | O4: A | P4: B | Q4: E
A5: ="3. 每個個人項目每團體最多可報"& VLOOKUP(F11,報名總表及收費!H1:T7,13,FALSE) & "個運動員。每名運動員限報個人項目︰"& VLOOKUP(F11,報名總表及收費!H1:T7,12,FALSE) &"，個人項目報名總數可參考報名表右方" -> 3. 每個個人項目每團體最多可報4個運動員。每名運動員限報個人項目︰週年賽4項，個人項目報名總數可參考報名表右方 | O5: =VLOOKUP($O$8,報名總表及收費!$L$2:$R$5,2,FALSE) -> 2007 | P5: =VLOOKUP($O$8,報名總表及收費!$L$2:$R$5,3,FALSE) -> 2008 | Q5: =VLOOKUP($O$8,報名總表及收費!$L$2:$R$5,6,FALSE) -> 2013
A6: 4. 時間格式以此為準 - 例: 0:26:88 , 請輸入 2688
A7: 5. 只需輸入綠色欄位的資料，其他為自動填寫資料。
A8: 6. 若儲存格出現紅色，請重新檢查該項目是否報錯資料。 | O8: =報名總表及收費!H30 -> 短池
A9: 7. 如需申請成績證書，請在"申請成績證書"格上填上"Y"，若不申請可漏空。比賽後申請成績證書，本會將額外收取每張港元10元行政費(即每項每張港元共50元行政費)
A11: 團體名稱: | B11: =IF(報名總表及收費!B10=0,"",報名總表及收費!B10) | E11: 比賽名稱: | F11: =報名總表及收費!F10 -> 周年(短池)游泳錦標賽
A12: 負責人: | B12: =IF(報名總表及收費!B11=0,"",報名總表及收費!B11) | E12: 比賽日期: | F12: =報名總表及收費!F11 -> 45256
A13: 聯絡電話: | B13: =IF(報名總表及收費!B12=0,"",報名總表及收費!B12) | E13: 比賽地點: | F13: =報名總表及收費!F12 -> 城門谷游泳池
B15: 接力團體 | E15: 項目編號 | F15: 接力項目 | G15: 報項時間 | J15: 備註 | L15: 團體項目 | M15: 總數
A16: 接力項目 | B16: =IF(報名總表及收費!$B$10=0,"",報名總表及收費!$B$10) | E16: =VLOOKUP(報名總表及收費!$H$30,報名總表及收費!$L$2:$AX$6,11,FALSE) -> 22 | F16: =VLOOKUP(報名總表及收費!$H$30,報名總表及收費!$L$2:$AX$6,10,FALSE) -> 男甲 4X50米自由泳接力 | J16: =IF(B16="","",IF(G16="","未報名","")) | L16: =E16 -> 22 | M16: =COUNTA(G16) -> 0
B17: =IF(報名總表及收費!$B$10=0,"",報名總表及收費!$B$10) | E17: =VLOOKUP(報名總表及收費!$H$30,報名總表及收費!$L$2:$AX$6,13,FALSE) -> 24 | F17: =VLOOKUP(報名總表及收費!$H$30,報名總表及收費!$L$2:$AX$6,12,FALSE) -> 男乙 4X50米自由泳接力 | J17: =IF(B17="","",IF(G17="","未報名","")) | L17: =E17 -> 24 | M17: =COUNTA(G17) -> 0
B18: =IF(E18="","",IF(報名總表及收費!$B$10=0,"",報名總表及收費!$B$10)) | E18: =IF(VLOOKUP(報名總表及收費!$H$30,報名總表及收費!$L$2:$AX$6,14,FALSE)= 0,"",VLOOKUP(報名總表及收費!$H$30,報名總表及收費!$L$2:$AX$6,15,FALSE)) -> 26 | F18: =IF(VLOOKUP(報名總表及收費!$H$30,報名總表及收費!$L$2:$AX$6,15,FALSE)=0,"",VLOOKUP(報名總表及收費!$H$30,報名總表及收費!$L$2:$AX$6,14,FALSE)) -> 男丙 4X50米自由泳接力 | J18: =IF(B18="","",IF(G18="","未報名","")) | L18: =E18 -> 26 | M18: =COUNTA(G18) -> 0
B19: =IF(E19="","",IF(報名總表及收費!$B$10=0,"",報名總表及收費!$B$10)) | E19: =IF(VLOOKUP(報名總表及收費!$H$30,報名總表及收費!$L$2:$AX$6,15,FALSE)=0,"",VLOOKUP(報名總表及收費!$H$30,報名總表及收費!$L$2:$AX$6,17,FALSE)) -> 52 | F19: =IF(VLOOKUP(報名總表及收費!$H$30,報名總表及收費!$L$2:$AX$6,14,FALSE)=0,"",VLOOKUP(報名總表及收費!$H$30,報名總表及收費!$L$2:$AX$6,16,FALSE)) -> 男甲 4X50米四式接力 | J19: =IF(B19="","",IF(G19="","未報名","")) | L19: =E19 -> 52 | M19: =COUNTA(G19) -> 0
B20: =IF(E20="","",IF(報名總表及收費!$B$10=0,"",報名總表及收費!$B$10)) | E20: =IF(VLOOKUP(報名總表及收費!$H$30,報名總表及收費!$L$2:$AX$6,19,FALSE)=0,"",VLOOKUP(報名總表及收費!$H$30,報名總表及收費!$L$2:$AX$6,19,FALSE)) -> 54 | F20: =IF(VLOOKUP(報名總表及收費!$H$30,報名總表及收費!$L$2:$AX$6,18,FALSE)=0,"",VLOOKUP(報名總表及收費!$H$30,報名總表及收費!$L$2:$AX$6,18,FALSE)) -> 男乙 4X50米四式接力 | J20: =IF(B20="","",IF(G20="","未報名","")) | L20: =E20 -> 54 | M20: =COUNTA(G20) -> 0
B22: 姓名 (中) | C22: 姓名 (英) | D22: 出生年份 | E22: 項目編號 | F22: 項目 | G22: 報項時間 | H22: 年齡 | I22: 申請成績證書 | J22: 備註 | O22: 年齡 | P22: 達標時間 | R22: Age Check
A23: 例 | B23: 王一一 | C23: Wong Yat Yat | D23: 1999 | E23: 12 | F23: =IF(E23="","",VLOOKUP(E23,報名總表及收費!$I$29:$L$97,4)) -> 男甲 100米蝶泳 | G23: 1228 | H23: =IF(D23=0,"",YEAR(NOW())-D23) -> 24 | I23: Y | L23: 個人項目 | M23: 總數
A24: 男運動員 1 | F24: =IF(E24="","",VLOOKUP(E24,報名總表及收費!$I$29:$L$112,4)) | H24: =IF(D24="","", IF(D24=0,"",YEAR(NOW())-D24)) | J24: =IF(E24="","",IF(((VLOOKUP(E24,$L$24:$T$69,5))<G24),"報項時間慢於達標時間",""))&IF(T24="FAIL"," 運動員錯組別","")&IF(MOD(E24,2)=0,""," 項目編號為女子組") | L24: 2 | M24: =COUNTIFS($E$24:$E$163,"=2") -> 0 | N24: =IF(M24>$O$2, L24, "OK") -> OK | O24: =VLOOKUP(L24,報名總表及收費!$I$30:$K$118,2) -> A | P24: =IF(VLOOKUP(L24,報名總表及收費!$I$30:$K$118,3)=0,"",VLOOKUP(L24,報名總表及收費!$I$30:$K$118,3,FALSE)) -> 13000 | Q24: =IF(O24="E",YEAR(NOW())-$Q$5,IF(O24="A",YEAR(NOW())-$O$5,IF(O24="B",YEAR(NOW())-$P$5,IF(O24=0,"",O24)))) -> 16 | R24: =IF(E24=0,"",IF(MOD(E24,2)=1,"",VLOOKUP(E24,$L$23:$R$63,6,FALSE))) | S24: =IF(D24=0,"",VLOOKUP(E24,$L$23:$R$63,4,FALSE)) | T24: =IF(R24="","",IF(S24="A",IF(H24>=R24,"OK","FAIL"),IF(S24="E",IF(H24<=R24,"OK","FAIL"),IF(S24="B",IF(AND(H24<=R24,H24>=U24),"OK","FAIL"),IF(U24="",IF(H24=S24,"OK","FAIL"),IF(U24="9U",IF(H24<=9,"OK","FAIL"),IF(U24="UP",IF(H24>=15,"OK","FAIL"),IF(U24="DN",IF(H24<=7,"OK","FAIL"))))))))) | U24: =IF(R24="15U","UP",IF(R24="7D","DN",IF(R24="9U","9U",IF(S24="B",11,""))))
F25: =IF(E25="","",VLOOKUP(E25,報名總表及收費!$I$29:$L$112,4)) | H25: =IF(D25="","", IF(D25=0,"",YEAR(NOW())-D25)) | J25: =IF(E25="","",IF(((VLOOKUP(E25,$L$24:$T$69,5))<G25),"報項時間慢於達標時間",""))&IF(T25="FAIL"," 運動員錯組別","")&IF(MOD(E25,2)=0,""," 項目編號為女子組") | L25: 4 | M25: =COUNTIFS($E$24:$E$163,"=4") -> 0 | N25: =IF(M25>$O$2, L25, "OK") -> OK | O25: =VLOOKUP(L25,報名總表及收費!$I$30:$K$118,2) -> B | P25: =IF(VLOOKUP(L25,報名總表及收費!$I$30:$K$118,3)=0,"",VLOOKUP(L25,報名總表及收費!$I$30:$K$118,3,FALSE)) -> 13200 | Q25: =IF(O25="E",YEAR(NOW())-$Q$5,IF(O25="A",YEAR(NOW())-$O$5,IF(O25="B",YEAR(NOW())-$P$5,IF(O25=0,"",O25)))) -> 15 | R25: =IF(E25=0,"",IF(MOD(E25,2)=1,"",VLOOKUP(E25,$L$23:$R$63,6,FALSE))) | S25: =IF(D25=0,"",VLOOKUP(E25,$L$23:$R$63,4,FALSE)) | T25: =IF(R25="","",IF(S25="A",IF(H25>=R25,"OK","FAIL"),IF(S25="E",IF(H25<=R25,"OK","FAIL"),IF(S25="B",IF(AND(H25<=R25,H25>=U25),"OK","FAIL"),IF(U25="",IF(H25=S25,"OK","FAIL"),IF(U25="9U",IF(H25<=9,"OK","FAIL"),IF(U25="UP",IF(H25>=15,"OK","FAIL"),IF(U25="DN",IF(H25<=7,"OK","FAIL"))))))))) | U25: =IF(R25="15U","UP",IF(R25="7D","DN",IF(R25="9U","9U",IF(S25="B",11,""))))
F26: =IF(E26="","",VLOOKUP(E26,報名總表及收費!$I$29:$L$112,4)) | H26: =IF(D26="","", IF(D26=0,"",YEAR(NOW())-D26)) | J26: =IF(E26="","",IF(((VLOOKUP(E26,$L$24:$T$69,5))<G26),"報項時間慢於達標時間",""))&IF(T26="FAIL"," 運動員錯組別","")&IF(MOD(E26,2)=0,""," 項目編號為女子組") | L26: 6 | M26: =COUNTIFS($E$24:$E$163,"=6") -> 0 | N26: =IF(M26>$O$2, L26, "OK") -> OK | O26: =VLOOKUP(L26,報名總表及收費!$I$30:$K$118,2) -> A | P26: =IF(VLOOKUP(L26,報名總表及收費!$I$30:$K$118,3)=0,"",VLOOKUP(L26,報名總表及收費!$I$30:$K$118,3,FALSE)) -> 3900 | Q26: =IF(O26="E",YEAR(NOW())-$Q$5,IF(O26="A",YEAR(NOW())-$O$5,IF(O26="B",YEAR(NOW())-$P$5,IF(O26=0,"",O26)))) -> 16 | R26: =IF(E26=0,"",IF(MOD(E26,2)=1,"",VLOOKUP(E26,$L$23:$R$63,6,FALSE))) | S26: =IF(D26=0,"",VLOOKUP(E26,$L$23:$R$63,4,FALSE)) | T26: =IF(R26="","",IF(S26="A",IF(H26>=R26,"OK","FAIL"),IF(S26="E",IF(H26<=R26,"OK","FAIL"),IF(S26="B",IF(AND(H26<=R26,H26>=U26),"OK","FAIL"),IF(U26="",IF(H26=S26,"OK","FAIL"),IF(U26="9U",IF(H26<=9,"OK","FAIL"),IF(U26="UP",IF(H26>=15,"OK","FAIL"),IF(U26="DN",IF(H26<=7,"OK","FAIL"))))))))) | U26: =IF(R26="15U","UP",IF(R26="7D","DN",IF(R26="9U","9U",IF(S26="B",11,""))))
F27: =IF(E27="","",VLOOKUP(E27,報名總表及收費!$I$29:$L$112,4)) | H27: =IF(D27="","", IF(D27=0,"",YEAR(NOW())-D27)) | J27: =IF(E27="","",IF(((VLOOKUP(E27,$L$24:$T$69,5))<G27),"報項時間慢於達標時間",""))&IF(T27="FAIL"," 運動員錯組別","")&IF(MOD(E27,2)=0,""," 項目編號為女子組") | L27: 8 | M27: =COUNTIFS($E$24:$E$163,"=8") -> 0 | N27: =IF(M27>$O$2, L27, "OK") -> OK | O27: =VLOOKUP(L27,報名總表及收費!$I$30:$K$118,2) -> B | P27: =IF(VLOOKUP(L27,報名總表及收費!$I$30:$K$118,3)=0,"",VLOOKUP(L27,報名總表及收費!$I$30:$K$118,3,FALSE)) -> 4200 | Q27: =IF(O27="E",YEAR(NOW())-$Q$5,IF(O27="A",YEAR(NOW())-$O$5,IF(O27="B",YEAR(NOW())-$P$5,IF(O27=0,"",O27)))) -> 15 | R27: =IF(E27=0,"",IF(MOD(E27,2)=1,"",VLOOKUP(E27,$L$23:$R$63,6,FALSE))) | S27: =IF(D27=0,"",VLOOKUP(E27,$L$23:$R$63,4,FALSE)) | T27: =IF(R27="","",IF(S27="A",IF(H27>=R27,"OK","FAIL"),IF(S27="E",IF(H27<=R27,"OK","FAIL"),IF(S27="B",IF(AND(H27<=R27,H27>=U27),"OK","FAIL"),IF(U27="",IF(H27=S27,"OK","FAIL"),IF(U27="9U",IF(H27<=9,"OK","FAIL"),IF(U27="UP",IF(H27>=15,"OK","FAIL"),IF(U27="DN",IF(H27<=7,"OK","FAIL"))))))))) | U27: =IF(R27="15U","UP",IF(R27="7D","DN",IF(R27="9U","9U",IF(S27="B",11,""))))
A28: 男運動員 2 | F28: =IF(E28="","",VLOOKUP(E28,報名總表及收費!$I$29:$L$112,4)) | H28: =IF(D28="","", IF(D28=0,"",YEAR(NOW())-D28)) | J28: =IF(E28="","",IF(((VLOOKUP(E28,$L$24:$T$69,5))<G28),"報項時間慢於達標時間",""))&IF(T28="FAIL"," 運動員錯組別","")&IF(MOD(E28,2)=0,""," 項目編號為女子組") | L28: 10 | M28: =COUNTIFS($E$24:$E$163,"=10") -> 0 | N28: =IF(M28>$O$2, L28, "OK") -> OK | O28: =VLOOKUP(L28,報名總表及收費!$I$30:$K$118,2) -> E | P28: =IF(VLOOKUP(L28,報名總表及收費!$I$30:$K$118,3)=0,"",VLOOKUP(L28,報名總表及收費!$I$30:$K$118,3,FALSE)) -> 5000 | Q28: =IF(O28="E",YEAR(NOW())-$Q$5,IF(O28="A",YEAR(NOW())-$O$5,IF(O28="B",YEAR(NOW())-$P$5,IF(O28=0,"",O28)))) -> 10 | R28: =IF(E28=0,"",IF(MOD(E28,2)=1,"",VLOOKUP(E28,$L$23:$R$63,6,FALSE))) | S28: =IF(D28=0,"",VLOOKUP(E28,$L$23:$R$63,4,FALSE)) | T28: =IF(R28="","",IF(S28="A",IF(H28>=R28,"OK","FAIL"),IF(S28="E",IF(H28<=R28,"OK","FAIL"),IF(S28="B",IF(AND(H28<=R28,H28>=U28),"OK","FAIL"),IF(U28="",IF(H28=S28,"OK","FAIL"),IF(U28="9U",IF(H28<=9,"OK","FAIL"),IF(U28="UP",IF(H28>=15,"OK","FAIL"),IF(U28="DN",IF(H28<=7,"OK","FAIL"))))))))) | U28: =IF(R28="15U","UP",IF(R28="7D","DN",IF(R28="9U","9U",IF(S28="B",11,""))))
F29: =IF(E29="","",VLOOKUP(E29,報名總表及收費!$I$29:$L$112,4)) | H29: =IF(D29="","", IF(D29=0,"",YEAR(NOW())-D29)) | J29: =IF(E29="","",IF(((VLOOKUP(E29,$L$24:$T$69,5))<G29),"報項時間慢於達標時間",""))&IF(T29="FAIL"," 運動員錯組別","")&IF(MOD(E29,2)=0,""," 項目編號為女子組") | L29: 12 | M29: =COUNTIFS($E$24:$E$163,"=12") -> 0 | N29: =IF(M29>$O$2, L29, "OK") -> OK | O29: =VLOOKUP(L29,報名總表及收費!$I$30:$K$118,2) -> A | P29: =IF(VLOOKUP(L29,報名總表及收費!$I$30:$K$118,3)=0,"",VLOOKUP(L29,報名總表及收費!$I$30:$K$118,3,FALSE)) -> 12600 | Q29: =IF(O29="E",YEAR(NOW())-$Q$5,IF(O29="A",YEAR(NOW())-$O$5,IF(O29="B",YEAR(NOW())-$P$5,IF(O29=0,"",O29)))) -> 16 | R29: =IF(E29=0,"",IF(MOD(E29,2)=1,"",VLOOKUP(E29,$L$23:$R$63,6,FALSE))) | S29: =IF(D29=0,"",VLOOKUP(E29,$L$23:$R$63,4,FALSE)) | T29: =IF(R29="","",IF(S29="A",IF(H29>=R29,"OK","FAIL"),IF(S29="E",IF(H29<=R29,"OK","FAIL"),IF(S29="B",IF(AND(H29<=R29,H29>=U29),"OK","FAIL"),IF(U29="",IF(H29=S29,"OK","FAIL"),IF(U29="9U",IF(H29<=9,"OK","FAIL"),IF(U29="UP",IF(H29>=15,"OK","FAIL"),IF(U29="DN",IF(H29<=7,"OK","FAIL"))))))))) | U29: =IF(R29="15U","UP",IF(R29="7D","DN",IF(R29="9U","9U",IF(S29="B",11,""))))
F30: =IF(E30="","",VLOOKUP(E30,報名總表及收費!$I$29:$L$112,4)) | H30: =IF(D30="","", IF(D30=0,"",YEAR(NOW())-D30)) | J30: =IF(E30="","",IF(((VLOOKUP(E30,$L$24:$T$69,5))<G30),"報項時間慢於達標時間",""))&IF(T30="FAIL"," 運動員錯組別","")&IF(MOD(E30,2)=0,""," 項目編號為女子組") | L30: 14 | M30: =COUNTIFS($E$24:$E$163,"=14") -> 0 | N30: =IF(M30>$O$2, L30, "OK") -> OK | O30: =VLOOKUP(L30,報名總表及收費!$I$30:$K$118,2) -> B | P30: =IF(VLOOKUP(L30,報名總表及收費!$I$30:$K$118,3)=0,"",VLOOKUP(L30,報名總表及收費!$I$30:$K$118,3,FALSE)) -> 12800 | Q30: =IF(O30="E",YEAR(NOW())-$Q$5,IF(O30="A",YEAR(NOW())-$O$5,IF(O30="B",YEAR(NOW())-$P$5,IF(O30=0,"",O30)))) -> 15 | R30: =IF(E30=0,"",IF(MOD(E30,2)=1,"",VLOOKUP(E30,$L$23:$R$63,6,FALSE))) | S30: =IF(D30=0,"",VLOOKUP(E30,$L$23:$R$63,4,FALSE)) | T30: =IF(R30="","",IF(S30="A",IF(H30>=R30,"OK","FAIL"),IF(S30="E",IF(H30<=R30,"OK","FAIL"),IF(S30="B",IF(AND(H30<=R30,H30>=U30),"OK","FAIL"),IF(U30="",IF(H30=S30,"OK","FAIL"),IF(U30="9U",IF(H30<=9,"OK","FAIL"),IF(U30="UP",IF(H30>=15,"OK","FAIL"),IF(U30="DN",IF(H30<=7,"OK","FAIL"))))))))) | U30: =IF(R30="15U","UP",IF(R30="7D","DN",IF(R30="9U","9U",IF(S30="B",11,""))))
F31: =IF(E31="","",VLOOKUP(E31,報名總表及收費!$I$29:$L$112,4)) | H31: =IF(D31="","", IF(D31=0,"",YEAR(NOW())-D31)) | J31: =IF(E31="","",IF(((VLOOKUP(E31,$L$24:$T$69,5))<G31),"報項時間慢於達標時間",""))&IF(T31="FAIL"," 運動員錯組別","")&IF(MOD(E31,2)=0,""," 項目編號為女子組") | L31: 16 | M31: =COUNTIFS($E$24:$E$163,"=16") -> 0 | N31: =IF(M31>$O$2, L31, "OK") -> OK | O31: =VLOOKUP(L31,報名總表及收費!$I$30:$K$118,2) -> A | P31: =IF(VLOOKUP(L31,報名總表及收費!$I$30:$K$118,3)=0,"",VLOOKUP(L31,報名總表及收費!$I$30:$K$118,3,FALSE)) -> 3300 | Q31: =IF(O31="E",YEAR(NOW())-$Q$5,IF(O31="A",YEAR(NOW())-$O$5,IF(O31="B",YEAR(NOW())-$P$5,IF(O31=0,"",O31)))) -> 16 | R31: =IF(E31=0,"",IF(MOD(E31,2)=1,"",VLOOKUP(E31,$L$23:$R$63,6,FALSE))) | S31: =IF(D31=0,"",VLOOKUP(E31,$L$23:$R$63,4,FALSE)) | T31: =IF(R31="","",IF(S31="A",IF(H31>=R31,"OK","FAIL"),IF(S31="E",IF(H31<=R31,"OK","FAIL"),IF(S31="B",IF(AND(H31<=R31,H31>=U31),"OK","FAIL"),IF(U31="",IF(H31=S31,"OK","FAIL"),IF(U31="9U",IF(H31<=9,"OK","FAIL"),IF(U31="UP",IF(H31>=15,"OK","FAIL"),IF(U31="DN",IF(H31<=7,"OK","FAIL"))))))))) | U31: =IF(R31="15U","UP",IF(R31="7D","DN",IF(R31="9U","9U",IF(S31="B",11,""))))
A32: 男運動員 3 | F32: =IF(E32="","",VLOOKUP(E32,報名總表及收費!$I$29:$L$112,4)) | H32: =IF(D32="","", IF(D32=0,"",YEAR(NOW())-D32)) | J32: =IF(E32="","",IF(((VLOOKUP(E32,$L$24:$T$69,5))<G32),"報項時間慢於達標時間",""))&IF(T32="FAIL"," 運動員錯組別","")&IF(MOD(E32,2)=0,""," 項目編號為女子組") | L32: 18 | M32: =COUNTIFS($E$24:$E$163,"=18") -> 0 | N32: =IF(M32>$O$2, L32, "OK") -> OK | O32: =VLOOKUP(L32,報名總表及收費!$I$30:$K$118,2) -> B | P32: =IF(VLOOKUP(L32,報名總表及收費!$I$30:$K$118,3)=0,"",VLOOKUP(L32,報名總表及收費!$I$30:$K$118,3,FALSE)) -> 3600 | Q32: =IF(O32="E",YEAR(NOW())-$Q$5,IF(O32="A",YEAR(NOW())-$O$5,IF(O32="B",YEAR(NOW())-$P$5,IF(O32=0,"",O32)))) -> 15 | R32: =IF(E32=0,"",IF(MOD(E32,2)=1,"",VLOOKUP(E32,$L$23:$R$63,6,FALSE))) | S32: =IF(D32=0,"",VLOOKUP(E32,$L$23:$R$63,4,FALSE)) | T32: =IF(R32="","",IF(S32="A",IF(H32>=R32,"OK","FAIL"),IF(S32="E",IF(H32<=R32,"OK","FAIL"),IF(S32="B",IF(AND(H32<=R32,H32>=U32),"OK","FAIL"),IF(U32="",IF(H32=S32,"OK","FAIL"),IF(U32="9U",IF(H32<=9,"OK","FAIL"),IF(U32="UP",IF(H32>=15,"OK","FAIL"),IF(U32="DN",IF(H32<=7,"OK","FAIL"))))))))) | U32: =IF(R32="15U","UP",IF(R32="7D","DN",IF(R32="9U","9U",IF(S32="B",11,""))))
F33: =IF(E33="","",VLOOKUP(E33,報名總表及收費!$I$29:$L$112,4)) | H33: =IF(D33="","", IF(D33=0,"",YEAR(NOW())-D33)) | J33: =IF(E33="","",IF(((VLOOKUP(E33,$L$24:$T$69,5))<G33),"報項時間慢於達標時間",""))&IF(T33="FAIL"," 運動員錯組別","")&IF(MOD(E33,2)=0,""," 項目編號為女子組") | L33: 20 | M33: =COUNTIFS($E$24:$E$163,"=20") -> 0 | N33: =IF(M33>$O$2, L33, "OK") -> OK | O33: =VLOOKUP(L33,報名總表及收費!$I$30:$K$118,2) -> E | P33: =IF(VLOOKUP(L33,報名總表及收費!$I$30:$K$118,3)=0,"",VLOOKUP(L33,報名總表及收費!$I$30:$K$118,3,FALSE)) -> 4000 | Q33: =IF(O33="E",YEAR(NOW())-$Q$5,IF(O33="A",YEAR(NOW())-$O$5,IF(O33="B",YEAR(NOW())-$P$5,IF(O33=0,"",O33)))) -> 10 | R33: =IF(E33=0,"",IF(MOD(E33,2)=1,"",VLOOKUP(E33,$L$23:$R$63,6,FALSE))) | S33: =IF(D33=0,"",VLOOKUP(E33,$L$23:$R$63,4,FALSE)) | T33: =IF(R33="","",IF(S33="A",IF(H33>=R33,"OK","FAIL"),IF(S33="E",IF(H33<=R33,"OK","FAIL"),IF(S33="B",IF(AND(H33<=R33,H33>=U33),"OK","FAIL"),IF(U33="",IF(H33=S33,"OK","FAIL"),IF(U33="9U",IF(H33<=9,"OK","FAIL"),IF(U33="UP",IF(H33>=15,"OK","FAIL"),IF(U33="DN",IF(H33<=7,"OK","FAIL"))))))))) | U33: =IF(R33="15U","UP",IF(R33="7D","DN",IF(R33="9U","9U",IF(S33="B",11,""))))
F34: =IF(E34="","",VLOOKUP(E34,報名總表及收費!$I$29:$L$112,4)) | H34: =IF(D34="","", IF(D34=0,"",YEAR(NOW())-D34)) | J34: =IF(E34="","",IF(((VLOOKUP(E34,$L$24:$T$69,5))<G34),"報項時間慢於達標時間",""))&IF(T34="FAIL"," 運動員錯組別","")&IF(MOD(E34,2)=0,""," 項目編號為女子組") | L34: 22 | M34: =COUNTIFS($E$24:$E$163,"=22") -> 0 | N34: =IF(M34>$O$2, L34, "OK") -> OK | O34: =VLOOKUP(L34,報名總表及收費!$I$30:$K$118,2) -> A | P34: =IF(VLOOKUP(L34,報名總表及收費!$I$30:$K$118,3)=0,"",VLOOKUP(L34,報名總表及收費!$I$30:$K$118,3,FALSE)) | Q34: =IF(O34="E",YEAR(NOW())-$Q$5,IF(O34="A",YEAR(NOW())-$O$5,IF(O34="B",YEAR(NOW())-$P$5,IF(O34=0,"",O34)))) -> 16 | R34: =IF(E34=0,"",IF(MOD(E34,2)=1,"",VLOOKUP(E34,$L$23:$R$63,6,FALSE))) | S34: =IF(D34=0,"",VLOOKUP(E34,$L$23:$R$63,4,FALSE)) | T34: =IF(R34="","",IF(S34="A",IF(H34>=R34,"OK","FAIL"),IF(S34="E",IF(H34<=R34,"OK","FAIL"),IF(S34="B",IF(AND(H34<=R34,H34>=U34),"OK","FAIL"),IF(U34="",IF(H34=S34,"OK","FAIL"),IF(U34="9U",IF(H34<=9,"OK","FAIL"),IF(U34="UP",IF(H34>=15,"OK","FAIL"),IF(U34="DN",IF(H34<=7,"OK","FAIL"))))))))) | U34: =IF(R34="15U","UP",IF(R34="7D","DN",IF(R34="9U","9U",IF(S34="B",11,""))))
F35: =IF(E35="","",VLOOKUP(E35,報名總表及收費!$I$29:$L$112,4)) | H35: =IF(D35="","", IF(D35=0,"",YEAR(NOW())-D35)) | J35: =IF(E35="","",IF(((VLOOKUP(E35,$L$24:$T$69,5))<G35),"報項時間慢於達標時間",""))&IF(T35="FAIL"," 運動員錯組別","")&IF(MOD(E35,2)=0,""," 項目編號為女子組") | L35: 24 | M35: =COUNTIFS($E$24:$E$163,"=24") -> 0 | N35: =IF(M35>$O$2, L35, "OK") -> OK | O35: =VLOOKUP(L35,報名總表及收費!$I$30:$K$118,2) -> B | P35: =IF(VLOOKUP(L35,報名總表及收費!$I$30:$K$118,3)=0,"",VLOOKUP(L35,報名總表及收費!$I$30:$K$118,3,FALSE)) | Q35: =IF(O35="E",YEAR(NOW())-$Q$5,IF(O35="A",YEAR(NOW())-$O$5,IF(O35="B",YEAR(NOW())-$P$5,IF(O35=0,"",O35)))) -> 15 | R35: =IF(E35=0,"",IF(MOD(E35,2)=1,"",VLOOKUP(E35,$L$23:$R$63,6,FALSE))) | S35: =IF(D35=0,"",VLOOKUP(E35,$L$23:$R$63,4,FALSE)) | T35: =IF(R35="","",IF(S35="A",IF(H35>=R35,"OK","FAIL"),IF(S35="E",IF(H35<=R35,"OK","FAIL"),IF(S35="B",IF(AND(H35<=R35,H35>=U35),"OK","FAIL"),IF(U35="",IF(H35=S35,"OK","FAIL"),IF(U35="9U",IF(H35<=9,"OK","FAIL"),IF(U35="UP",IF(H35>=15,"OK","FAIL"),IF(U35="DN",IF(H35<=7,"OK","FAIL"))))))))) | U35: =IF(R35="15U","UP",IF(R35="7D","DN",IF(R35="9U","9U",IF(S35="B",11,""))))
A36: 男運動員 4 | F36: =IF(E36="","",VLOOKUP(E36,報名總表及收費!$I$29:$L$112,4)) | H36: =IF(D36="","", IF(D36=0,"",YEAR(NOW())-D36)) | J36: =IF(E36="","",IF(((VLOOKUP(E36,$L$24:$T$69,5))<G36),"報項時間慢於達標時間",""))&IF(T36="FAIL"," 運動員錯組別","")&IF(MOD(E36,2)=0,""," 項目編號為女子組") | L36: 26 | M36: =COUNTIFS($E$24:$E$163,"=26") -> 0 | N36: =IF(M36>$O$2, L36, "OK") -> OK | O36: =VLOOKUP(L36,報名總表及收費!$I$30:$K$118,2) -> E | P36: =IF(VLOOKUP(L36,報名總表及收費!$I$30:$K$118,3)=0,"",VLOOKUP(L36,報名總表及收費!$I$30:$K$118,3,FALSE)) | Q36: =IF(O36="E",YEAR(NOW())-$Q$5,IF(O36="A",YEAR(NOW())-$O$5,IF(O36="B",YEAR(NOW())-$P$5,IF(O36=0,"",O36)))) -> 10 | R36: =IF(E36=0,"",IF(MOD(E36,2)=1,"",VLOOKUP(E36,$L$23:$R$63,6,FALSE))) | S36: =IF(D36=0,"",VLOOKUP(E36,$L$23:$R$63,4,FALSE)) | T36: =IF(R36="","",IF(S36="A",IF(H36>=R36,"OK","FAIL"),IF(S36="E",IF(H36<=R36,"OK","FAIL"),IF(S36="B",IF(AND(H36<=R36,H36>=U36),"OK","FAIL"),IF(U36="",IF(H36=S36,"OK","FAIL"),IF(U36="9U",IF(H36<=9,"OK","FAIL"),IF(U36="UP",IF(H36>=15,"OK","FAIL"),IF(U36="DN",IF(H36<=7,"OK","FAIL"))))))))) | U36: =IF(R36="15U","UP",IF(R36="7D","DN",IF(R36="9U","9U",IF(S36="B",11,""))))
F37: =IF(E37="","",VLOOKUP(E37,報名總表及收費!$I$29:$L$112,4)) | H37: =IF(D37="","", IF(D37=0,"",YEAR(NOW())-D37)) | J37: =IF(E37="","",IF(((VLOOKUP(E37,$L$24:$T$69,5))<G37),"報項時間慢於達標時間",""))&IF(T37="FAIL"," 運動員錯組別","")&IF(MOD(E37,2)=0,""," 項目編號為女子組") | L37: 28 | M37: =COUNTIFS($E$24:$E$163,"=28") -> 0 | N37: =IF(M37>$O$2, L37, "OK") -> OK | O37: =VLOOKUP(L37,報名總表及收費!$I$30:$K$118,2) -> A | P37: =IF(VLOOKUP(L37,報名總表及收費!$I$30:$K$118,3)=0,"",VLOOKUP(L37,報名總表及收費!$I$30:$K$118,3,FALSE)) -> 12600 | Q37: =IF(O37="E",YEAR(NOW())-$Q$5,IF(O37="A",YEAR(NOW())-$O$5,IF(O37="B",YEAR(NOW())-$P$5,IF(O37=0,"",O37)))) -> 16 | R37: =IF(E37=0,"",IF(MOD(E37,2)=1,"",VLOOKUP(E37,$L$23:$R$63,6,FALSE))) | S37: =IF(D37=0,"",VLOOKUP(E37,$L$23:$R$63,4,FALSE)) | T37: =IF(R37="","",IF(S37="A",IF(H37>=R37,"OK","FAIL"),IF(S37="E",IF(H37<=R37,"OK","FAIL"),IF(S37="B",IF(AND(H37<=R37,H37>=U37),"OK","FAIL"),IF(U37="",IF(H37=S37,"OK","FAIL"),IF(U37="9U",IF(H37<=9,"OK","FAIL"),IF(U37="UP",IF(H37>=15,"OK","FAIL"),IF(U37="DN",IF(H37<=7,"OK","FAIL"))))))))) | U37: =IF(R37="15U","UP",IF(R37="7D","DN",IF(R37="9U","9U",IF(S37="B",11,""))))
F38: =IF(E38="","",VLOOKUP(E38,報名總表及收費!$I$29:$L$112,4)) | H38: =IF(D38="","", IF(D38=0,"",YEAR(NOW())-D38)) | J38: =IF(E38="","",IF(((VLOOKUP(E38,$L$24:$T$69,5))<G38),"報項時間慢於達標時間",""))&IF(T38="FAIL"," 運動員錯組別","")&IF(MOD(E38,2)=0,""," 項目編號為女子組") | L38: 30 | M38: =COUNTIFS($E$24:$E$163,"=30") -> 0 | N38: =IF(M38>$O$2, L38, "OK") -> OK | O38: =VLOOKUP(L38,報名總表及收費!$I$30:$K$118,2) -> B | P38: =IF(VLOOKUP(L38,報名總表及收費!$I$30:$K$118,3)=0,"",VLOOKUP(L38,報名總表及收費!$I$30:$K$118,3,FALSE)) -> 13200 | Q38: =IF(O38="E",YEAR(NOW())-$Q$5,IF(O38="A",YEAR(NOW())-$O$5,IF(O38="B",YEAR(NOW())-$P$5,IF(O38=0,"",O38)))) -> 15 | R38: =IF(E38=0,"",IF(MOD(E38,2)=1,"",VLOOKUP(E38,$L$23:$R$63,6,FALSE))) | S38: =IF(D38=0,"",VLOOKUP(E38,$L$23:$R$63,4,FALSE)) | T38: =IF(R38="","",IF(S38="A",IF(H38>=R38,"OK","FAIL"),IF(S38="E",IF(H38<=R38,"OK","FAIL"),IF(S38="B",IF(AND(H38<=R38,H38>=U38),"OK","FAIL"),IF(U38="",IF(H38=S38,"OK","FAIL"),IF(U38="9U",IF(H38<=9,"OK","FAIL"),IF(U38="UP",IF(H38>=15,"OK","FAIL"),IF(U38="DN",IF(H38<=7,"OK","FAIL"))))))))) | U38: =IF(R38="15U","UP",IF(R38="7D","DN",IF(R38="9U","9U",IF(S38="B",11,""))))
F39: =IF(E39="","",VLOOKUP(E39,報名總表及收費!$I$29:$L$112,4)) | H39: =IF(D39="","", IF(D39=0,"",YEAR(NOW())-D39)) | J39: =IF(E39="","",IF(((VLOOKUP(E39,$L$24:$T$69,5))<G39),"報項時間慢於達標時間",""))&IF(T39="FAIL"," 運動員錯組別","")&IF(MOD(E39,2)=0,""," 項目編號為女子組") | L39: 32 | M39: =COUNTIFS($E$24:$E$163,"=32") -> 0 | N39: =IF(M39>$O$2, L39, "OK") -> OK | O39: =VLOOKUP(L39,報名總表及收費!$I$30:$K$118,2) -> A | P39: =IF(VLOOKUP(L39,報名總表及收費!$I$30:$K$118,3)=0,"",VLOOKUP(L39,報名總表及收費!$I$30:$K$118,3,FALSE)) -> 3600 | Q39: =IF(O39="E",YEAR(NOW())-$Q$5,IF(O39="A",YEAR(NOW())-$O$5,IF(O39="B",YEAR(NOW())-$P$5,IF(O39=0,"",O39)))) -> 16 | R39: =IF(E39=0,"",IF(MOD(E39,2)=1,"",VLOOKUP(E39,$L$23:$R$63,6,FALSE))) | S39: =IF(D39=0,"",VLOOKUP(E39,$L$23:$R$63,4,FALSE)) | T39: =IF(R39="","",IF(S39="A",IF(H39>=R39,"OK","FAIL"),IF(S39="E",IF(H39<=R39,"OK","FAIL"),IF(S39="B",IF(AND(H39<=R39,H39>=U39),"OK","FAIL"),IF(U39="",IF(H39=S39,"OK","FAIL"),IF(U39="9U",IF(H39<=9,"OK","FAIL"),IF(U39="UP",IF(H39>=15,"OK","FAIL"),IF(U39="DN",IF(H39<=7,"OK","FAIL"))))))))) | U39: =IF(R39="15U","UP",IF(R39="7D","DN",IF(R39="9U","9U",IF(S39="B",11,""))))
A40: 男運動員 5 | F40: =IF(E40="","",VLOOKUP(E40,報名總表及收費!$I$29:$L$112,4)) | H40: =IF(D40="","", IF(D40=0,"",YEAR(NOW())-D40)) | J40: =IF(E40="","",IF(((VLOOKUP(E40,$L$24:$T$69,5))<G40),"報項時間慢於達標時間",""))&IF(T40="FAIL"," 運動員錯組別","")&IF(MOD(E40,2)=0,""," 項目編號為女子組") | L40: 34 | M40: =COUNTIFS($E$24:$E$163,"=34") -> 0 | N40: =IF(M40>$O$2, L40, "OK") -> OK | O40: =VLOOKUP(L40,報名總表及收費!$I$30:$K$118,2) -> B | P40: =IF(VLOOKUP(L40,報名總表及收費!$I$30:$K$118,3)=0,"",VLOOKUP(L40,報名總表及收費!$I$30:$K$118,3,FALSE)) -> 3800 | Q40: =IF(O40="E",YEAR(NOW())-$Q$5,IF(O40="A",YEAR(NOW())-$O$5,IF(O40="B",YEAR(NOW())-$P$5,IF(O40=0,"",O40)))) -> 15 | R40: =IF(E40=0,"",IF(MOD(E40,2)=1,"",VLOOKUP(E40,$L$23:$R$63,6,FALSE))) | S40: =IF(D40=0,"",VLOOKUP(E40,$L$23:$R$63,4,FALSE)) | T40: =IF(R40="","",IF(S40="A",IF(H40>=R40,"OK","FAIL"),IF(S40="E",IF(H40<=R40,"OK","FAIL"),IF(S40="B",IF(AND(H40<=R40,H40>=U40),"OK","FAIL"),IF(U40="",IF(H40=S40,"OK","FAIL"),IF(U40="9U",IF(H40<=9,"OK","FAIL"),IF(U40="UP",IF(H40>=15,"OK","FAIL"),IF(U40="DN",IF(H40<=7,"OK","FAIL"))))))))) | U40: =IF(R40="15U","UP",IF(R40="7D","DN",IF(R40="9U","9U",IF(S40="B",11,""))))
F41: =IF(E41="","",VLOOKUP(E41,報名總表及收費!$I$29:$L$112,4)) | H41: =IF(D41="","", IF(D41=0,"",YEAR(NOW())-D41)) | J41: =IF(E41="","",IF(((VLOOKUP(E41,$L$24:$T$69,5))<G41),"報項時間慢於達標時間",""))&IF(T41="FAIL"," 運動員錯組別","")&IF(MOD(E41,2)=0,""," 項目編號為女子組") | L41: 36 | M41: =COUNTIFS($E$24:$E$163,"=36") -> 0 | N41: =IF(M41>$O$2, L41, "OK") -> OK | O41: =VLOOKUP(L41,報名總表及收費!$I$30:$K$118,2) -> E | P41: =IF(VLOOKUP(L41,報名總表及收費!$I$30:$K$118,3)=0,"",VLOOKUP(L41,報名總表及收費!$I$30:$K$118,3,FALSE)) -> 4500 | Q41: =IF(O41="E",YEAR(NOW())-$Q$5,IF(O41="A",YEAR(NOW())-$O$5,IF(O41="B",YEAR(NOW())-$P$5,IF(O41=0,"",O41)))) -> 10 | R41: =IF(E41=0,"",IF(MOD(E41,2)=1,"",VLOOKUP(E41,$L$23:$R$63,6,FALSE))) | S41: =IF(D41=0,"",VLOOKUP(E41,$L$23:$R$63,4,FALSE)) | T41: =IF(R41="","",IF(S41="A",IF(H41>=R41,"OK","FAIL"),IF(S41="E",IF(H41<=R41,"OK","FAIL"),IF(S41="B",IF(AND(H41<=R41,H41>=U41),"OK","FAIL"),IF(U41="",IF(H41=S41,"OK","FAIL"),IF(U41="9U",IF(H41<=9,"OK","FAIL"),IF(U41="UP",IF(H41>=15,"OK","FAIL"),IF(U41="DN",IF(H41<=7,"OK","FAIL"))))))))) | U41: =IF(R41="15U","UP",IF(R41="7D","DN",IF(R41="9U","9U",IF(S41="B",11,""))))
F42: =IF(E42="","",VLOOKUP(E42,報名總表及收費!$I$29:$L$112,4)) | H42: =IF(D42="","", IF(D42=0,"",YEAR(NOW())-D42)) | J42: =IF(E42="","",IF(((VLOOKUP(E42,$L$24:$T$69,5))<G42),"報項時間慢於達標時間",""))&IF(T42="FAIL"," 運動員錯組別","")&IF(MOD(E42,2)=0,""," 項目編號為女子組") | L42: 38 | M42: =COUNTIFS($E$24:$E$163,"=38") -> 0 | N42: =IF(M42>$O$2, L42, "OK") -> OK | O42: =VLOOKUP(L42,報名總表及收費!$I$30:$K$118,2) -> A | P42: =IF(VLOOKUP(L42,報名總表及收費!$I$30:$K$118,3)=0,"",VLOOKUP(L42,報名總表及收費!$I$30:$K$118,3,FALSE)) -> 12900 | Q42: =IF(O42="E",YEAR(NOW())-$Q$5,IF(O42="A",YEAR(NOW())-$O$5,IF(O42="B",YEAR(NOW())-$P$5,IF(O42=0,"",O42)))) -> 16 | R42: =IF(E42=0,"",IF(MOD(E42,2)=1,"",VLOOKUP(E42,$L$23:$R$63,6,FALSE))) | S42: =IF(D42=0,"",VLOOKUP(E42,$L$23:$R$63,4,FALSE)) | T42: =IF(R42="","",IF(S42="A",IF(H42>=R42,"OK","FAIL"),IF(S42="E",IF(H42<=R42,"OK","FAIL"),IF(S42="B",IF(AND(H42<=R42,H42>=U42),"OK","FAIL"),IF(U42="",IF(H42=S42,"OK","FAIL"),IF(U42="9U",IF(H42<=9,"OK","FAIL"),IF(U42="UP",IF(H42>=15,"OK","FAIL"),IF(U42="DN",IF(H42<=7,"OK","FAIL"))))))))) | U42: =IF(R42="15U","UP",IF(R42="7D","DN",IF(R42="9U","9U",IF(S42="B",11,""))))
F43: =IF(E43="","",VLOOKUP(E43,報名總表及收費!$I$29:$L$112,4)) | H43: =IF(D43="","", IF(D43=0,"",YEAR(NOW())-D43)) | J43: =IF(E43="","",IF(((VLOOKUP(E43,$L$24:$T$69,5))<G43),"報項時間慢於達標時間",""))&IF(T43="FAIL"," 運動員錯組別","")&IF(MOD(E43,2)=0,""," 項目編號為女子組") | L43: 40 | M43: =COUNTIFS($E$24:$E$163,"=40") -> 0 | N43: =IF(M43>$O$2, L43, "OK") -> OK | O43: =VLOOKUP(L43,報名總表及收費!$I$30:$K$118,2) -> B | P43: =IF(VLOOKUP(L43,報名總表及收費!$I$30:$K$118,3)=0,"",VLOOKUP(L43,報名總表及收費!$I$30:$K$118,3,FALSE)) -> 13400 | Q43: =IF(O43="E",YEAR(NOW())-$Q$5,IF(O43="A",YEAR(NOW())-$O$5,IF(O43="B",YEAR(NOW())-$P$5,IF(O43=0,"",O43)))) -> 15 | R43: =IF(E43=0,"",IF(MOD(E43,2)=1,"",VLOOKUP(E43,$L$23:$R$63,6,FALSE))) | S43: =IF(D43=0,"",VLOOKUP(E43,$L$23:$R$63,4,FALSE)) | T43: =IF(R43="","",IF(S43="A",IF(H43>=R43,"OK","FAIL"),IF(S43="E",IF(H43<=R43,"OK","FAIL"),IF(S43="B",IF(AND(H43<=R43,H43>=U43),"OK","FAIL"),IF(U43="",IF(H43=S43,"OK","FAIL"),IF(U43="9U",IF(H43<=9,"OK","FAIL"),IF(U43="UP",IF(H43>=15,"OK","FAIL"),IF(U43="DN",IF(H43<=7,"OK","FAIL"))))))))) | U43: =IF(R43="15U","UP",IF(R43="7D","DN",IF(R43="9U","9U",IF(S43="B",11,""))))
...

Sheet 女
A1: 香港中華業餘游泳聯會 比賽報名表 (女子) | O1: Max Event per club
A2: 填表注意事項: | N2: =COUNTA(I24:I163) -> 0 | O2: =VLOOKUP(F11,報名總表及收費!H1:T7,13,FALSE) -> 4
A3: 1. 請根據所屬性別分別填寫在指定的報名表上(報名表分為男，女)，接力在報名表上方，只需按比賽項目輸入報項時間便可
A4: 2. 請準確及清楚填寫各項資料，所有超額報名、資料不全、錯填資料均被視為無效。無效報名會被拒參賽，報名費怒不退回。 | O4: C | P4: D | Q4: F
A5: ="3. 每個個人項目每團體最多可報"& VLOOKUP(F11,報名總表及收費!H1:T7,13,FALSE) & "個運動員。每名運動員限報個人項目︰"& VLOOKUP(F11,報名總表及收費!H1:T7,12,FALSE) &"，個人項目報名總數可參考報名表右方" -> 3. 每個個人項目每團體最多可報4個運動員。每名運動員限報個人項目︰週年賽4項，個人項目報名總數可參考報名表右方 | O5: =VLOOKUP($O$8,報名總表及收費!$L$2:$R$7,4,FALSE) -> 2008 | P5: =VLOOKUP($O$8,報名總表及收費!$L$2:$R$7,5,FALSE) -> 2009 | Q5: =VLOOKUP($O$8,報名總表及收費!$L$2:$R$7,7,FALSE) -> 2014
A6: 4. 時間格式以此為準 - 例: 0:26:88 , 請輸入 2688
A7: 5. 只需輸入綠色欄位的資料，其他為自動填寫資料。
A8: 6. 若儲存格出現紅色，請重新檢查該項目是否報錯資料。 | O8: =報名總表及收費!H30 -> 短池 | R8: 申請成績証書
A9: 7. 如需申請成績證書，請在"申請成績證書"格上填上"Y"，若不申請可漏空。比賽後申請成績證書，本會將額外收取每張港元10元行政費(即每項每張港元共50元行政費) | R9: Y
A11: 團體名稱: | B11: =IF(報名總表及收費!B10=0,"",報名總表及收費!B10) | E11: 比賽名稱: | F11: =報名總表及收費!F10 -> 周年(短池)游泳錦標賽
A12: 負責人: | B12: =IF(報名總表及收費!B11=0,"",報名總表及收費!B11) | E12: 比賽日期: | F12: =報名總表及收費!F11 -> 45256
A13: 聯絡電話: | B13: =IF(報名總表及收費!B12=0,"",報名總表及收費!B12) | E13: 比賽地點: | F13: =報名總表及收費!F12 -> 城門谷游泳池
B15: 接力團體 | E15: 項目編號 | F15: 接力項目 | G15: 報項時間 | J15: 備註 | L15: 團體項目 | M15: 總數
A16: 接力項目 | B16: =IF(報名總表及收費!$B$10=0,"",報名總表及收費!$B$10) | E16: =IF(VLOOKUP(報名總表及收費!$H$30,報名總表及收費!$L$2:$AX$6,21,FALSE)=0,"",VLOOKUP(報名總表及收費!$H$30,報名總表及收費!$L$2:$AX$6,21,FALSE)) -> 21 | F16: =IF(VLOOKUP(報名總表及收費!$H$30,報名總表及收費!$L$2:$AX$6,21,FALSE)=0,"",VLOOKUP(報名總表及收費!$H$30,報名總表及收費!$L$2:$AX$6,20,FALSE)) -> 女甲 4X50米自由泳接力 | J16: =IF(B16="","",IF(G16="","未報名","")) | L16: =E16 -> 21 | M16: =COUNTA(G16) -> 0
B17: =IF(報名總表及收費!$B$10=0,"",報名總表及收費!$B$10) | E17: =IF(VLOOKUP(報名總表及收費!$H$30,報名總表及收費!$L$2:$AX$6,21,FALSE)=0,"",VLOOKUP(報名總表及收費!$H$30,報名總表及收費!$L$2:$AX$6,23,FALSE)) -> 23 | F17: =IF(VLOOKUP(報名總表及收費!$H$30,報名總表及收費!$L$2:$AX$6,21,FALSE)=0,"",VLOOKUP(報名總表及收費!$H$30,報名總表及收費!$L$2:$AX$6,22,FALSE)) -> 女乙 4X50米自由泳接力 | J17: =IF(B17="","",IF(G17="","未報名","")) | L17: =E17 -> 23 | M17: =COUNTA(G17) -> 0
B18: =IF(E18="","",IF(報名總表及收費!$B$10=0,"",報名總表及收費!$B$10)) | E18: =IF(VLOOKUP(報名總表及收費!$H$30,報名總表及收費!$L$2:$AX$6,25,FALSE)=0,"",VLOOKUP(報名總表及收費!$H$30,報名總表及收費!$L$2:$AX$6,25,FALSE)) -> 25 | F18: =IF(VLOOKUP(報名總表及收費!$H$30,報名總表及收費!$L$2:$AX$6,25,FALSE)=0,"",VLOOKUP(報名總表及收費!$H$30,報名總表及收費!$L$2:$AX$6,24,FALSE)) -> 女丙 4X50米自由泳接力 | J18: =IF(B18="","",IF(G18="","未報名","")) | L18: =E18 -> 25 | M18: =COUNTA(G18) -> 0
B19: =IF(E19="","",IF(報名總表及收費!$B$10=0,"",報名總表及收費!$B$10)) | E19: =IF(VLOOKUP(報名總表及收費!$H$30,報名總表及收費!$L$2:$AX$6,25,FALSE)=0,"",VLOOKUP(報名總表及收費!$H$30,報名總表及收費!$L$2:$AX$6,27,FALSE)) -> 41 | F19: =IF(VLOOKUP(報名總表及收費!$H$30,報名總表及收費!$L$2:$AX$6,25,FALSE)=0,"",VLOOKUP(報名總表及收費!$H$30,報名總表及收費!$L$2:$AX$6,26,FALSE)) -> 女甲 4X50米四式接力 | L19: =E19 -> 41 | M19: =COUNTA(G19) -> 0
B20: =IF(E20="","",IF(報名總表及收費!$B$10=0,"",報名總表及收費!$B$10)) | E20: =IF(VLOOKUP(報名總表及收費!$H$30,報名總表及收費!$L$2:$AX$6,29,FALSE)=0,"",VLOOKUP(報名總表及收費!$H$30,報名總表及收費!$L$2:$AX$6,29,FALSE)) -> 43 | F20: =IF(VLOOKUP(報名總表及收費!$H$30,報名總表及收費!$L$2:$AX$6,28,FALSE)=0,"",VLOOKUP(報名總表及收費!$H$30,報名總表及收費!$L$2:$AX$6,28,FALSE)) -> 女乙 4X50米四式接力 | J20: =IF(B20="","",IF(G20="","未報名","")) | L20: =E20 -> 43 | M20: =COUNTA(G20) -> 0
B22: 姓名 (中) | C22: 姓名 (英) | D22: 出生年份 | E22: 項目編號 | F22: 項目 | G22: 報項時間 | H22: 年齡 | I22: 申請成績證書 | J22: 備註 | O22: 年齡 | P22: 達標時間 | R22: Age Check
A23: 例 | B23: 王一一 | C23: Wong Yat Yat | D23: 1999 | E23: 11 | F23: =IF(E23="","",VLOOKUP(E23,報名總表及收費!$I$29:$L$97,4)) -> 女甲 100米蝶泳 | G23: 1228 | H23: =IF(D23=0,"",YEAR(NOW())-D23) -> 24 | I23: Y | L23: 個人項目 | M23: 總數
A24: 女運動員 1 | F24: =IF(E24="","",VLOOKUP(E24,報名總表及收費!$I$29:$L$110,4)) | H24: =IF(D24=0,"",YEAR(NOW())-D24) | J24: =IF(E24="","",IF(((VLOOKUP(E24,$L$24:$Q$66,5))<G24),"報項時間慢於達標時間",""))&IF(T24="FAIL"," 運動員錯組別","")&IF(E24="","",IF(MOD(E24,2)=1,""," 項目編號為男子組")) | L24: 1 | M24: =COUNTIFS($E$24:$E$159,"=1") -> 0 | N24: =IF(M24>$O$2, L24, "OK") -> OK | O24: =VLOOKUP(L24,報名總表及收費!$I$30:$K$118,2) -> C | P24: =IF(VLOOKUP(L24,報名總表及收費!$I$30:$K$118,3)=0,"",VLOOKUP(L24,報名總表及收費!$I$30:$K$118,3,FALSE)) -> 13400 | Q24: =IF(O24="D",YEAR(NOW())-$P$5,IF(O24="C",YEAR(NOW())-$O$5,IF(O24="F",YEAR(NOW())-$Q$5,IF(O24=0,"",O24)))) -> 15 | R24: =IF(E24=0,"",IF(MOD(E24,2)=0,"",VLOOKUP(E24,$L$23:$Q$63,6,FALSE))) | S24: =IF(D24=0,"",VLOOKUP(E24,$L$24:$Q$63,4,FALSE)) | T24: =IF(R24="","",IF(S24="C",IF(H24>=R24,"OK","FAIL"),IF(S24="F",IF(H24<=R24,"OK","FAIL"),IF(S24="D",IF(AND(H24<=R24,H24>=U24),"OK","FAIL"),IF(U24="",IF(H24=S24,"OK","FAIL"),IF(U24="9U",IF(H24<=9,"OK","FAIL"),IF(U24="UP",IF(H24>=15,"OK","FAIL"),IF(U24="DN",IF(H24<=7,"OK","FAIL"))))))))) | U24: =IF(R24="15U","UP",IF(R24="7D","DN",IF(R24="9U","9U",IF(S24="D",10,""))))
F25: =IF(E25="","",VLOOKUP(E25,報名總表及收費!$I$29:$L$110,4)) | H25: =IF(D25=0,"",YEAR(NOW())-D25) | J25: =IF(E25="","",IF(((VLOOKUP(E25,$L$24:$Q$66,5))<G25),"報項時間慢於達標時間",""))&IF(T25="FAIL"," 運動員錯組別","")&IF(E25="","",IF(MOD(E25,2)=1,""," 項目編號為男子組")) | L25: 3 | M25: =COUNTIFS($E$24:$E$159,"=3") -> 0 | N25: =IF(M25>$O$2, L25, "OK") -> OK | O25: =VLOOKUP(L25,報名總表及收費!$I$30:$K$118,2) -> D | P25: =IF(VLOOKUP(L25,報名總表及收費!$I$30:$K$118,3)=0,"",VLOOKUP(L25,報名總表及收費!$I$30:$K$118,3,FALSE)) -> 13600 | Q25: =IF(O25="D",YEAR(NOW())-$P$5,IF(O25="C",YEAR(NOW())-$O$5,IF(O25="F",YEAR(NOW())-$Q$5,IF(O25=0,"",O25)))) -> 14 | R25: =IF(E25=0,"",IF(MOD(E25,2)=0,"",VLOOKUP(E25,$L$23:$Q$63,6,FALSE))) | S25: =IF(D25=0,"",VLOOKUP(E25,$L$24:$Q$63,4,FALSE)) | T25: =IF(R25="","",IF(S25="C",IF(H25>=R25,"OK","FAIL"),IF(S25="F",IF(H25<=R25,"OK","FAIL"),IF(S25="D",IF(AND(H25<=R25,H25>=U25),"OK","FAIL"),IF(U25="",IF(H25=S25,"OK","FAIL"),IF(U25="9U",IF(H25<=9,"OK","FAIL"),IF(U25="UP",IF(H25>=15,"OK","FAIL"),IF(U25="DN",IF(H25<=7,"OK","FAIL"))))))))) | U25: =IF(R25="15U","UP",IF(R25="7D","DN",IF(R25="9U","9U",IF(S25="D",10,""))))
F26: =IF(E26="","",VLOOKUP(E26,報名總表及收費!$I$29:$L$110,4)) | H26: =IF(D26=0,"",YEAR(NOW())-D26) | J26: =IF(E26="","",IF(((VLOOKUP(E26,$L$24:$Q$66,5))<G26),"報項時間慢於達標時間",""))&IF(T26="FAIL"," 運動員錯組別","")&IF(E26="","",IF(MOD(E26,2)=1,""," 項目編號為男子組")) | L26: 5 | M26: =COUNTIFS($E$24:$E$159,"=5") -> 0 | N26: =IF(M26>$O$2, L26, "OK") -> OK | O26: =VLOOKUP(L26,報名總表及收費!$I$30:$K$118,2) -> C | P26: =IF(VLOOKUP(L26,報名總表及收費!$I$30:$K$118,3)=0,"",VLOOKUP(L26,報名總表及收費!$I$30:$K$118,3,FALSE)) -> 4200 | Q26: =IF(O26="D",YEAR(NOW())-$P$5,IF(O26="C",YEAR(NOW())-$O$5,IF(O26="F",YEAR(NOW())-$Q$5,IF(O26=0,"",O26)))) -> 15 | R26: =IF(E26=0,"",IF(MOD(E26,2)=0,"",VLOOKUP(E26,$L$23:$Q$63,6,FALSE))) | S26: =IF(D26=0,"",VLOOKUP(E26,$L$24:$Q$63,4,FALSE)) | T26: =IF(R26="","",IF(S26="C",IF(H26>=R26,"OK","FAIL"),IF(S26="F",IF(H26<=R26,"OK","FAIL"),IF(S26="D",IF(AND(H26<=R26,H26>=U26),"OK","FAIL"),IF(U26="",IF(H26=S26,"OK","FAIL"),IF(U26="9U",IF(H26<=9,"OK","FAIL"),IF(U26="UP",IF(H26>=15,"OK","FAIL"),IF(U26="DN",IF(H26<=7,"OK","FAIL"))))))))) | U26: =IF(R26="15U","UP",IF(R26="7D","DN",IF(R26="9U","9U",IF(S26="D",10,""))))
F27: =IF(E27="","",VLOOKUP(E27,報名總表及收費!$I$29:$L$110,4)) | H27: =IF(D27=0,"",YEAR(NOW())-D27) | J27: =IF(E27="","",IF(((VLOOKUP(E27,$L$24:$Q$66,5))<G27),"報項時間慢於達標時間",""))&IF(T27="FAIL"," 運動員錯組別","")&IF(E27="","",IF(MOD(E27,2)=1,""," 項目編號為男子組")) | L27: 7 | M27: =COUNTIFS($E$24:$E$159,"=7") -> 0 | N27: =IF(M27>$O$2, L27, "OK") -> OK | O27: =VLOOKUP(L27,報名總表及收費!$I$30:$K$118,2) -> D | P27: =IF(VLOOKUP(L27,報名總表及收費!$I$30:$K$118,3)=0,"",VLOOKUP(L27,報名總表及收費!$I$30:$K$118,3,FALSE)) -> 4500 | Q27: =IF(O27="D",YEAR(NOW())-$P$5,IF(O27="C",YEAR(NOW())-$O$5,IF(O27="F",YEAR(NOW())-$Q$5,IF(O27=0,"",O27)))) -> 14 | R27: =IF(E27=0,"",IF(MOD(E27,2)=0,"",VLOOKUP(E27,$L$23:$Q$63,6,FALSE))) | S27: =IF(D27=0,"",VLOOKUP(E27,$L$24:$Q$63,4,FALSE)) | T27: =IF(R27="","",IF(S27="C",IF(H27>=R27,"OK","FAIL"),IF(S27="F",IF(H27<=R27,"OK","FAIL"),IF(S27="D",IF(AND(H27<=R27,H27>=U27),"OK","FAIL"),IF(U27="",IF(H27=S27,"OK","FAIL"),IF(U27="9U",IF(H27<=9,"OK","FAIL"),IF(U27="UP",IF(H27>=15,"OK","FAIL"),IF(U27="DN",IF(H27<=7,"OK","FAIL"))))))))) | U27: =IF(R27="15U","UP",IF(R27="7D","DN",IF(R27="9U","9U",IF(S27="D",10,""))))
A28: 女運動員 2 | F28: =IF(E28="","",VLOOKUP(E28,報名總表及收費!$I$29:$L$110,4)) | H28: =IF(D28=0,"",YEAR(NOW())-D28) | J28: =IF(E28="","",IF(((VLOOKUP(E28,$L$24:$Q$66,5))<G28),"報項時間慢於達標時間",""))&IF(T28="FAIL"," 運動員錯組別","")&IF(E28="","",IF(MOD(E28,2)=1,""," 項目編號為男子組")) | L28: 9 | M28: =COUNTIFS($E$24:$E$159,"=9") -> 0 | N28: =IF(M28>$O$2, L28, "OK") -> OK | O28: =VLOOKUP(L28,報名總表及收費!$I$30:$K$118,2) -> F | P28: =IF(VLOOKUP(L28,報名總表及收費!$I$30:$K$118,3)=0,"",VLOOKUP(L28,報名總表及收費!$I$30:$K$118,3,FALSE)) -> 5500 | Q28: =IF(O28="D",YEAR(NOW())-$P$5,IF(O28="C",YEAR(NOW())-$O$5,IF(O28="F",YEAR(NOW())-$Q$5,IF(O28=0,"",O28)))) -> 9 | R28: =IF(E28=0,"",IF(MOD(E28,2)=0,"",VLOOKUP(E28,$L$23:$Q$63,6,FALSE))) | S28: =IF(D28=0,"",VLOOKUP(E28,$L$24:$Q$63,4,FALSE)) | T28: =IF(R28="","",IF(S28="C",IF(H28>=R28,"OK","FAIL"),IF(S28="F",IF(H28<=R28,"OK","FAIL"),IF(S28="D",IF(AND(H28<=R28,H28>=U28),"OK","FAIL"),IF(U28="",IF(H28=S28,"OK","FAIL"),IF(U28="9U",IF(H28<=9,"OK","FAIL"),IF(U28="UP",IF(H28>=15,"OK","FAIL"),IF(U28="DN",IF(H28<=7,"OK","FAIL"))))))))) | U28: =IF(R28="15U","UP",IF(R28="7D","DN",IF(R28="9U","9U",IF(S28="D",10,""))))
F29: =IF(E29="","",VLOOKUP(E29,報名總表及收費!$I$29:$L$110,4)) | H29: =IF(D29=0,"",YEAR(NOW())-D29) | J29: =IF(E29="","",IF(((VLOOKUP(E29,$L$24:$Q$66,5))<G29),"報項時間慢於達標時間",""))&IF(T29="FAIL"," 運動員錯組別","")&IF(E29="","",IF(MOD(E29,2)=1,""," 項目編號為男子組")) | L29: 11 | M29: =COUNTIFS($E$24:$E$159,"=11") -> 0 | N29: =IF(M29>$O$2, L29, "OK") -> OK | O29: =VLOOKUP(L29,報名總表及收費!$I$30:$K$118,2) -> C | P29: =IF(VLOOKUP(L29,報名總表及收費!$I$30:$K$118,3)=0,"",VLOOKUP(L29,報名總表及收費!$I$30:$K$118,3,FALSE)) -> 13200 | Q29: =IF(O29="D",YEAR(NOW())-$P$5,IF(O29="C",YEAR(NOW())-$O$5,IF(O29="F",YEAR(NOW())-$Q$5,IF(O29=0,"",O29)))) -> 15 | R29: =IF(E29=0,"",IF(MOD(E29,2)=0,"",VLOOKUP(E29,$L$23:$Q$63,6,FALSE))) | S29: =IF(D29=0,"",VLOOKUP(E29,$L$24:$Q$63,4,FALSE)) | T29: =IF(R29="","",IF(S29="C",IF(H29>=R29,"OK","FAIL"),IF(S29="F",IF(H29<=R29,"OK","FAIL"),IF(S29="D",IF(AND(H29<=R29,H29>=U29),"OK","FAIL"),IF(U29="",IF(H29=S29,"OK","FAIL"),IF(U29="9U",IF(H29<=9,"OK","FAIL"),IF(U29="UP",IF(H29>=15,"OK","FAIL"),IF(U29="DN",IF(H29<=7,"OK","FAIL"))))))))) | U29: =IF(R29="15U","UP",IF(R29="7D","DN",IF(R29="9U","9U",IF(S29="D",10,""))))
F30: =IF(E30="","",VLOOKUP(E30,報名總表及收費!$I$29:$L$110,4)) | H30: =IF(D30=0,"",YEAR(NOW())-D30) | J30: =IF(E30="","",IF(((VLOOKUP(E30,$L$24:$Q$66,5))<G30),"報項時間慢於達標時間",""))&IF(T30="FAIL"," 運動員錯組別","")&IF(E30="","",IF(MOD(E30,2)=1,""," 項目編號為男子組")) | L30: 13 | M30: =COUNTIFS($E$24:$E$159,"=13") -> 0 | N30: =IF(M30>$O$2, L30, "OK") -> OK | O30: =VLOOKUP(L30,報名總表及收費!$I$30:$K$118,2) -> D | P30: =IF(VLOOKUP(L30,報名總表及收費!$I$30:$K$118,3)=0,"",VLOOKUP(L30,報名總表及收費!$I$30:$K$118,3,FALSE)) -> 13400 | Q30: =IF(O30="D",YEAR(NOW())-$P$5,IF(O30="C",YEAR(NOW())-$O$5,IF(O30="F",YEAR(NOW())-$Q$5,IF(O30=0,"",O30)))) -> 14 | R30: =IF(E30=0,"",IF(MOD(E30,2)=0,"",VLOOKUP(E30,$L$23:$Q$63,6,FALSE))) | S30: =IF(D30=0,"",VLOOKUP(E30,$L$24:$Q$63,4,FALSE)) | T30: =IF(R30="","",IF(S30="C",IF(H30>=R30,"OK","FAIL"),IF(S30="F",IF(H30<=R30,"OK","FAIL"),IF(S30="D",IF(AND(H30<=R30,H30>=U30),"OK","FAIL"),IF(U30="",IF(H30=S30,"OK","FAIL"),IF(U30="9U",IF(H30<=9,"OK","FAIL"),IF(U30="UP",IF(H30>=15,"OK","FAIL"),IF(U30="DN",IF(H30<=7,"OK","FAIL"))))))))) | U30: =IF(R30="15U","UP",IF(R30="7D","DN",IF(R30="9U","9U",IF(S30="D",10,""))))
F31: =IF(E31="","",VLOOKUP(E31,報名總表及收費!$I$29:$L$110,4)) | H31: =IF(D31=0,"",YEAR(NOW())-D31) | J31: =IF(E31="","",IF(((VLOOKUP(E31,$L$24:$Q$66,5))<G31),"報項時間慢於達標時間",""))&IF(T31="FAIL"," 運動員錯組別","")&IF(E31="","",IF(MOD(E31,2)=1,""," 項目編號為男子組")) | L31: 15 | M31: =COUNTIFS($E$24:$E$159,"=15") -> 0 | N31: =IF(M31>$O$2, L31, "OK") -> OK | O31: =VLOOKUP(L31,報名總表及收費!$I$30:$K$118,2) -> C | P31: =IF(VLOOKUP(L31,報名總表及收費!$I$30:$K$118,3)=0,"",VLOOKUP(L31,報名總表及收費!$I$30:$K$118,3,FALSE)) -> 3600 | Q31: =IF(O31="D",YEAR(NOW())-$P$5,IF(O31="C",YEAR(NOW())-$O$5,IF(O31="F",YEAR(NOW())-$Q$5,IF(O31=0,"",O31)))) -> 15 | R31: =IF(E31=0,"",IF(MOD(E31,2)=0,"",VLOOKUP(E31,$L$23:$Q$63,6,FALSE))) | S31: =IF(D31=0,"",VLOOKUP(E31,$L$24:$Q$63,4,FALSE)) | T31: =IF(R31="","",IF(S31="C",IF(H31>=R31,"OK","FAIL"),IF(S31="F",IF(H31<=R31,"OK","FAIL"),IF(S31="D",IF(AND(H31<=R31,H31>=U31),"OK","FAIL"),IF(U31="",IF(H31=S31,"OK","FAIL"),IF(U31="9U",IF(H31<=9,"OK","FAIL"),IF(U31="UP",IF(H31>=15,"OK","FAIL"),IF(U31="DN",IF(H31<=7,"OK","FAIL"))))))))) | U31: =IF(R31="15U","UP",IF(R31="7D","DN",IF(R31="9U","9U",IF(S31="D",10,""))))
A32: 女運動員 3 | F32: =IF(E32="","",VLOOKUP(E32,報名總表及收費!$I$29:$L$110,4)) | H32: =IF(D32=0,"",YEAR(NOW())-D32) | J32: =IF(E32="","",IF(((VLOOKUP(E32,$L$24:$Q$66,5))<G32),"報項時間慢於達標時間",""))&IF(T32="FAIL"," 運動員錯組別","")&IF(E32="","",IF(MOD(E32,2)=1,""," 項目編號為男子組")) | L32: 17 | M32: =COUNTIFS($E$24:$E$159,"=17") -> 0 | N32: =IF(M32>$O$2, L32, "OK") -> OK | O32: =VLOOKUP(L32,報名總表及收費!$I$30:$K$118,2) -> D | P32: =IF(VLOOKUP(L32,報名總表及收費!$I$30:$K$118,3)=0,"",VLOOKUP(L32,報名總表及收費!$I$30:$K$118,3,FALSE)) -> 3900 | Q32: =IF(O32="D",YEAR(NOW())-$P$5,IF(O32="C",YEAR(NOW())-$O$5,IF(O32="F",YEAR(NOW())-$Q$5,IF(O32=0,"",O32)))) -> 14 | R32: =IF(E32=0,"",IF(MOD(E32,2)=0,"",VLOOKUP(E32,$L$23:$Q$63,6,FALSE))) | S32: =IF(D32=0,"",VLOOKUP(E32,$L$24:$Q$63,4,FALSE)) | T32: =IF(R32="","",IF(S32="C",IF(H32>=R32,"OK","FAIL"),IF(S32="F",IF(H32<=R32,"OK","FAIL"),IF(S32="D",IF(AND(H32<=R32,H32>=U32),"OK","FAIL"),IF(U32="",IF(H32=S32,"OK","FAIL"),IF(U32="9U",IF(H32<=9,"OK","FAIL"),IF(U32="UP",IF(H32>=15,"OK","FAIL"),IF(U32="DN",IF(H32<=7,"OK","FAIL"))))))))) | U32: =IF(R32="15U","UP",IF(R32="7D","DN",IF(R32="9U","9U",IF(S32="D",10,""))))
F33: =IF(E33="","",VLOOKUP(E33,報名總表及收費!$I$29:$L$110,4)) | H33: =IF(D33=0,"",YEAR(NOW())-D33) | J33: =IF(E33="","",IF(((VLOOKUP(E33,$L$24:$Q$66,5))<G33),"報項時間慢於達標時間",""))&IF(T33="FAIL"," 運動員錯組別","")&IF(E33="","",IF(MOD(E33,2)=1,""," 項目編號為男子組")) | L33: 19 | M33: =COUNTIFS($E$24:$E$159,"=19") -> 0 | N33: =IF(M33>$O$2, L33, "OK") -> OK | O33: =VLOOKUP(L33,報名總表及收費!$I$30:$K$118,2) -> F | P33: =IF(VLOOKUP(L33,報名總表及收費!$I$30:$K$118,3)=0,"",VLOOKUP(L33,報名總表及收費!$I$30:$K$118,3,FALSE)) -> 4300 | Q33: =IF(O33="D",YEAR(NOW())-$P$5,IF(O33="C",YEAR(NOW())-$O$5,IF(O33="F",YEAR(NOW())-$Q$5,IF(O33=0,"",O33)))) -> 9 | R33: =IF(E33=0,"",IF(MOD(E33,2)=0,"",VLOOKUP(E33,$L$23:$Q$63,6,FALSE))) | S33: =IF(D33=0,"",VLOOKUP(E33,$L$24:$Q$63,4,FALSE)) | T33: =IF(R33="","",IF(S33="C",IF(H33>=R33,"OK","FAIL"),IF(S33="F",IF(H33<=R33,"OK","FAIL"),IF(S33="D",IF(AND(H33<=R33,H33>=U33),"OK","FAIL"),IF(U33="",IF(H33=S33,"OK","FAIL"),IF(U33="9U",IF(H33<=9,"OK","FAIL"),IF(U33="UP",IF(H33>=15,"OK","FAIL"),IF(U33="DN",IF(H33<=7,"OK","FAIL"))))))))) | U33: =IF(R33="15U","UP",IF(R33="7D","DN",IF(R33="9U","9U",IF(S33="D",10,""))))
F34: =IF(E34="","",VLOOKUP(E34,報名總表及收費!$I$29:$L$110,4)) | H34: =IF(D34=0,"",YEAR(NOW())-D34) | J34: =IF(E34="","",IF(((VLOOKUP(E34,$L$24:$Q$66,5))<G34),"報項時間慢於達標時間",""))&IF(T34="FAIL"," 運動員錯組別","")&IF(E34="","",IF(MOD(E34,2)=1,""," 項目編號為男子組")) | L34: 21 | M34: =COUNTIFS($E$24:$E$159,"=21") -> 0 | N34: =IF(M34>$O$2, L34, "OK") -> OK | O34: =VLOOKUP(L34,報名總表及收費!$I$30:$K$118,2) -> C | P34: =IF(VLOOKUP(L34,報名總表及收費!$I$30:$K$118,3)=0,"",VLOOKUP(L34,報名總表及收費!$I$30:$K$118,3,FALSE)) | Q34: =IF(O34="D",YEAR(NOW())-$P$5,IF(O34="C",YEAR(NOW())-$O$5,IF(O34="F",YEAR(NOW())-$Q$5,IF(O34=0,"",O34)))) -> 15 | R34: =IF(E34=0,"",IF(MOD(E34,2)=0,"",VLOOKUP(E34,$L$23:$Q$63,6,FALSE))) | S34: =IF(D34=0,"",VLOOKUP(E34,$L$24:$Q$63,4,FALSE)) | T34: =IF(R34="","",IF(S34="C",IF(H34>=R34,"OK","FAIL"),IF(S34="F",IF(H34<=R34,"OK","FAIL"),IF(S34="D",IF(AND(H34<=R34,H34>=U34),"OK","FAIL"),IF(U34="",IF(H34=S34,"OK","FAIL"),IF(U34="9U",IF(H34<=9,"OK","FAIL"),IF(U34="UP",IF(H34>=15,"OK","FAIL"),IF(U34="DN",IF(H34<=7,"OK","FAIL"))))))))) | U34: =IF(R34="15U","UP",IF(R34="7D","DN",IF(R34="9U","9U",IF(S34="D",10,""))))
