Workbook

Sheet 報名總表及收費
A1: 香港中華業餘游泳聯會 比賽報名總表 | H1: 比賽名稱 | I1: 比賽日期 | J1: 比賽地點 | M1: A | N1: B | O1: C | P1: D | Q1: E | R1: F | AS1: Fee (Ind) | AT1: Fee (Relay)
H2: 屬會新秀游泳比賽(第一天) | I2: 46152 | J2: 大環山游泳池 | L2: 新秀1 | S2: 新秀賽3項 | T2: 4 | U2: 34 | V2: 4X50米四式階梯接力 | W2: 36 | X2: 4X50米自由式階梯接力 | AG2: 33 | AH2: 4X50米四式階梯接力 | AI2: 35 | AJ2: 4X50米自由式階梯接力 | AS2: 15 | AT2: 30
A3: 填表注意事項: | H3: 屬會新秀游泳比賽(第二天) | I3: 46166 | J3: 大環山游泳池 | L3: 新秀2 | S3: 新秀賽3項 | T3: 4 | U3: 32 | V3: 4X50米四式階梯接力 | W3: 34 | X3: 4X50米自由式階梯接力 | AG3: 31 | AH3: 4X50米四式階梯接力 | AI3: 33 | AJ3: 4X50米自由式階梯接力 | AS3: 15 | AT3: 30
H4: 周年(長池)游泳錦標賽 | I4: TBC | J4: TBC | L4: 周年 | M4: 2009 | N4: 2009 | O4: 2010 | P4: 2010 | Q4: 2015 | R4: 2015 | S4: 週年賽4項 | T4: 4 | U4: 38 | V4: 男甲4X100米混合泳接力 | W4: 40 | X4: 男乙4X100米混合泳接力 | Y4: 42 | Z4: 男丙4X50米混合泳接力 | AA4: 80 | AB4: 男甲4X100米自由泳接力 | AC4: 82 | AD4: 男乙4X100米自由泳接力 | AE4: 84 | AF4: 男丙4X50米自由泳接力 | AG4: 37 | AH4: 女甲4X100米混合泳接力 | AI4: 39 | AJ4: 女乙4X100米混合泳接力 | AK4: 41 | AL4: 女丙4X50米混合泳接力 | AM4: 79 | AN4: 女甲4X100米自由泳接力 | AO4: 81 | AP4: 女乙4X100米自由泳接力 | AQ4: 83 | AR4: 女丙4X50米自由泳接力 | AS4: 15 | AT4: 30
A5: 1. 請先在此版面先填寫基本資料，其後相關資料會自動顯示所屬版面及位置上 | H5: 周年(短池)游泳錦標賽 | I5: 46348 | J5: 城門谷游泳池 | L5: 短池 | M5: 2009 | N5: 2009 | O5: 2010 | P5: 2010 | Q5: 2015 | R5: 2015 | S5: 週年賽4項 | T5: 4 | U5: 22 | V5: 男甲 4X50米自由泳接力 | W5: 24 | X5: 男乙 4X50米自由泳接力 | Y5: 26 | Z5: 男丙 4X50米自由泳接力 | AA5: 54 | AB5: 男甲 4X50米四式接力 | AC5: 56 | AD5: 男乙 4X50米四式接力 | AE5: 58 | AF5: 男丙4X50米四式接力 | AG5: 21 | AH5: 女甲 4X50米自由泳接力 | AI5: 23 | AJ5: 女乙 4X50米自由泳接力 | AK5: 25 | AL5: 女丙 4X50米自由泳接力 | AM5: 53 | AN5: 女甲 4X50米四式接力 | AO5: 55 | AP5: 女乙 4X50米四式接力 | AQ5: 57 | AR5: 女丙4X50米四式接力 | AS5: 15 | AT5: 30
A6: 2. 報名格式及要求，請參閱報名版面 | I6: TBC | J6: TBC | L6: 嶺南杯 | S6: 3項 | T6: 3 | U6: 41 | V6: 男女子混合4X50米四式接力 | W6: 83 | X6: 男女子混合4x50米自由泳接力 | AS6: 50 | AT6: 100
A7: 3. 請盡量使用Microsoft Excel填寫報名表，以獲得最佳效果。表格內所有提示只供參考。
A8: Google sheet 報名連結 | H8: 年齡 | I8: 1 | J8: 2 | K8: 3 | L8: 4 | M8: 5 | N8: 6 | O8: 7 | P8: 8 | Q8: 9 | R8: 10 | S8: 11 | T8: 12 | U8: 13 | V8: 14 | W8: 15 | X8: 16 | Y8: 17 | Z8: 18 | AA8: 19 | AB8: 20 | AC8: 21 | AD8: 22 | AE8: 23 | AF8: 24 | AG8: 25 | AH8: 26 | AI8: 27 | AJ8: 28 | AK8: 29 | AL8: 30 | AM8: 31 | AN8: 32 | AO8: 33 | AP8: 34 | AQ8: 35 | AR8: 36 | AS8: 37 | AT8: 38 | AU8: 39 | AV8: 40 | AW8: 41 | AX8: 42 | AY8: 43 | AZ8: 44 | BA8: 45 | BB8: 46 | BC8: 47 | BD8: 48 | BE8: 49 | BF8: 50 | BG8: 51 | BH8: 52 | BI8: 53 | BJ8: 54 | BK8: 55 | BL8: 56 | BM8: 57 | BN8: 58 | BO8: 59 | BP8: 60 | BQ8: 61 | BR8: 62 | BS8: 63 | BT8: 64 | BU8: 65 | BV8: 66 | BW8: 67 | BX8: 68 | BY8: 69 | BZ8: 70 | CA8: 71 | CB8: 72 | CC8: 73 | CD8: 74 | CE8: 75 | CF8: 76 | CG8: 77 | CH8: 78 | CI8: 79 | CJ8: 80 | CK8: 81 | CL8: 82 | CM8: 83 | CN8: 84
H9: 新秀1 | I9: 14 | J9: 14 | K9: 15U | L9: 15U | M9: 14 | N9: 14 | O9: 15U | P9: 15U | Q9: 14 | R9: 14 | S9: 15U | T9: 15U | U9: 14 | V9: 14 | W9: 15U | X9: 15U | Y9: 14 | Z9: 14 | AA9: 15U | AB9: 15U | AC9: 14 | AD9: 14 | AE9: 15U | AF9: 15U | AG9: 14 | AH9: 14 | AI9: 15U | AJ9: 15U | AK9: 14 | AL9: 14 | AM9: 15U | AN9: 15U | AS9: 12 | AT9: 12 | AU9: 13 | AV9: 13 | AW9: 12 | AX9: 12 | AY9: 13 | AZ9: 13 | BA9: 12 | BB9: 12 | BC9: 13 | BD9: 13 | BE9: 12 | BF9: 12 | BG9: 13 | BH9: 13 | BI9: 12 | BJ9: 12 | BK9: 13 | BL9: 13 | BM9: 12 | BN9: 12 | BO9: 13 | BP9: 13 | BQ9: 12 | BR9: 12 | BS9: 13 | BT9: 13 | BU9: 12 | BV9: 12 | BW9: 13 | BX9: 13
A10: 團體名稱: | E10: 比賽名稱: | F10: 屬會新秀游泳比賽(第一天) | H10: 新秀2 | I10: 10 | J10: 10 | K10: 11 | L10: 11 | M10: 10 | N10: 10 | O10: 11 | P10: 11 | Q10: 10 | R10: 10 | S10: 11 | T10: 11 | U10: 10 | V10: 10 | W10: 11 | X10: 11 | Y10: 10 | Z10: 10 | AA10: 11 | AB10: 11 | AC10: 10 | AD10: 10 | AE10: 11 | AF10: 11 | AG10: 11 | AH10: 11 | AI10: 10 | AJ10: 10 | AK10: 11 | AL10: 11 | AQ10: 8 | AR10: 8 | AS10: 9 | AT10: 9 | AU10: 7D | AV10: 7D | AW10: 8 | AX10: 8 | AY10: 9 | AZ10: 9 | BA10: 8 | BB10: 8 | BC10: 9 | BD10: 9 | BE10: 7D | BF10: 7D | BG10: 8 | BH10: 8 | BI10: 9 | BJ10: 9 | BK10: 9 | BL10: 9 | BM10: 9 | BN10: 9
A11: 負責人: | E11: 比賽日期: | F11: =IF($F$10="","",VLOOKUP($F$10,$H$2:$J$6,2,FALSE)) -> 46152 | H11: 周年 | I11: C | J11: A | K11: D | L11: B | M11: F | N11: E | O11: C | P11: A | Q11: D | R11: B | S11: F | U11: C | V11: A | W11: C | X11: A | Y11: D | Z11: B | AA11: F | AB11: E | AC11: C | AD11: A | AE11: D | AF11: B | AG11: F | AH11: E | AI11: C | AJ11: A | AK11: D | AL11: B | AM11: C | AN11: A | AO11: D | AP11: B | AQ11: F | AR11: E | AS11: C | AT11: A | AU11: D | AV11: B | AW11: F | AX11: E | AY11: C | AZ11: A | BA11: D | BB11: B | BC11: F | BD11: E | BE11: C | BF11: A | BG11: D | BH11: B | BJ11: E | BK11: C | BL11: A | BM11: C | BN11: A | BO11: D | BP11: B | BQ11: F | BR11: E | BS11: C | BT11: A | BU11: D | BV11: B | BW11: F | BX11: E | BY11: C | BZ11: A | CA11: D | CB11: B | CC11: C | CD11: A | CE11: D | CF11: B | CG11: F | CH11: E | CI11: C | CJ11: A | CK11: D | CL11: B | CM11: F | CN11: E
A12: 聯絡電話: | E12: 比賽地點: | F12: =IF($F$10="","",VLOOKUP($F$10,$H$2:$J$6,3,FALSE)) -> 大環山游泳池 | H12: 短池 | I12: C | J12: A | K12: D | L12: B | M12: C | N12: A | O12: D | P12: B | Q12: F | R12: E | S12: C | T12: A | U12: D | V12: B | W12: C | X12: A | Y12: D | Z12: B | AA12: F | AB12: E | AC12: C | AD12: A | AE12: D | AF12: B | AG12: F | AH12: E | AI12: C | AJ12: A | AK12: D | AL12: B | AM12: F | AN12: E | AO12: C | AP12: A | AQ12: D | AR12: B | AS12: F | AT12: E | AU12: C | AV12: A | AW12: D | AX12: B | AY12: C | AZ12: A | BA12: D | BB12: B | BC12: F | BD12: E | BE12: C | BF12: A | BG12: D | BH12: B | BI12: C | BJ12: A | BK12: D | BL12: B | BM12: E | BN12: F
H13: 嶺南杯 | I13: 9U | J13: 9U | K13: 10 | L13: 10 | M13: 11 | N13: 11 | O13: 12 | P13: 12 | Q13: 13 | R13: 13 | S13: 9U | T13: 9U | U13: 10 | V13: 10 | W13: 11 | X13: 11 | Y13: 12 | Z13: 12 | AA13: 13 | AB13: 13 | AC13: 9U | AD13: 9U | AE13: 10 | AF13: 10 | AG13: 11 | AH13: 11 | AI13: 12 | AJ13: 12 | AK13: 13 | AL13: 13 | AM13: 9U | AN13: 9U | AO13: 10 | AP13: 10 | AQ13: 11 | AR13: 11 | AS13: 12 | AT13: 12 | AU13: 13 | AV13: 13 | AW13: Open | AY13: 9U | AZ13: 9U | BA13: 10 | BB13: 10 | BC13: 11 | BD13: 11 | BE13: 12 | BF13: 12 | BG13: 13 | BH13: 13 | BI13: 9U | BJ13: 9U | BK13: 10 | BL13: 10 | BM13: 11 | BN13: 11 | BO13: 12 | BP13: 12 | BQ13: 13 | BR13: 13 | BS13: 9U | BT13: 9U | BU13: 10 | BV13: 10 | BW13: 11 | BX13: 11 | BY13: 12 | BZ13: 12 | CA13: 13 | CB13: 13 | CC13: 9U | CD13: 9U | CE13: 10 | CF13: 10 | CG13: 11 | CH13: 11 | CI13: 12 | CJ13: 12 | CK13: 13 | CL13: 13 | CM13: Open
D14: 數量 | E14: 費用 | F14: 收費
C15: 單項(男) | D15: =COUNTA(男!E25:E164) -> 0 | E15: =H31 -> 15 | F15: =E15*D15 -> 0 | H15: 達標時間
H16: 新秀1
C17: 單項(女) | D17: =COUNTA(女!E25:E164) -> 0 | E17: =H31 -> 15 | F17: =E17*D17 -> 0 | H17: 新秀2
H18: 周年 | I18: 30000 | J18: 10705 | K18: 30000 | L18: 11003 | M18: 31000 | N18: 12650 | O18: 13656 | P18: 32000 | Q18: 13656 | R18: 32000 | S18: 14876 | U18: 33000 | V18: 31500 | W18: 14200 | X18: 12000 | Y18: 14200 | Z18: 12922 | AA18: 14200 | AB18: 14444 | AC18: 3280 | AD18: 3743 | AE18: 3506 | AF18: 3755 | AG18: 3916 | AH18: 5166 | AI18: 31500 | AJ18: 60000 | AK18: 32500 | AL18: 60000 | AM18: 4150 | AN18: 3214 | AO18: 4300 | AP18: 3564 | AQ18: 5054 | AR18: 4020 | AY18: 11899 | AZ18: 22624 | BA18: 12541 | BB18: 23075 | BC18: 13600 | BD18: 30000 | BE18: 31500 | BF18: 12458 | BG18: 32000 | BH18: 12792 | BJ18: 14381 | BK18: 32000 | BL18: 32000 | BM18: 13500 | BN18: 12000 | BO18: 14500 | BP18: 12915 | BQ18: 15000 | BR18: 13800 | BS18: 4398 | BT18: 2828 | BU18: 4406 | BV18: 2974 | BW18: 5500 | BX18: 3622 | BY18: 63000 | BZ18: 30370 | CA18: 63000 | CB18: 30370 | CC18: 3866 | CD18: 3518 | CE18: 4000 | CF18: 3680 | CG18: 4500 | CH18: 4612
C19: 接力 | D19: =COUNTA(男!G16:G21)+COUNTA(女!G16:G22) -> 0 | E19: =H32 -> 30 | F19: =E19*D19 -> 0 | H19: 短池 | I19: 13400 | J19: 13000 | K19: 13600 | L19: 13200 | M19: 4200 | N19: 3900 | O19: 4500 | P19: 4011 | Q19: 5900 | R19: 5000 | S19: 13200 | T19: 12600 | U19: 13400 | V19: 12800 | W19: 3600 | X19: 3000 | Y19: 3900 | Z19: 3509 | AA19: 4740 | AB19: 4211 | AI19: 13052 | AJ19: 12300 | AK19: 13700 | AL19: 12788 | AM19: 14500 | AN19: 14000 | AO19: 3900 | AP19: 3600 | AQ19: 4300 | AR19: 3800 | AS19: 5477 | AT19: 4500 | AU19: 13500 | AV19: 12500 | AW19: 14046 | AX19: 13400 | AY19: 3800 | AZ19: 3444 | BA19: 4000 | BB19: 3800 | BC19: 5000 | BD19: 4500 | BE19: 12000 | BF19: 10700 | BG19: 12266 | BH19: 11500
H20: 嶺南杯 | I20: 4500 | J20: 4400 | K20: 4300 | L20: 4200 | M20: 4100 | N20: 4000 | O20: 4000 | P20: 3900 | Q20: 4000 | R20: 3900 | S20: 4700 | T20: 4600 | U20: 4600 | V20: 4500 | W20: 4500 | X20: 4400 | Y20: 4400 | Z20: 4300 | AA20: 4300 | AB20: 4200 | AC20: 15500 | AD20: 15300 | AE20: 15300 | AF20: 15100 | AG20: 15100 | AH20: 14900 | AI20: 14900 | AJ20: 14700 | AK20: 14700 | AL20: 14500 | AM20: 14500 | AN20: 14300 | AO20: 14300 | AP20: 14100 | AQ20: 14100 | AR20: 13900 | AS20: 13900 | AT20: 13700 | AU20: 13900 | AV20: 13700 | AY20: 14000 | AZ20: 13800 | BA20: 13800 | BB20: 13600 | BC20: 13600 | BD20: 13400 | BE20: 13400 | BF20: 13200 | BG20: 13200 | BH20: 13000 | BI20: 15200 | BJ20: 15000 | BK20: 15000 | BL20: 14800 | BM20: 14800 | BN20: 14600 | BO20: 14600 | BP20: 14400 | BQ20: 14500 | BR20: 14200 | BS20: 5000 | BT20: 4900 | BU20: 4900 | BV20: 4800 | BW20: 4800 | BX20: 4700 | BY20: 4700 | BZ20: 4600 | CA20: 4600 | CB20: 4500 | CC20: 4600 | CD20: 4500 | CE20: 4500 | CF20: 4400 | CG20: 4400 | CH20: 4300 | CI20: 4300 | CJ20: 4200 | CK20: 4200 | CL20: 4100
C21: 成績證書行政費 | D21: =男!N2+女!N2 -> 0 | E21: $50.00 | F21: =E21*D21 -> 0
H22: Events
C23: 領取證書方式: | H23: 新秀1 | I23: 100米背泳 | J23: 100米背泳 | K23: 100米背泳 | L23: 100米背泳 | M23: 100米蛙泳 | N23: 100米蛙泳 | O23: 100米蛙泳 | P23: 100米蛙泳 | Q23: 50米蝶泳 | R23: 50米蝶泳 | S23: 50米蝶泳 | T23: 50米蝶泳 | U23: 50米自由泳 | V23: 50米自由泳 | W23: 50米自由泳 | X23: 50米自由泳 | Y23: 50米背泳 | Z23: 50米背泳 | AA23: 50米背泳 | AB23: 50米背泳 | AC23: 50米蛙泳 | AD23: 50米蛙泳 | AE23: 50米蛙泳 | AF23: 50米蛙泳 | AG23: 100米蝶泳 | AH23: 100米蝶泳 | AI23: 100米蝶泳 | AJ23: 100米蝶泳 | AK23: 100米自由泳 | AL23: 100米自由泳 | AM23: 100米自由泳 | AN23: 100米自由泳 | AO23: 4X50米四式接力 | AP23: 4X50米四式接力 | AQ23: 4X50米自由泳接力 | AR23: 4X50米自由泳接力 | AS23: 100米背泳 | AT23: 100米背泳 | AU23: 100米背泳 | AV23: 100米背泳 | AW23: 100米蛙泳 | AX23: 100米蛙泳 | AY23: 100米蛙泳 | AZ23: 100米蛙泳 | BA23: 50米蝶泳 | BB23: 50米蝶泳 | BC23: 50米蝶泳 | BD23: 50米蝶泳 | BE23: 50米自由泳 | BF23: 50米自由泳 | BG23: 50米自由泳 | BH23: 50米自由泳 | BI23: 50米背泳 | BJ23: 50米背泳 | BK23: 50米背泳 | BL23: 50米背泳 | BM23: 50米蛙泳 | BN23: 50米蛙泳 | BO23: 50米蛙泳 | BP23: 50米蛙泳 | BQ23: 100米蝶泳 | BR23: 100米蝶泳 | BS23: 100米蝶泳 | BT23: 100米蝶泳 | BU23: 100米自由泳 | BV23: 100米自由泳 | BW23: 100米自由泳 | BX23: 100米自由泳
H24: 新秀2 | I24: 100米背泳 | J24: 100米背泳 | K24: 100米背泳 | L24: 100米背泳 | M24: 100米蛙泳 | N24: 100米蛙泳 | O24: 100米蛙泳 | P24: 100米蛙泳 | Q24: 50米蝶泳 | R24: 50米蝶泳 | S24: 50米蝶泳 | T24: 50米蝶泳 | U24: 50米自由泳 | V24: 50米自由泳 | W24: 50米自由泳 | X24: 50米自由泳 | Y24: 50米背泳 | Z24: 50米背泳 | AA24: 50米背泳 | AB24: 50米背泳 | AC24: 50米蛙泳 | AD24: 50米蛙泳 | AE24: 50米蛙泳 | AF24: 50米蛙泳 | AG24: 100米蝶泳 | AH24: 100米蝶泳 | AI24: 100米自由泳 | AJ24: 100米自由泳 | AK24: 100米自由泳 | AL24: 100米自由泳 | AM24: 4X50米四式接力 | AN24: 4X50米四式接力 | AO24: 4X50米自由泳接力 | AP24: 4X50米自由泳接力 | AQ24: 50米背泳 | AR24: 50米背泳 | AS24: 50米背泳 | AT24: 50米背泳 | AU24: 50米蛙泳 | AV24: 50米蛙泳 | AW24: 50米蛙泳 | AX24: 50米蛙泳 | AY24: 50米蛙泳 | AZ24: 50米蛙泳 | BA24: 50米蝶泳 | BB24: 50米蝶泳 | BC24: 50米蝶泳 | BD24: 50米蝶泳 | BE24: 50米自由泳 | BF24: 50米自由泳 | BG24: 50米自由泳 | BH24: 50米自由泳 | BI24: 50米自由泳 | BJ24: 50米自由泳 | BK24: 100米蛙泳 | BL24: 100米蛙泳 | BM24: 100米自由泳 | BN24: 100米自由泳
C25: 郵寄地址: | H25: 周年 | I25: 女甲200米自由泳 | J25: 男甲100米自由泳 | K25: 女乙200米自由泳 | L25: 男乙100米自由泳 | M25: 女丙200米自由泳 | N25: 男丙100米自由泳 | O25: 女甲100米蛙泳 | P25: 男甲200米蛙泳 | Q25: 女乙100米蛙泳 | R25: 男乙200米蛙泳 | S25: 女丙100米蛙泳 | U25: 女甲200米背泳 | V25: 男甲200米蝶泳 | W25: 女甲100米蝶泳 | X25: 男甲100米背泳 | Y25: 女乙100米蝶泳 | Z25: 男乙100米背泳 | AA25: 女丙100米蝶泳 | AB25: 男丙100米背泳 | AC25: 女甲50米自由泳 | AD25: 男甲50米蛙泳 | AE25: 女乙50米自由泳 | AF25: 男乙50米蛙泳 | AG25: 女丙50米自由泳 | AH25: 男丙50米蛙泳 | AI25: 女甲200米混合泳 | AJ25: 男甲400米自由泳 | AK25: 女乙200米混合泳 | AL25: 男乙400米自由泳 | AM25: 女甲50米背泳 | AN25: 男甲50米蝶泳 | AO25: 女乙50米背泳 | AP25: 男乙50米蝶泳 | AQ25: 女丙50米背泳 | AR25: 男丙50米蝶泳 | AS25: 女甲4X100米混合泳接力 | AT25: 男甲4X100米混合泳接力 | AU25: 女乙4X100米混合泳接力 | AV25: 男乙4X100米混合泳接力 | AW25: 女丙4X50米混合泳接力 | AX25: 男丙4X50米混合泳接力 | AY25: 女甲100米自由泳 | AZ25: 男甲200米自由泳 | BA25: 女乙100米自由泳 | BB25: 男乙200米自由泳 | BC25: 女丙100米自由泳 | BD25: 男丙200米自由泳 | BE25: 女甲200米蛙泳 | BF25: 男甲100米蛙泳 | BG25: 女乙200米蛙泳 | BH25: 男乙100米蛙泳 | BJ25: 男丙100米蛙泳 | BK25: 女甲200米蝶泳 | BL25: 男甲200米背泳 | BM25: 女甲100米背泳 | BN25: 男甲100米蝶泳 | BO25: 女乙100米背泳 | BP25: 男乙100米蝶泳 | BQ25: 女丙100米背泳 | BR25: 男丙100米蝶泳 | BS25: 女甲50米蛙泳 | BT25: 男甲50米自由泳 | BU25: 女乙50米蛙泳 | BV25: 男乙50米自由泳 | BW25: 女丙50米蛙泳 | BX25: 男丙50米自由泳 | BY25: 女甲400米自由泳 | BZ25: 男甲200米混合泳 | CA25: 女乙400米自由泳 | CB25: 男乙200米混合泳 | CC25: 女甲50米蝶泳 | CD25: 男甲50米背泳 | CE25: 女乙50米蝶泳 | CF25: 男乙50米背泳 | CG25: 女丙50米蝶泳 | CH25: 男丙50米背泳 | CI25: 女甲4X100米自由泳接力 | CJ25: 男甲4X100米自由泳接力 | CK25: 女乙4X100米自由泳接力 | CL25: 男乙4X100米自由泳接力 | CM25: 女丙4X50米自由泳接力 | CN25: 男丙4X50米自由泳接力
H26: 短池 | I26: 女甲 100米背泳 | J26: 男甲 100米背泳 | K26: 女乙 100米背泳 | L26: 男乙 100米背泳 | M26: 女甲 50米蛙泳 | N26: 男甲 50米蛙泳 | O26: 女乙 50米蛙泳 | P26: 男乙 50米蛙泳 | Q26: 女丙 50米蛙泳 | R26: 男丙 50米蛙泳 | S26: 女甲 100米蝶泳 | T26: 男甲 100米蝶泳 | U26: 女乙 100米蝶泳 | V26: 男乙 100米蝶泳 | W26: 女甲 50米自由泳 | X26: 男甲 50米自由泳 | Y26: 女乙 50米自由泳 | Z26: 男乙 50米自由泳 | AA26: 女丙 50米自由泳 | AB26: 男丙 50米自由泳 | AC26: 女甲 4X50米自由泳接力 | AD26: 男甲 4X50米自由泳接力 | AE26: 女乙 4X50米自由泳接力 | AF26: 男乙 4X50米自由泳接力 | AG26: 女丙 4X50米自由泳接力 | AH26: 男丙 4X50米自由泳接力 | AI26: 女甲 100米個人混合泳 | AJ26: 男甲 100米個人混合泳 | AK26: 女乙 100米個人混合泳 | AL26: 男乙 100米個人混合泳 | AM26: 女丙 100米個人混合泳 | AN26: 男丙 100米個人混合泳 | AO26: 女甲 50米背泳 | AP26: 男甲 50米背泳 | AQ26: 女乙 50米背泳 | AR26: 男乙 50米背泳 | AS26: 女丙 50米背泳 | AT26: 男丙 50米背泳 | AU26: 女甲 100米蛙泳 | AV26: 男甲 100米蛙泳 | AW26: 女乙 100米蛙泳 | AX26: 男乙 100米蛙泳 | AY26: 女甲 50米蝶泳 | AZ26: 男甲 50米蝶泳 | BA26: 女乙 50米蝶泳 | BB26: 男乙 50米蝶泳 | BC26: 女丙 50米蝶泳 | BD26: 男丙 50米蝶泳 | BE26: 女甲 100米自由泳 | BF26: 男甲 100米自由泳 | BG26: 女乙 100米自由泳 | BH26: 男乙 100米自由泳 | BI26: 女甲 4X50米四式接力 | BJ26: 男甲 4X50米四式接力 | BK26: 女乙 4X50米四式接力 | BL26: 男乙 4X50米四式接力 | BM26: 女丙 4X50米四式接力 | BN26: 男丙 4X50米四式接力
C27: 註冊費用: | D27: =COUNTA(運動員註冊表!E18:E217) -> 0 | E27: $50.00 | F27: =E27*D27 -> 0 | H27: 嶺南杯 | I27: 女子9歲及以下50米自由泳 | J27: 男子9歲及以下50米自由泳 | K27: 女子10歲50米自由泳 | L27: 男子10歲50米自由泳 | M27: 女子11歲50米自由泳 | N27: 男子11歲50米自由泳 | O27: 女子12歲50米自由泳 | P27: 男子12歲50米自由泳 | Q27: 女子13歲50米自由泳 | R27: 男子13歲50米自由泳 | S27: 女子9歲及以下50米背泳 | T27: 男子9歲及以下50米背泳 | U27: 女子10歲50米背泳 | V27: 男子10歲50米背泳 | W27: 女子11歲50米背泳 | X27: 男子11歲50米背泳 | Y27: 女子12歲50米背泳 | Z27: 男子12歲50米背泳 | AA27: 女子13歲50米背泳 | AB27: 男子13歲50米背泳 | AC27: 女子9歲及以下100米蛙泳 | AD27: 男子9歲及以下100米蛙泳 | AE27: 女子10歲100米蛙泳 | AF27: 男子10歲100米蛙泳 | AG27: 女子11歲100米蛙泳 | AH27: 男子11歲100米蛙泳 | AI27: 女子12歲100米蛙泳 | AJ27: 男子12歲100米蛙泳 | AK27: 女子13歲100米蛙泳 | AL27: 男子13歲100米蛙泳 | AM27: 女子9歲及以下100米蝶泳 | AN27: 男子9歲及以下100米蝶泳 | AO27: 女子10歲100米蝶泳 | AP27: 男子10歲100米蝶泳 | AQ27: 女子11歲100米蝶泳 | AR27: 男子11歲100米蝶泳 | AS27: 女子12歲100米蝶泳 | AT27: 男子12歲100米蝶泳 | AU27: 女子13歲100米蝶泳 | AV27: 男子13歲100米蝶泳 | AY27: 女子9歲及以下100米自由泳 | AZ27: 男子9歲及以下100米自由泳 | BA27: 女子10歲100米自由泳 | BB27: 男子10歲100米自由泳 | BC27: 女子11歲100米自由泳 | BD27: 男子11歲100米自由泳 | BE27: 女子12歲100米自由泳 | BF27: 男子12歲100米自由泳 | BG27: 女子13歲100米自由泳 | BH27: 男子13歲100米自由泳 | BI27: 女子9歲及以下100米背泳 | BJ27: 男子9歲及以下100米背泳 | BK27: 女子10歲100米背泳 | BL27: 男子10歲100米背泳 | BM27: 女子11歲100米背泳 | BN27: 男子11歲100米背泳 | BO27: 女子12歲100米背泳 | BP27: 男子12歲100米背泳 | BQ27: 女子13歲100米背泳 | BR27: 男子13歲100米背泳 | BS27: 女子9歲及以下50米蛙泳 | BT27: 男子9歲及以下50米蛙泳 | BU27: 女子10歲50米蛙泳 | BV27: 男子10歲50米蛙泳 | BW27: 女子11歲50米蛙泳 | BX27: 男子11歲50米蛙泳 | BY27: 女子12歲50米蛙泳 | BZ27: 男子12歲50米蛙泳 | CA27: 女子13歲50米蛙泳 | CB27: 男子13歲50米蛙泳 | CC27: 女子9歲及以下50米蝶泳 | CD27: 男子9歲及以下50米蝶泳 | CE27: 女子10歲50米蝶泳 | CF27: 男子10歲50米蝶泳 | CG27: 女子11歲50米蝶泳 | CH27: 男子11歲50米蝶泳 | CI27: 女子12歲50米蝶泳 | CJ27: 男子12歲50米蝶泳 | CK27: 女子13歲50米蝶泳 | CL27: 男子13歲50米蝶泳
E29: 總收費 | F29: =F15+F17+F19+F21+F27 -> 0 | H29: =F10 -> 屬會新秀游泳比賽(第一天) | J29: 年齡 | K29: 達標時間 | L29: Events
H30: =VLOOKUP($H$29,$H$2:$M$6,5,FALSE) -> 新秀1 | I30: 1 | J30: =IF(VLOOKUP($H$30,$H$9:$CW$14,I30+1,FALSE)=0,"",VLOOKUP($H$30,$H$9:$CW$14,I30+1,FALSE)) -> 14 | K30: =IF(VLOOKUP($H$30,$H$16:$CW$20,I30+1,FALSE)=0,"",VLOOKUP($H$30,$H$16:$CW$20,I30+1,FALSE)) | L30: =IF(VLOOKUP($H$30,$H$23:$CW$27,I30+1,FALSE)=0,"",VLOOKUP($H$30,$H$23:$CW$27,I30+1,FALSE)) -> 100米背泳
H31: =VLOOKUP($H$30,$L$2:$AT$6,34,FALSE) -> 15 | I31: 2 | J31: =IF(VLOOKUP($H$30,$H$9:$CW$14,I31+1,FALSE)=0,"",VLOOKUP($H$30,$H$9:$CW$14,I31+1,FALSE)) -> 14 | K31: =IF(VLOOKUP($H$30,$H$16:$CW$20,I31+1,FALSE)=0,"",VLOOKUP($H$30,$H$16:$CW$20,I31+1,FALSE)) | L31: =IF(VLOOKUP($H$30,$H$23:$CW$27,I31+1,FALSE)=0,"",VLOOKUP($H$30,$H$23:$CW$27,I31+1,FALSE)) -> 100米背泳
H32: =VLOOKUP($H$30,$L$2:$AT$6,35,FALSE) -> 30 | I32: 3 | J32: =IF(VLOOKUP($H$30,$H$9:$CW$14,I32+1,FALSE)=0,"",VLOOKUP($H$30,$H$9:$CW$14,I32+1,FALSE)) -> 15U | K32: =IF(VLOOKUP($H$30,$H$16:$CW$20,I32+1,FALSE)=0,"",VLOOKUP($H$30,$H$16:$CW$20,I32+1,FALSE)) | L32: =IF(VLOOKUP($H$30,$H$23:$CW$27,I32+1,FALSE)=0,"",VLOOKUP($H$30,$H$23:$CW$27,I32+1,FALSE)) -> 100米背泳
I33: 4 | J33: =IF(VLOOKUP($H$30,$H$9:$CW$14,I33+1,FALSE)=0,"",VLOOKUP($H$30,$H$9:$CW$14,I33+1,FALSE)) -> 15U | K33: =IF(VLOOKUP($H$30,$H$16:$CW$20,I33+1,FALSE)=0,"",VLOOKUP($H$30,$H$16:$CW$20,I33+1,FALSE)) | L33: =IF(VLOOKUP($H$30,$H$23:$CW$27,I33+1,FALSE)=0,"",VLOOKUP($H$30,$H$23:$CW$27,I33+1,FALSE)) -> 100米背泳
I34: 5 | J34: =IF(VLOOKUP($H$30,$H$9:$CW$14,I34+1,FALSE)=0,"",VLOOKUP($H$30,$H$9:$CW$14,I34+1,FALSE)) -> 14 | K34: =IF(VLOOKUP($H$30,$H$16:$CW$20,I34+1,FALSE)=0,"",VLOOKUP($H$30,$H$16:$CW$20,I34+1,FALSE)) | L34: =IF(VLOOKUP($H$30,$H$23:$CW$27,I34+1,FALSE)=0,"",VLOOKUP($H$30,$H$23:$CW$27,I34+1,FALSE)) -> 100米蛙泳
H35: 欄1 | I35: 6 | J35: =IF(VLOOKUP($H$30,$H$9:$CW$14,I35+1,FALSE)=0,"",VLOOKUP($H$30,$H$9:$CW$14,I35+1,FALSE)) -> 14 | K35: =IF(VLOOKUP($H$30,$H$16:$CW$20,I35+1,FALSE)=0,"",VLOOKUP($H$30,$H$16:$CW$20,I35+1,FALSE)) | L35: =IF(VLOOKUP($H$30,$H$23:$CW$27,I35+1,FALSE)=0,"",VLOOKUP($H$30,$H$23:$CW$27,I35+1,FALSE)) -> 100米蛙泳
H36: 順豐到付(費用在取件時支付) | I36: 7 | J36: =IF(VLOOKUP($H$30,$H$9:$CW$14,I36+1,FALSE)=0,"",VLOOKUP($H$30,$H$9:$CW$14,I36+1,FALSE)) -> 15U | K36: =IF(VLOOKUP($H$30,$H$16:$CW$20,I36+1,FALSE)=0,"",VLOOKUP($H$30,$H$16:$CW$20,I36+1,FALSE)) | L36: =IF(VLOOKUP($H$30,$H$23:$CW$27,I36+1,FALSE)=0,"",VLOOKUP($H$30,$H$23:$CW$27,I36+1,FALSE)) -> 100米蛙泳
H37: 郵政平郵(郵費由本會支付) | I37: 8 | J37: =IF(VLOOKUP($H$30,$H$9:$CW$14,I37+1,FALSE)=0,"",VLOOKUP($H$30,$H$9:$CW$14,I37+1,FALSE)) -> 15U | K37: =IF(VLOOKUP($H$30,$H$16:$CW$20,I37+1,FALSE)=0,"",VLOOKUP($H$30,$H$16:$CW$20,I37+1,FALSE)) | L37: =IF(VLOOKUP($H$30,$H$23:$CW$27,I37+1,FALSE)=0,"",VLOOKUP($H$30,$H$23:$CW$27,I37+1,FALSE)) -> 100米蛙泳
I38: 9 | J38: =IF(VLOOKUP($H$30,$H$9:$CW$14,I38+1,FALSE)=0,"",VLOOKUP($H$30,$H$9:$CW$14,I38+1,FALSE)) -> 14 | K38: =IF(VLOOKUP($H$30,$H$16:$CW$20,I38+1,FALSE)=0,"",VLOOKUP($H$30,$H$16:$CW$20,I38+1,FALSE)) | L38: =IF(VLOOKUP($H$30,$H$23:$CW$27,I38+1,FALSE)=0,"",VLOOKUP($H$30,$H$23:$CW$27,I38+1,FALSE)) -> 50米蝶泳
I39: 10 | J39: =IF(VLOOKUP($H$30,$H$9:$CW$14,I39+1,FALSE)=0,"",VLOOKUP($H$30,$H$9:$CW$14,I39+1,FALSE)) -> 14 | K39: =IF(VLOOKUP($H$30,$H$16:$CW$20,I39+1,FALSE)=0,"",VLOOKUP($H$30,$H$16:$CW$20,I39+1,FALSE)) | L39: =IF(VLOOKUP($H$30,$H$23:$CW$27,I39+1,FALSE)=0,"",VLOOKUP($H$30,$H$23:$CW$27,I39+1,FALSE)) -> 50米蝶泳
I40: 11 | J40: =IF(VLOOKUP($H$30,$H$9:$CW$14,I40+1,FALSE)=0,"",VLOOKUP($H$30,$H$9:$CW$14,I40+1,FALSE)) -> 15U | K40: =IF(VLOOKUP($H$30,$H$16:$CW$20,I40+1,FALSE)=0,"",VLOOKUP($H$30,$H$16:$CW$20,I40+1,FALSE)) | L40: =IF(VLOOKUP($H$30,$H$23:$CW$27,I40+1,FALSE)=0,"",VLOOKUP($H$30,$H$23:$CW$27,I40+1,FALSE)) -> 50米蝶泳
I41: 12 | J41: =IF(VLOOKUP($H$30,$H$9:$CW$14,I41+1,FALSE)=0,"",VLOOKUP($H$30,$H$9:$CW$14,I41+1,FALSE)) -> 15U | K41: =IF(VLOOKUP($H$30,$H$16:$CW$20,I41+1,FALSE)=0,"",VLOOKUP($H$30,$H$16:$CW$20,I41+1,FALSE)) | L41: =IF(VLOOKUP($H$30,$H$23:$CW$27,I41+1,FALSE)=0,"",VLOOKUP($H$30,$H$23:$CW$27,I41+1,FALSE)) -> 50米蝶泳
...

Sheet 男
A1: 香港中華業餘游泳聯會 比賽報名表 (男子) | O1: Max Event per club
A2: 填表注意事項: | N2: =COUNTA(I25:I164) -> 0 | O2: =VLOOKUP(F11,報名總表及收費!H1:T7,13,FALSE) -> 4 | T2: 欄1
A3: 1. 請根據所屬性別分別填寫在指定的報名表上(報名表分為男，女)，接力在報名表上方，只需按比賽項目輸入報項時間便可 | T3: Y
A4: 2. 請準確及清楚填寫各項資料，所有超額報名、資料不全、錯填資料均被視為無效。無效報名會被拒參賽，報名費怒不退回。 | O4: A | P4: B | Q4: E
A5: ="3. 每個個人項目每團體最多可報"& VLOOKUP(F11,報名總表及收費!H1:T7,13,FALSE) & "個運動員。每名運動員限報個人項目︰"& VLOOKUP(F11,報名總表及收費!H1:T7,12,FALSE) &"，個人項目報名總數可參考報名表右方" -> 3. 每個個人項目每團體最多可報4個運動員。每名運動員限報個人項目︰新秀賽3項，個人項目報名總數可參考報名表右方 | O5: =VLOOKUP($O$8,報名總表及收費!$L$2:$R$5,2,FALSE) -> 0 | P5: =VLOOKUP($O$8,報名總表及收費!$L$2:$R$5,3,FALSE) -> 0 | Q5: =VLOOKUP($O$8,報名總表及收費!$L$2:$R$5,6,FALSE) -> 0
A6: 4. 時間格式以此為準 - 例: 0:26:88 , 請輸入 2688
A7: 5. 只需輸入綠色欄位的資料，其他為自動填寫資料。
A8: 6. 若儲存格出現紅色，請重新檢查該項目是否報錯資料。 | O8: =報名總表及收費!H30 -> 新秀1
A9: 7. 如需申請成績證書，請在"申請成績證書"格上填上"Y"，若不申請可漏空。比賽後申請成績證書，本會將額外收取每張港元10元行政費(即每項每張港元共60元行政費)
A11: 團體名稱: | B11: =IF(報名總表及收費!B10=0,"",報名總表及收費!B10) | E11: 比賽名稱: | F11: =報名總表及收費!F10 -> 屬會新秀游泳比賽(第一天)
A12: 負責人: | B12: =IF(報名總表及收費!B11=0,"",報名總表及收費!B11) | E12: 比賽日期: | F12: =報名總表及收費!F11 -> 46152
A13: 聯絡電話: | B13: =IF(報名總表及收費!B12=0,"",報名總表及收費!B12) | E13: 比賽地點: | F13: =報名總表及收費!F12 -> 大環山游泳池
B15: 接力團體 | E15: 項目編號 | F15: 接力項目 | G15: 報項時間 | J15: 備註 | L15: 團體項目 | M15: 總數
A16: 接力項目 | B16: =IF(報名總表及收費!$B$10=0,"",報名總表及收費!$B$10) | E16: =VLOOKUP(報名總表及收費!$H$30,報名總表及收費!$L$2:$AX$6,10,FALSE) -> 34 | F16: =VLOOKUP(報名總表及收費!$H$30,報名總表及收費!$L$2:$AX$6,11,FALSE) -> 4X50米四式階梯接力 | J16: =IF(B16="","",IF(G16="","未報名","")) | L16: =E16 -> 34 | M16: =COUNTA(G16) -> 0
B17: =IF(報名總表及收費!$B$10=0,"",報名總表及收費!$B$10) | E17: =VLOOKUP(報名總表及收費!$H$30,報名總表及收費!$L$2:$AX$6,12,FALSE) -> 36 | F17: =VLOOKUP(報名總表及收費!$H$30,報名總表及收費!$L$2:$AX$6,13,FALSE) -> 4X50米自由式階梯接力 | J17: =IF(B17="","",IF(G17="","未報名","")) | L17: =E17 -> 36 | M17: =COUNTA(G17) -> 0
B18: =IF(E18="","",IF(報名總表及收費!$B$10=0,"",報名總表及收費!$B$10)) | E18: =IF(VLOOKUP(報名總表及收費!$H$30,報名總表及收費!$L$2:$AX$6,14,FALSE)= 0,"",VLOOKUP(報名總表及收費!$H$30,報名總表及收費!$L$2:$AX$6,14,FALSE)) | F18: =IF(VLOOKUP(報名總表及收費!$H$30,報名總表及收費!$L$2:$AX$6,15,FALSE)=0,"",VLOOKUP(報名總表及收費!$H$30,報名總表及收費!$L$2:$AX$6,15,FALSE)) | J18: =IF(B18="","",IF(G18="","未報名","")) | L18: =E18 | M18: =COUNTA(G18) -> 0
B19: =IF(E19="","",IF(報名總表及收費!$B$10=0,"",報名總表及收費!$B$10)) | E19: =IF(VLOOKUP(報名總表及收費!$H$30,報名總表及收費!$L$2:$AX$6,16,FALSE)=0,"",VLOOKUP(報名總表及收費!$H$30,報名總表及收費!$L$2:$AX$6,16,FALSE)) | F19: =IF(VLOOKUP(報名總表及收費!$H$30,報名總表及收費!$L$2:$AX$6,17,FALSE)=0,"",VLOOKUP(報名總表及收費!$H$30,報名總表及收費!$L$2:$AX$6,17,FALSE)) | J19: =IF(B19="","",IF(G19="","未報名","")) | L19: =E19 | M19: =COUNTA(G19) -> 0
B20: =IF(E20="","",IF(報名總表及收費!$B$10=0,"",報名總表及收費!$B$10)) | E20: =IF(VLOOKUP(報名總表及收費!$H$30,報名總表及收費!$L$2:$AX$6,18,FALSE)=0,"",VLOOKUP(報名總表及收費!$H$30,報名總表及收費!$L$2:$AX$6,18,FALSE)) | F20: =IF(VLOOKUP(報名總表及收費!$H$30,報名總表及收費!$L$2:$AX$6,19,FALSE)=0,"",VLOOKUP(報名總表及收費!$H$30,報名總表及收費!$L$2:$AX$6,19,FALSE)) | J20: =IF(B20="","",IF(G20="","未報名","")) | L20: =E20 | M20: =COUNTA(G20) -> 0
B21: =IF(E21="","",IF(報名總表及收費!$B$10=0,"",報名總表及收費!$B$10)) | E21: =IF(VLOOKUP(報名總表及收費!$H$30,報名總表及收費!$L$2:$AX$6,20,FALSE)=0,"",VLOOKUP(報名總表及收費!$H$30,報名總表及收費!$L$2:$AX$6,20,FALSE)) | F21: =IF(VLOOKUP(報名總表及收費!$H$30,報名總表及收費!$L$2:$AX$6,21,FALSE)=0,"",VLOOKUP(報名總表及收費!$H$30,報名總表及收費!$L$2:$AX$6,21,FALSE)) | J21: =IF(B21="","",IF(G21="","未報名","")) | L21: =E21 | M21: =COUNTA(G21) -> 0
B23: 姓名 (中) | C23: 姓名 (英) | D23: 出生年份 | E23: 項目編號 | F23: 項目 | G23: 報項時間 | H23: 年齡 | I23: 申請成績證書 | J23: 備註 | O23: 年齡 | P23: 達標時間 | R23: Age Check
A24: 例 | B24: 王一一 | C24: Wong Yat Yat | D24: 1999 | E24: 12 | F24: =IF(E24="","",VLOOKUP(E24,報名總表及收費!$I$29:$L$97,4)) -> 50米蝶泳 | G24: 1228 | H24: =IF(D24=0,"",YEAR(NOW())-D24) -> 27 | I24: Y | L24: 個人項目 | M24: 總數
A25: 男運動員 1 | F25: =IF(E25="","",VLOOKUP(E25,報名總表及收費!$I$29:$L$140,4)) | H25: =IF(D25="","", IF(D25=0,"",YEAR(NOW())-D25)) | J25: =IF(E25="","",IF(((VLOOKUP(E25,$L$25:$T$70,5))<G25),"報項時間慢於達標時間",""))&IF(T25="FAIL"," 運動員錯組別","")&IF(MOD(E25,2)=0,""," 項目編號為女子組") | L25: 2 | M25: =COUNTIFS($E$25:$E$164,"=2") -> 0 | N25: =IF(M25>$O$2, L25, "OK") -> OK | O25: =VLOOKUP(L25,報名總表及收費!$I$30:$K$118,2) -> 14 | P25: =IF(VLOOKUP(L25,報名總表及收費!$I$30:$K$118,3)=0,"",VLOOKUP(L25,報名總表及收費!$I$30:$K$118,3,FALSE)) | Q25: =IF(O25="E",YEAR(NOW())-$Q$5,IF(O25="A",YEAR(NOW())-$O$5,IF(O25="B",YEAR(NOW())-$P$5,IF(O25=0,"",O25)))) -> 14 | R25: =IF(E25=0,"",IF(MOD(E25,2)=1,"",VLOOKUP(E25,$L$24:$R$80,6,FALSE))) | S25: =IF(D25=0,"",VLOOKUP(E25,$L$24:$R$80,4,FALSE)) | T25: =IF(R25="","",IF(S25="A",IF(H25>=R25,"OK","FAIL"),IF(S25="E",IF(H25<=R25,"OK","FAIL"),IF(S25="B",IF(AND(H25<=R25,H25>=U25),"OK","FAIL"),IF(U25="",IF(H25=S25,"OK","FAIL"),IF(U25="9U",IF(H25<=9,"OK","FAIL"),IF(U25="UP",IF(H25>=17,"OK","FAIL"),IF(U25="DN",IF(H25<=7,"OK","FAIL"))))))))) | U25: =IF(R25="15U","UP",IF(R25="7D","DN",IF(R25="9U","9U",IF(S25="B",11,""))))
B26: =IF(B25=0,"",B25) | C26: =IF(C25=0,"",C25) | D26: =IF(D25=0,"",D25) | F26: =IF(E26="","",VLOOKUP(E26,報名總表及收費!$I$29:$L$140,4)) | H26: =IF(D26="","", IF(D26=0,"",YEAR(NOW())-D26)) | J26: =IF(E26="","",IF(((VLOOKUP(E26,$L$25:$T$70,5))<G26),"報項時間慢於達標時間",""))&IF(T26="FAIL"," 運動員錯組別","")&IF(MOD(E26,2)=0,""," 項目編號為女子組") | L26: 4 | M26: =COUNTIFS($E$25:$E$164,"=4") -> 0 | N26: =IF(M26>$O$2, L26, "OK") -> OK | O26: =VLOOKUP(L26,報名總表及收費!$I$30:$K$118,2) -> 15U | P26: =IF(VLOOKUP(L26,報名總表及收費!$I$30:$K$118,3)=0,"",VLOOKUP(L26,報名總表及收費!$I$30:$K$118,3,FALSE)) | Q26: =IF(O26="E",YEAR(NOW())-$Q$5,IF(O26="A",YEAR(NOW())-$O$5,IF(O26="B",YEAR(NOW())-$P$5,IF(O26=0,"",O26)))) -> 15U | R26: =IF(E26=0,"",IF(MOD(E26,2)=1,"",VLOOKUP(E26,$L$24:$R$80,6,FALSE))) | S26: =IF(D26=0,"",VLOOKUP(E26,$L$24:$R$80,4,FALSE)) -> #N/A | T26: =IF(R26="","",IF(S26="A",IF(H26>=R26,"OK","FAIL"),IF(S26="E",IF(H26<=R26,"OK","FAIL"),IF(S26="B",IF(AND(H26<=R26,H26>=U26),"OK","FAIL"),IF(U26="",IF(H26=S26,"OK","FAIL"),IF(U26="9U",IF(H26<=9,"OK","FAIL"),IF(U26="UP",IF(H26>=15,"OK","FAIL"),IF(U26="DN",IF(H26<=7,"OK","FAIL"))))))))) | U26: =IF(R26="15U","UP",IF(R26="7D","DN",IF(R26="9U","9U",IF(S26="B",11,"")))) -> #N/A
B27: =IF(B26=0,"",B26) | C27: =IF(C26=0,"",C26) | D27: =IF(D26=0,"",D26) | F27: =IF(E27="","",VLOOKUP(E27,報名總表及收費!$I$29:$L$140,4)) | H27: =IF(D27="","", IF(D27=0,"",YEAR(NOW())-D27)) | J27: =IF(E27="","",IF(((VLOOKUP(E27,$L$25:$T$70,5))<G27),"報項時間慢於達標時間",""))&IF(T27="FAIL"," 運動員錯組別","")&IF(MOD(E27,2)=0,""," 項目編號為女子組") | L27: 6 | M27: =COUNTIFS($E$25:$E$164,"=6") -> 0 | N27: =IF(M27>$O$2, L27, "OK") -> OK | O27: =VLOOKUP(L27,報名總表及收費!$I$30:$K$118,2) -> 14 | P27: =IF(VLOOKUP(L27,報名總表及收費!$I$30:$K$118,3)=0,"",VLOOKUP(L27,報名總表及收費!$I$30:$K$118,3,FALSE)) | Q27: =IF(O27="E",YEAR(NOW())-$Q$5,IF(O27="A",YEAR(NOW())-$O$5,IF(O27="B",YEAR(NOW())-$P$5,IF(O27=0,"",O27)))) -> 14 | R27: =IF(E27=0,"",IF(MOD(E27,2)=1,"",VLOOKUP(E27,$L$24:$R$80,6,FALSE))) | S27: =IF(D27=0,"",VLOOKUP(E27,$L$24:$R$80,4,FALSE)) -> #N/A | T27: =IF(R27="","",IF(S27="A",IF(H27>=R27,"OK","FAIL"),IF(S27="E",IF(H27<=R27,"OK","FAIL"),IF(S27="B",IF(AND(H27<=R27,H27>=U27),"OK","FAIL"),IF(U27="",IF(H27=S27,"OK","FAIL"),IF(U27="9U",IF(H27<=9,"OK","FAIL"),IF(U27="UP",IF(H27>=15,"OK","FAIL"),IF(U27="DN",IF(H27<=7,"OK","FAIL"))))))))) | U27: =IF(R27="15U","UP",IF(R27="7D","DN",IF(R27="9U","9U",IF(S27="B",11,"")))) -> #N/A
B28: =IF(B27=0,"",B27) | C28: =IF(C27=0,"",C27) | D28: =IF(D27=0,"",D27) | F28: =IF(E28="","",VLOOKUP(E28,報名總表及收費!$I$29:$L$140,4)) | H28: =IF(D28="","", IF(D28=0,"",YEAR(NOW())-D28)) | J28: =IF(E28="","",IF(((VLOOKUP(E28,$L$25:$T$70,5))<G28),"報項時間慢於達標時間",""))&IF(T28="FAIL"," 運動員錯組別","")&IF(MOD(E28,2)=0,""," 項目編號為女子組") | L28: 8 | M28: =COUNTIFS($E$25:$E$164,"=8") -> 0 | N28: =IF(M28>$O$2, L28, "OK") -> OK | O28: =VLOOKUP(L28,報名總表及收費!$I$30:$K$118,2) -> 15U | P28: =IF(VLOOKUP(L28,報名總表及收費!$I$30:$K$118,3)=0,"",VLOOKUP(L28,報名總表及收費!$I$30:$K$118,3,FALSE)) | Q28: =IF(O28="E",YEAR(NOW())-$Q$5,IF(O28="A",YEAR(NOW())-$O$5,IF(O28="B",YEAR(NOW())-$P$5,IF(O28=0,"",O28)))) -> 15U | R28: =IF(E28=0,"",IF(MOD(E28,2)=1,"",VLOOKUP(E28,$L$24:$R$80,6,FALSE))) | S28: =IF(D28=0,"",VLOOKUP(E28,$L$24:$R$80,4,FALSE)) -> #N/A | T28: =IF(R28="","",IF(S28="A",IF(H28>=R28,"OK","FAIL"),IF(S28="E",IF(H28<=R28,"OK","FAIL"),IF(S28="B",IF(AND(H28<=R28,H28>=U28),"OK","FAIL"),IF(U28="",IF(H28=S28,"OK","FAIL"),IF(U28="9U",IF(H28<=9,"OK","FAIL"),IF(U28="UP",IF(H28>=15,"OK","FAIL"),IF(U28="DN",IF(H28<=7,"OK","FAIL"))))))))) | U28: =IF(R28="15U","UP",IF(R28="7D","DN",IF(R28="9U","9U",IF(S28="B",11,"")))) -> #N/A
A29: 男運動員 2 | F29: =IF(E29="","",VLOOKUP(E29,報名總表及收費!$I$29:$L$140,4)) | H29: =IF(D29="","", IF(D29=0,"",YEAR(NOW())-D29)) | J29: =IF(E29="","",IF(((VLOOKUP(E29,$L$25:$T$70,5))<G29),"報項時間慢於達標時間",""))&IF(T29="FAIL"," 運動員錯組別","")&IF(MOD(E29,2)=0,""," 項目編號為女子組") | L29: 10 | M29: =COUNTIFS($E$25:$E$164,"=10") -> 0 | N29: =IF(M29>$O$2, L29, "OK") -> OK | O29: =VLOOKUP(L29,報名總表及收費!$I$30:$K$118,2) -> 14 | P29: =IF(VLOOKUP(L29,報名總表及收費!$I$30:$K$118,3)=0,"",VLOOKUP(L29,報名總表及收費!$I$30:$K$118,3,FALSE)) | Q29: =IF(O29="E",YEAR(NOW())-$Q$5,IF(O29="A",YEAR(NOW())-$O$5,IF(O29="B",YEAR(NOW())-$P$5,IF(O29=0,"",O29)))) -> 14 | R29: =IF(E29=0,"",IF(MOD(E29,2)=1,"",VLOOKUP(E29,$L$24:$R$80,6,FALSE))) | S29: =IF(D29=0,"",VLOOKUP(E29,$L$24:$R$80,4,FALSE)) | T29: =IF(R29="","",IF(S29="A",IF(H29>=R29,"OK","FAIL"),IF(S29="E",IF(H29<=R29,"OK","FAIL"),IF(S29="B",IF(AND(H29<=R29,H29>=U29),"OK","FAIL"),IF(U29="",IF(H29=S29,"OK","FAIL"),IF(U29="9U",IF(H29<=9,"OK","FAIL"),IF(U29="UP",IF(H29>=15,"OK","FAIL"),IF(U29="DN",IF(H29<=7,"OK","FAIL"))))))))) | U29: =IF(R29="15U","UP",IF(R29="7D","DN",IF(R29="9U","9U",IF(S29="B",11,""))))
B30: =IF(B29=0,"",B29) | C30: =IF(C29=0,"",C29) | D30: =IF(D29=0,"",D29) | F30: =IF(E30="","",VLOOKUP(E30,報名總表及收費!$I$29:$L$140,4)) | H30: =IF(D30="","", IF(D30=0,"",YEAR(NOW())-D30)) | J30: =IF(E30="","",IF(((VLOOKUP(E30,$L$25:$T$70,5))<G30),"報項時間慢於達標時間",""))&IF(T30="FAIL"," 運動員錯組別","")&IF(MOD(E30,2)=0,""," 項目編號為女子組") | L30: 12 | M30: =COUNTIFS($E$25:$E$164,"=12") -> 0 | N30: =IF(M30>$O$2, L30, "OK") -> OK | O30: =VLOOKUP(L30,報名總表及收費!$I$30:$K$118,2) -> 15U | P30: =IF(VLOOKUP(L30,報名總表及收費!$I$30:$K$118,3)=0,"",VLOOKUP(L30,報名總表及收費!$I$30:$K$118,3,FALSE)) | Q30: =IF(O30="E",YEAR(NOW())-$Q$5,IF(O30="A",YEAR(NOW())-$O$5,IF(O30="B",YEAR(NOW())-$P$5,IF(O30=0,"",O30)))) -> 15U | R30: =IF(E30=0,"",IF(MOD(E30,2)=1,"",VLOOKUP(E30,$L$24:$R$80,6,FALSE))) | S30: =IF(D30=0,"",VLOOKUP(E30,$L$24:$R$80,4,FALSE)) -> #N/A | T30: =IF(R30="","",IF(S30="A",IF(H30>=R30,"OK","FAIL"),IF(S30="E",IF(H30<=R30,"OK","FAIL"),IF(S30="B",IF(AND(H30<=R30,H30>=U30),"OK","FAIL"),IF(U30="",IF(H30=S30,"OK","FAIL"),IF(U30="9U",IF(H30<=9,"OK","FAIL"),IF(U30="UP",IF(H30>=15,"OK","FAIL"),IF(U30="DN",IF(H30<=7,"OK","FAIL"))))))))) | U30: =IF(R30="15U","UP",IF(R30="7D","DN",IF(R30="9U","9U",IF(S30="B",11,"")))) -> #N/A
B31: =IF(B30=0,"",B30) | C31: =IF(C30=0,"",C30) | D31: =IF(D30=0,"",D30) | F31: =IF(E31="","",VLOOKUP(E31,報名總表及收費!$I$29:$L$140,4)) | H31: =IF(D31="","", IF(D31=0,"",YEAR(NOW())-D31)) | J31: =IF(E31="","",IF(((VLOOKUP(E31,$L$25:$T$70,5))<G31),"報項時間慢於達標時間",""))&IF(T31="FAIL"," 運動員錯組別","")&IF(MOD(E31,2)=0,""," 項目編號為女子組") | L31: 14 | M31: =COUNTIFS($E$25:$E$164,"=14") -> 0 | N31: =IF(M31>$O$2, L31, "OK") -> OK | O31: =VLOOKUP(L31,報名總表及收費!$I$30:$K$118,2) -> 14 | P31: =IF(VLOOKUP(L31,報名總表及收費!$I$30:$K$118,3)=0,"",VLOOKUP(L31,報名總表及收費!$I$30:$K$118,3,FALSE)) | Q31: =IF(O31="E",YEAR(NOW())-$Q$5,IF(O31="A",YEAR(NOW())-$O$5,IF(O31="B",YEAR(NOW())-$P$5,IF(O31=0,"",O31)))) -> 14 | R31: =IF(E31=0,"",IF(MOD(E31,2)=1,"",VLOOKUP(E31,$L$24:$R$80,6,FALSE))) | S31: =IF(D31=0,"",VLOOKUP(E31,$L$24:$R$80,4,FALSE)) -> #N/A | T31: =IF(R31="","",IF(S31="A",IF(H31>=R31,"OK","FAIL"),IF(S31="E",IF(H31<=R31,"OK","FAIL"),IF(S31="B",IF(AND(H31<=R31,H31>=U31),"OK","FAIL"),IF(U31="",IF(H31=S31,"OK","FAIL"),IF(U31="9U",IF(H31<=9,"OK","FAIL"),IF(U31="UP",IF(H31>=15,"OK","FAIL"),IF(U31="DN",IF(H31<=7,"OK","FAIL"))))))))) | U31: =IF(R31="15U","UP",IF(R31="7D","DN",IF(R31="9U","9U",IF(S31="B",11,"")))) -> #N/A
B32: =IF(B31=0,"",B31) | C32: =IF(C31=0,"",C31) | D32: =IF(D31=0,"",D31) | F32: =IF(E32="","",VLOOKUP(E32,報名總表及收費!$I$29:$L$140,4)) | H32: =IF(D32="","", IF(D32=0,"",YEAR(NOW())-D32)) | J32: =IF(E32="","",IF(((VLOOKUP(E32,$L$25:$T$70,5))<G32),"報項時間慢於達標時間",""))&IF(T32="FAIL"," 運動員錯組別","")&IF(MOD(E32,2)=0,""," 項目編號為女子組") | L32: 16 | M32: =COUNTIFS($E$25:$E$164,"=16") -> 0 | N32: =IF(M32>$O$2, L32, "OK") -> OK | O32: =VLOOKUP(L32,報名總表及收費!$I$30:$K$118,2) -> 15U | P32: =IF(VLOOKUP(L32,報名總表及收費!$I$30:$K$118,3)=0,"",VLOOKUP(L32,報名總表及收費!$I$30:$K$118,3,FALSE)) | Q32: =IF(O32="E",YEAR(NOW())-$Q$5,IF(O32="A",YEAR(NOW())-$O$5,IF(O32="B",YEAR(NOW())-$P$5,IF(O32=0,"",O32)))) -> 15U | R32: =IF(E32=0,"",IF(MOD(E32,2)=1,"",VLOOKUP(E32,$L$24:$R$80,6,FALSE))) | S32: =IF(D32=0,"",VLOOKUP(E32,$L$24:$R$80,4,FALSE)) -> #N/A | T32: =IF(R32="","",IF(S32="A",IF(H32>=R32,"OK","FAIL"),IF(S32="E",IF(H32<=R32,"OK","FAIL"),IF(S32="B",IF(AND(H32<=R32,H32>=U32),"OK","FAIL"),IF(U32="",IF(H32=S32,"OK","FAIL"),IF(U32="9U",IF(H32<=9,"OK","FAIL"),IF(U32="UP",IF(H32>=15,"OK","FAIL"),IF(U32="DN",IF(H32<=7,"OK","FAIL"))))))))) | U32: =IF(R32="15U","UP",IF(R32="7D","DN",IF(R32="9U","9U",IF(S32="B",11,"")))) -> #N/A
A33: 男運動員 3 | F33: =IF(E33="","",VLOOKUP(E33,報名總表及收費!$I$29:$L$140,4)) | H33: =IF(D33="","", IF(D33=0,"",YEAR(NOW())-D33)) | J33: =IF(E33="","",IF(((VLOOKUP(E33,$L$25:$T$70,5))<G33),"報項時間慢於達標時間",""))&IF(T33="FAIL"," 運動員錯組別","")&IF(MOD(E33,2)=0,""," 項目編號為女子組") | L33: 18 | M33: =COUNTIFS($E$25:$E$164,"=18") -> 0 | N33: =IF(M33>$O$2, L33, "OK") -> OK | O33: =VLOOKUP(L33,報名總表及收費!$I$30:$K$118,2) -> 14 | P33: =IF(VLOOKUP(L33,報名總表及收費!$I$30:$K$118,3)=0,"",VLOOKUP(L33,報名總表及收費!$I$30:$K$118,3,FALSE)) | Q33: =IF(O33="E",YEAR(NOW())-$Q$5,IF(O33="A",YEAR(NOW())-$O$5,IF(O33="B",YEAR(NOW())-$P$5,IF(O33=0,"",O33)))) -> 14 | R33: =IF(E33=0,"",IF(MOD(E33,2)=1,"",VLOOKUP(E33,$L$24:$R$80,6,FALSE))) | S33: =IF(D33=0,"",VLOOKUP(E33,$L$24:$R$80,4,FALSE)) | T33: =IF(R33="","",IF(S33="A",IF(H33>=R33,"OK","FAIL"),IF(S33="E",IF(H33<=R33,"OK","FAIL"),IF(S33="B",IF(AND(H33<=R33,H33>=U33),"OK","FAIL"),IF(U33="",IF(H33=S33,"OK","FAIL"),IF(U33="9U",IF(H33<=9,"OK","FAIL"),IF(U33="UP",IF(H33>=15,"OK","FAIL"),IF(U33="DN",IF(H33<=7,"OK","FAIL"))))))))) | U33: =IF(R33="15U","UP",IF(R33="7D","DN",IF(R33="9U","9U",IF(S33="B",11,""))))
B34: =IF(B33=0,"",B33) | C34: =IF(C33=0,"",C33) | D34: =IF(D33=0,"",D33) | F34: =IF(E34="","",VLOOKUP(E34,報名總表及收費!$I$29:$L$140,4)) | H34: =IF(D34="","", IF(D34=0,"",YEAR(NOW())-D34)) | J34: =IF(E34="","",IF(((VLOOKUP(E34,$L$25:$T$70,5))<G34),"報項時間慢於達標時間",""))&IF(T34="FAIL"," 運動員錯組別","")&IF(MOD(E34,2)=0,""," 項目編號為女子組") | L34: 20 | M34: =COUNTIFS($E$25:$E$164,"=20") -> 0 | N34: =IF(M34>$O$2, L34, "OK") -> OK | O34: =VLOOKUP(L34,報名總表及收費!$I$30:$K$118,2) -> 15U | P34: =IF(VLOOKUP(L34,報名總表及收費!$I$30:$K$118,3)=0,"",VLOOKUP(L34,報名總表及收費!$I$30:$K$118,3,FALSE)) | Q34: =IF(O34="E",YEAR(NOW())-$Q$5,IF(O34="A",YEAR(NOW())-$O$5,IF(O34="B",YEAR(NOW())-$P$5,IF(O34=0,"",O34)))) -> 15U | R34: =IF(E34=0,"",IF(MOD(E34,2)=1,"",VLOOKUP(E34,$L$24:$R$80,6,FALSE))) | S34: =IF(D34=0,"",VLOOKUP(E34,$L$24:$R$80,4,FALSE)) -> #N/A | T34: =IF(R34="","",IF(S34="A",IF(H34>=R34,"OK","FAIL"),IF(S34="E",IF(H34<=R34,"OK","FAIL"),IF(S34="B",IF(AND(H34<=R34,H34>=U34),"OK","FAIL"),IF(U34="",IF(H34=S34,"OK","FAIL"),IF(U34="9U",IF(H34<=9,"OK","FAIL"),IF(U34="UP",IF(H34>=15,"OK","FAIL"),IF(U34="DN",IF(H34<=7,"OK","FAIL"))))))))) | U34: =IF(R34="15U","UP",IF(R34="7D","DN",IF(R34="9U","9U",IF(S34="B",11,"")))) -> #N/A
B35: =IF(B34=0,"",B34) | C35: =IF(C34=0,"",C34) | D35: =IF(D34=0,"",D34) | F35: =IF(E35="","",VLOOKUP(E35,報名總表及收費!$I$29:$L$140,4)) | H35: =IF(D35="","", IF(D35=0,"",YEAR(NOW())-D35)) | J35: =IF(E35="","",IF(((VLOOKUP(E35,$L$25:$T$70,5))<G35),"報項時間慢於達標時間",""))&IF(T35="FAIL"," 運動員錯組別","")&IF(MOD(E35,2)=0,""," 項目編號為女子組") | L35: 22 | M35: =COUNTIFS($E$25:$E$164,"=22") -> 0 | N35: =IF(M35>$O$2, L35, "OK") -> OK | O35: =VLOOKUP(L35,報名總表及收費!$I$30:$K$118,2) -> 14 | P35: =IF(VLOOKUP(L35,報名總表及收費!$I$30:$K$118,3)=0,"",VLOOKUP(L35,報名總表及收費!$I$30:$K$118,3,FALSE)) | Q35: =IF(O35="E",YEAR(NOW())-$Q$5,IF(O35="A",YEAR(NOW())-$O$5,IF(O35="B",YEAR(NOW())-$P$5,IF(O35=0,"",O35)))) -> 14 | R35: =IF(E35=0,"",IF(MOD(E35,2)=1,"",VLOOKUP(E35,$L$24:$R$80,6,FALSE))) | S35: =IF(D35=0,"",VLOOKUP(E35,$L$24:$R$80,4,FALSE)) -> #N/A | T35: =IF(R35="","",IF(S35="A",IF(H35>=R35,"OK","FAIL"),IF(S35="E",IF(H35<=R35,"OK","FAIL"),IF(S35="B",IF(AND(H35<=R35,H35>=U35),"OK","FAIL"),IF(U35="",IF(H35=S35,"OK","FAIL"),IF(U35="9U",IF(H35<=9,"OK","FAIL"),IF(U35="UP",IF(H35>=15,"OK","FAIL"),IF(U35="DN",IF(H35<=7,"OK","FAIL"))))))))) | U35: =IF(R35="15U","UP",IF(R35="7D","DN",IF(R35="9U","9U",IF(S35="B",11,"")))) -> #N/A
B36: =IF(B35=0,"",B35) | C36: =IF(C35=0,"",C35) | D36: =IF(D35=0,"",D35) | F36: =IF(E36="","",VLOOKUP(E36,報名總表及收費!$I$29:$L$140,4)) | H36: =IF(D36="","", IF(D36=0,"",YEAR(NOW())-D36)) | J36: =IF(E36="","",IF(((VLOOKUP(E36,$L$25:$T$70,5))<G36),"報項時間慢於達標時間",""))&IF(T36="FAIL"," 運動員錯組別","")&IF(MOD(E36,2)=0,""," 項目編號為女子組") | L36: 24 | M36: =COUNTIFS($E$25:$E$164,"=24") -> 0 | N36: =IF(M36>$O$2, L36, "OK") -> OK | O36: =VLOOKUP(L36,報名總表及收費!$I$30:$K$118,2) -> 15U | P36: =IF(VLOOKUP(L36,報名總表及收費!$I$30:$K$118,3)=0,"",VLOOKUP(L36,報名總表及收費!$I$30:$K$118,3,FALSE)) | Q36: =IF(O36="E",YEAR(NOW())-$Q$5,IF(O36="A",YEAR(NOW())-$O$5,IF(O36="B",YEAR(NOW())-$P$5,IF(O36=0,"",O36)))) -> 15U | R36: =IF(E36=0,"",IF(MOD(E36,2)=1,"",VLOOKUP(E36,$L$24:$R$80,6,FALSE))) | S36: =IF(D36=0,"",VLOOKUP(E36,$L$24:$R$80,4,FALSE)) -> #N/A | T36: =IF(R36="","",IF(S36="A",IF(H36>=R36,"OK","FAIL"),IF(S36="E",IF(H36<=R36,"OK","FAIL"),IF(S36="B",IF(AND(H36<=R36,H36>=U36),"OK","FAIL"),IF(U36="",IF(H36=S36,"OK","FAIL"),IF(U36="9U",IF(H36<=9,"OK","FAIL"),IF(U36="UP",IF(H36>=15,"OK","FAIL"),IF(U36="DN",IF(H36<=7,"OK","FAIL"))))))))) | U36: =IF(R36="15U","UP",IF(R36="7D","DN",IF(R36="9U","9U",IF(S36="B",11,"")))) -> #N/A
A37: 男運動員 4 | F37: =IF(E37="","",VLOOKUP(E37,報名總表及收費!$I$29:$L$140,4)) | H37: =IF(D37="","", IF(D37=0,"",YEAR(NOW())-D37)) | J37: =IF(E37="","",IF(((VLOOKUP(E37,$L$25:$T$70,5))<G37),"報項時間慢於達標時間",""))&IF(T37="FAIL"," 運動員錯組別","")&IF(MOD(E37,2)=0,""," 項目編號為女子組") | L37: 26 | M37: =COUNTIFS($E$25:$E$164,"=26") -> 0 | N37: =IF(M37>$O$2, L37, "OK") -> OK | O37: =VLOOKUP(L37,報名總表及收費!$I$30:$K$118,2) -> 14 | P37: =IF(VLOOKUP(L37,報名總表及收費!$I$30:$K$118,3)=0,"",VLOOKUP(L37,報名總表及收費!$I$30:$K$118,3,FALSE)) | Q37: =IF(O37="E",YEAR(NOW())-$Q$5,IF(O37="A",YEAR(NOW())-$O$5,IF(O37="B",YEAR(NOW())-$P$5,IF(O37=0,"",O37)))) -> 14 | R37: =IF(E37=0,"",IF(MOD(E37,2)=1,"",VLOOKUP(E37,$L$24:$R$80,6,FALSE))) | S37: =IF(D37=0,"",VLOOKUP(E37,$L$24:$R$80,4,FALSE)) | T37: =IF(R37="","",IF(S37="A",IF(H37>=R37,"OK","FAIL"),IF(S37="E",IF(H37<=R37,"OK","FAIL"),IF(S37="B",IF(AND(H37<=R37,H37>=U37),"OK","FAIL"),IF(U37="",IF(H37=S37,"OK","FAIL"),IF(U37="9U",IF(H37<=9,"OK","FAIL"),IF(U37="UP",IF(H37>=15,"OK","FAIL"),IF(U37="DN",IF(H37<=7,"OK","FAIL"))))))))) | U37: =IF(R37="15U","UP",IF(R37="7D","DN",IF(R37="9U","9U",IF(S37="B",11,""))))
B38: =IF(B37=0,"",B37) | C38: =IF(C37=0,"",C37) | D38: =IF(D37=0,"",D37) | F38: =IF(E38="","",VLOOKUP(E38,報名總表及收費!$I$29:$L$140,4)) | H38: =IF(D38="","", IF(D38=0,"",YEAR(NOW())-D38)) | J38: =IF(E38="","",IF(((VLOOKUP(E38,$L$25:$T$70,5))<G38),"報項時間慢於達標時間",""))&IF(T38="FAIL"," 運動員錯組別","")&IF(MOD(E38,2)=0,""," 項目編號為女子組") | L38: 28 | M38: =COUNTIFS($E$25:$E$164,"=28") -> 0 | N38: =IF(M38>$O$2, L38, "OK") -> OK | O38: =VLOOKUP(L38,報名總表及收費!$I$30:$K$118,2) -> 15U | P38: =IF(VLOOKUP(L38,報名總表及收費!$I$30:$K$118,3)=0,"",VLOOKUP(L38,報名總表及收費!$I$30:$K$118,3,FALSE)) | Q38: =IF(O38="E",YEAR(NOW())-$Q$5,IF(O38="A",YEAR(NOW())-$O$5,IF(O38="B",YEAR(NOW())-$P$5,IF(O38=0,"",O38)))) -> 15U | R38: =IF(E38=0,"",IF(MOD(E38,2)=1,"",VLOOKUP(E38,$L$24:$R$80,6,FALSE))) | S38: =IF(D38=0,"",VLOOKUP(E38,$L$24:$R$80,4,FALSE)) -> #N/A | T38: =IF(R38="","",IF(S38="A",IF(H38>=R38,"OK","FAIL"),IF(S38="E",IF(H38<=R38,"OK","FAIL"),IF(S38="B",IF(AND(H38<=R38,H38>=U38),"OK","FAIL"),IF(U38="",IF(H38=S38,"OK","FAIL"),IF(U38="9U",IF(H38<=9,"OK","FAIL"),IF(U38="UP",IF(H38>=15,"OK","FAIL"),IF(U38="DN",IF(H38<=7,"OK","FAIL"))))))))) | U38: =IF(R38="15U","UP",IF(R38="7D","DN",IF(R38="9U","9U",IF(S38="B",11,"")))) -> #N/A
B39: =IF(B38=0,"",B38) | C39: =IF(C38=0,"",C38) | D39: =IF(D38=0,"",D38) | F39: =IF(E39="","",VLOOKUP(E39,報名總表及收費!$I$29:$L$140,4)) | H39: =IF(D39="","", IF(D39=0,"",YEAR(NOW())-D39)) | J39: =IF(E39="","",IF(((VLOOKUP(E39,$L$25:$T$70,5))<G39),"報項時間慢於達標時間",""))&IF(T39="FAIL"," 運動員錯組別","")&IF(MOD(E39,2)=0,""," 項目編號為女子組") | L39: 30 | M39: =COUNTIFS($E$25:$E$164,"=30") -> 0 | N39: =IF(M39>$O$2, L39, "OK") -> OK | O39: =VLOOKUP(L39,報名總表及收費!$I$30:$K$118,2) -> 14 | P39: =IF(VLOOKUP(L39,報名總表及收費!$I$30:$K$118,3)=0,"",VLOOKUP(L39,報名總表及收費!$I$30:$K$118,3,FALSE)) | Q39: =IF(O39="E",YEAR(NOW())-$Q$5,IF(O39="A",YEAR(NOW())-$O$5,IF(O39="B",YEAR(NOW())-$P$5,IF(O39=0,"",O39)))) -> 14 | R39: =IF(E39=0,"",IF(MOD(E39,2)=1,"",VLOOKUP(E39,$L$24:$R$80,6,FALSE))) | S39: =IF(D39=0,"",VLOOKUP(E39,$L$24:$R$80,4,FALSE)) -> #N/A | T39: =IF(R39="","",IF(S39="A",IF(H39>=R39,"OK","FAIL"),IF(S39="E",IF(H39<=R39,"OK","FAIL"),IF(S39="B",IF(AND(H39<=R39,H39>=U39),"OK","FAIL"),IF(U39="",IF(H39=S39,"OK","FAIL"),IF(U39="9U",IF(H39<=9,"OK","FAIL"),IF(U39="UP",IF(H39>=15,"OK","FAIL"),IF(U39="DN",IF(H39<=7,"OK","FAIL"))))))))) | U39: =IF(R39="15U","UP",IF(R39="7D","DN",IF(R39="9U","9U",IF(S39="B",11,"")))) -> #N/A
B40: =IF(B39=0,"",B39) | C40: =IF(C39=0,"",C39) | D40: =IF(D39=0,"",D39) | F40: =IF(E40="","",VLOOKUP(E40,報名總表及收費!$I$29:$L$140,4)) | H40: =IF(D40="","", IF(D40=0,"",YEAR(NOW())-D40)) | J40: =IF(E40="","",IF(((VLOOKUP(E40,$L$25:$T$70,5))<G40),"報項時間慢於達標時間",""))&IF(T40="FAIL"," 運動員錯組別","")&IF(MOD(E40,2)=0,""," 項目編號為女子組") | L40: 32 | M40: =COUNTIFS($E$25:$E$164,"=32") -> 0 | N40: =IF(M40>$O$2, L40, "OK") -> OK | O40: =VLOOKUP(L40,報名總表及收費!$I$30:$K$118,2) -> 15U | P40: =IF(VLOOKUP(L40,報名總表及收費!$I$30:$K$118,3)=0,"",VLOOKUP(L40,報名總表及收費!$I$30:$K$118,3,FALSE)) | Q40: =IF(O40="E",YEAR(NOW())-$Q$5,IF(O40="A",YEAR(NOW())-$O$5,IF(O40="B",YEAR(NOW())-$P$5,IF(O40=0,"",O40)))) -> 15U | R40: =IF(E40=0,"",IF(MOD(E40,2)=1,"",VLOOKUP(E40,$L$24:$R$80,6,FALSE))) | S40: =IF(D40=0,"",VLOOKUP(E40,$L$24:$R$80,4,FALSE)) -> #N/A | T40: =IF(R40="","",IF(S40="A",IF(H40>=R40,"OK","FAIL"),IF(S40="E",IF(H40<=R40,"OK","FAIL"),IF(S40="B",IF(AND(H40<=R40,H40>=U40),"OK","FAIL"),IF(U40="",IF(H40=S40,"OK","FAIL"),IF(U40="9U",IF(H40<=9,"OK","FAIL"),IF(U40="UP",IF(H40>=15,"OK","FAIL"),IF(U40="DN",IF(H40<=7,"OK","FAIL"))))))))) | U40: =IF(R40="15U","UP",IF(R40="7D","DN",IF(R40="9U","9U",IF(S40="B",11,"")))) -> #N/A
A41: 男運動員 5 | F41: =IF(E41="","",VLOOKUP(E41,報名總表及收費!$I$29:$L$140,4)) | H41: =IF(D41="","", IF(D41=0,"",YEAR(NOW())-D41)) | J41: =IF(E41="","",IF(((VLOOKUP(E41,$L$25:$T$70,5))<G41),"報項時間慢於達標時間",""))&IF(T41="FAIL"," 運動員錯組別","")&IF(MOD(E41,2)=0,""," 項目編號為女子組") | L41: 34 | M41: =COUNTIFS($E$25:$E$164,"=34") -> 0 | N41: =IF(M41>$O$2, L41, "OK") -> OK | O41: =VLOOKUP(L41,報名總表及收費!$I$30:$K$118,2) | P41: =IF(VLOOKUP(L41,報名總表及收費!$I$30:$K$118,3)=0,"",VLOOKUP(L41,報名總表及收費!$I$30:$K$118,3,FALSE)) | Q41: =IF(O41="E",YEAR(NOW())-$Q$5,IF(O41="A",YEAR(NOW())-$O$5,IF(O41="B",YEAR(NOW())-$P$5,IF(O41=0,"",O41)))) | R41: =IF(E41=0,"",IF(MOD(E41,2)=1,"",VLOOKUP(E41,$L$24:$R$80,6,FALSE))) | S41: =IF(D41=0,"",VLOOKUP(E41,$L$24:$R$80,4,FALSE)) | T41: =IF(R41="","",IF(S41="A",IF(H41>=R41,"OK","FAIL"),IF(S41="E",IF(H41<=R41,"OK","FAIL"),IF(S41="B",IF(AND(H41<=R41,H41>=U41),"OK","FAIL"),IF(U41="",IF(H41=S41,"OK","FAIL"),IF(U41="9U",IF(H41<=9,"OK","FAIL"),IF(U41="UP",IF(H41>=15,"OK","FAIL"),IF(U41="DN",IF(H41<=7,"OK","FAIL"))))))))) | U41: =IF(R41="15U","UP",IF(R41="7D","DN",IF(R41="9U","9U",IF(S41="B",11,""))))
B42: =IF(B41=0,"",B41) | C42: =IF(C41=0,"",C41) | D42: =IF(D41=0,"",D41) | F42: =IF(E42="","",VLOOKUP(E42,報名總表及收費!$I$29:$L$140,4)) | H42: =IF(D42="","", IF(D42=0,"",YEAR(NOW())-D42)) | J42: =IF(E42="","",IF(((VLOOKUP(E42,$L$25:$T$70,5))<G42),"報項時間慢於達標時間",""))&IF(T42="FAIL"," 運動員錯組別","")&IF(MOD(E42,2)=0,""," 項目編號為女子組") | L42: 36 | M42: =COUNTIFS($E$25:$E$164,"=36") -> 0 | N42: =IF(M42>$O$2, L42, "OK") -> OK | O42: =VLOOKUP(L42,報名總表及收費!$I$30:$K$118,2) | P42: =IF(VLOOKUP(L42,報名總表及收費!$I$30:$K$118,3)=0,"",VLOOKUP(L42,報名總表及收費!$I$30:$K$118,3,FALSE)) | Q42: =IF(O42="E",YEAR(NOW())-$Q$5,IF(O42="A",YEAR(NOW())-$O$5,IF(O42="B",YEAR(NOW())-$P$5,IF(O42=0,"",O42)))) | R42: =IF(E42=0,"",IF(MOD(E42,2)=1,"",VLOOKUP(E42,$L$24:$R$80,6,FALSE))) | S42: =IF(D42=0,"",VLOOKUP(E42,$L$24:$R$80,4,FALSE)) -> #N/A | T42: =IF(R42="","",IF(S42="A",IF(H42>=R42,"OK","FAIL"),IF(S42="E",IF(H42<=R42,"OK","FAIL"),IF(S42="B",IF(AND(H42<=R42,H42>=U42),"OK","FAIL"),IF(U42="",IF(H42=S42,"OK","FAIL"),IF(U42="9U",IF(H42<=9,"OK","FAIL"),IF(U42="UP",IF(H42>=15,"OK","FAIL"),IF(U42="DN",IF(H42<=7,"OK","FAIL"))))))))) | U42: =IF(R42="15U","UP",IF(R42="7D","DN",IF(R42="9U","9U",IF(S42="B",11,"")))) -> #N/A
B43: =IF(B42=0,"",B42) | C43: =IF(C42=0,"",C42) | D43: =IF(D42=0,"",D42) | F43: =IF(E43="","",VLOOKUP(E43,報名總表及收費!$I$29:$L$140,4)) | H43: =IF(D43="","", IF(D43=0,"",YEAR(NOW())-D43)) | J43: =IF(E43="","",IF(((VLOOKUP(E43,$L$25:$T$70,5))<G43),"報項時間慢於達標時間",""))&IF(T43="FAIL"," 運動員錯組別","")&IF(MOD(E43,2)=0,""," 項目編號為女子組") | L43: 38 | M43: =COUNTIFS($E$25:$E$164,"=38") -> 0 | N43: =IF(M43>$O$2, L43, "OK") -> OK | O43: =VLOOKUP(L43,報名總表及收費!$I$30:$K$118,2) -> 12 | P43: =IF(VLOOKUP(L43,報名總表及收費!$I$30:$K$118,3)=0,"",VLOOKUP(L43,報名總表及收費!$I$30:$K$118,3,FALSE)) | Q43: =IF(O43="E",YEAR(NOW())-$Q$5,IF(O43="A",YEAR(NOW())-$O$5,IF(O43="B",YEAR(NOW())-$P$5,IF(O43=0,"",O43)))) -> 12 | R43: =IF(E43=0,"",IF(MOD(E43,2)=1,"",VLOOKUP(E43,$L$24:$R$80,6,FALSE))) | S43: =IF(D43=0,"",VLOOKUP(E43,$L$24:$R$80,4,FALSE)) -> #N/A | T43: =IF(R43="","",IF(S43="A",IF(H43>=R43,"OK","FAIL"),IF(S43="E",IF(H43<=R43,"OK","FAIL"),IF(S43="B",IF(AND(H43<=R43,H43>=U43),"OK","FAIL"),IF(U43="",IF(H43=S43,"OK","FAIL"),IF(U43="9U",IF(H43<=9,"OK","FAIL"),IF(U43="UP",IF(H43>=15,"OK","FAIL"),IF(U43="DN",IF(H43<=7,"OK","FAIL"))))))))) | U43: =IF(R43="15U","UP",IF(R43="7D","DN",IF(R43="9U","9U",IF(S43="B",11,"")))) -> #N/A
...

Sheet 女
A1: 香港中華業餘游泳聯會 比賽報名表 (女子) | O1: Max Event per club
A2: 填表注意事項: | N2: =COUNTA(I25:I164) -> 0 | O2: =VLOOKUP(F11,報名總表及收費!H1:T7,13,FALSE) -> 4
A3: 1. 請根據所屬性別分別填寫在指定的報名表上(報名表分為男，女)，接力在報名表上方，只需按比賽項目輸入報項時間便可
A4: 2. 請準確及清楚填寫各項資料，所有超額報名、資料不全、錯填資料均被視為無效。無效報名會被拒參賽，報名費怒不退回。 | O4: C | P4: D | Q4: F
A5: ="3. 每個個人項目每團體最多可報"& VLOOKUP(F11,報名總表及收費!H1:T7,13,FALSE) & "個運動員。每名運動員限報個人項目︰"& VLOOKUP(F11,報名總表及收費!H1:T7,12,FALSE) &"，個人項目報名總數可參考報名表右方" -> 3. 每個個人項目每團體最多可報4個運動員。每名運動員限報個人項目︰新秀賽3項，個人項目報名總數可參考報名表右方 | O5: =VLOOKUP($O$8,報名總表及收費!$L$2:$R$7,4,FALSE) -> 0 | P5: =VLOOKUP($O$8,報名總表及收費!$L$2:$R$7,5,FALSE) -> 0 | Q5: =VLOOKUP($O$8,報名總表及收費!$L$2:$R$7,7,FALSE) -> 0
A6: 4. 時間格式以此為準 - 例: 0:26:88 , 請輸入 2688
A7: 5. 只需輸入綠色欄位的資料，其他為自動填寫資料。
A8: 6. 若儲存格出現紅色，請重新檢查該項目是否報錯資料。 | O8: =報名總表及收費!H30 -> 新秀1 | R8: 申請成績証書
A9: 7. 如需申請成績證書，請在"申請成績證書"格上填上"Y"，若不申請可漏空。比賽後申請成績證書，本會將額外收取每張港元10元行政費(即每項每張港元共60元行政費) | R9: Y
A11: 團體名稱: | B11: =IF(報名總表及收費!B10=0,"",報名總表及收費!B10) | E11: 比賽名稱: | F11: =報名總表及收費!F10 -> 屬會新秀游泳比賽(第一天)
A12: 負責人: | B12: =IF(報名總表及收費!B11=0,"",報名總表及收費!B11) | E12: 比賽日期: | F12: =報名總表及收費!F11 -> 46152
A13: 聯絡電話: | B13: =IF(報名總表及收費!B12=0,"",報名總表及收費!B12) | E13: 比賽地點: | F13: =報名總表及收費!F12 -> 大環山游泳池
B15: 接力團體 | E15: 項目編號 | F15: 接力項目 | G15: 報項時間 | J15: 備註 | L15: 團體項目 | M15: 總數
A16: 接力項目 | B16: =IF(報名總表及收費!$B$10=0,"",報名總表及收費!$B$10) | E16: =IF(VLOOKUP(報名總表及收費!$H$30,報名總表及收費!$L$2:$AX$6,22,FALSE)=0,"",VLOOKUP(報名總表及收費!$H$30,報名總表及收費!$L$2:$AX$6,22,FALSE)) -> 33 | F16: =IF(VLOOKUP(報名總表及收費!$H$30,報名總表及收費!$L$2:$AX$6,23,FALSE)=0,"",VLOOKUP(報名總表及收費!$H$30,報名總表及收費!$L$2:$AX$6,23,FALSE)) -> 4X50米四式階梯接力 | J16: =IF(B16="","",IF(G16="","未報名","")) | L16: =E16 -> 33 | M16: =COUNTA(G16) -> 0
B17: =IF(報名總表及收費!$B$10=0,"",報名總表及收費!$B$10) | E17: =IF(VLOOKUP(報名總表及收費!$H$30,報名總表及收費!$L$2:$AX$6,24,FALSE)=0,"",VLOOKUP(報名總表及收費!$H$30,報名總表及收費!$L$2:$AX$6,24,FALSE)) -> 35 | F17: =IF(VLOOKUP(報名總表及收費!$H$30,報名總表及收費!$L$2:$AX$6,25,FALSE)=0,"",VLOOKUP(報名總表及收費!$H$30,報名總表及收費!$L$2:$AX$6,25,FALSE)) -> 4X50米自由式階梯接力 | J17: =IF(B17="","",IF(G17="","未報名","")) | L17: =E17 -> 35 | M17: =COUNTA(G17) -> 0
B18: =IF(E18="","",IF(報名總表及收費!$B$10=0,"",報名總表及收費!$B$10)) | E18: =IF(VLOOKUP(報名總表及收費!$H$30,報名總表及收費!$L$2:$AX$6,26,FALSE)=0,"",VLOOKUP(報名總表及收費!$H$30,報名總表及收費!$L$2:$AX$6,26,FALSE)) | F18: =IF(VLOOKUP(報名總表及收費!$H$30,報名總表及收費!$L$2:$AX$6,27,FALSE)=0,"",VLOOKUP(報名總表及收費!$H$30,報名總表及收費!$L$2:$AX$6,27,FALSE)) | J18: =IF(B18="","",IF(G18="","未報名","")) | L18: =E18 | M18: =COUNTA(G18) -> 0
B19: =IF(E19="","",IF(報名總表及收費!$B$10=0,"",報名總表及收費!$B$10)) | E19: =IF(VLOOKUP(報名總表及收費!$H$30,報名總表及收費!$L$2:$AX$6,28,FALSE)=0,"",VLOOKUP(報名總表及收費!$H$30,報名總表及收費!$L$2:$AX$6,28,FALSE)) | F19: =IF(VLOOKUP(報名總表及收費!$H$30,報名總表及收費!$L$2:$AX$6,29,FALSE)=0,"",VLOOKUP(報名總表及收費!$H$30,報名總表及收費!$L$2:$AX$6,29,FALSE)) | J19: =IF(B19="","",IF(G19="","未報名","")) | L19: =E19 | M19: =COUNTA(G19) -> 0
B20: =IF(E20="","",IF(報名總表及收費!$B$10=0,"",報名總表及收費!$B$10)) | E20: =IF(VLOOKUP(報名總表及收費!$H$30,報名總表及收費!$L$2:$AX$6,30,FALSE)=0,"",VLOOKUP(報名總表及收費!$H$30,報名總表及收費!$L$2:$AX$6,30,FALSE)) | F20: =IF(VLOOKUP(報名總表及收費!$H$30,報名總表及收費!$L$2:$AX$6,31,FALSE)=0,"",VLOOKUP(報名總表及收費!$H$30,報名總表及收費!$L$2:$AX$6,31,FALSE)) | J20: =IF(B20="","",IF(G20="","未報名","")) | L20: =E20 | M20: =COUNTA(G20) -> 0
B21: =IF(E21="","",IF(報名總表及收費!$B$10=0,"",報名總表及收費!$B$10)) | E21: =IF(VLOOKUP(報名總表及收費!$H$30,報名總表及收費!$L$2:$AX$6,32,FALSE)=0,"",VLOOKUP(報名總表及收費!$H$30,報名總表及收費!$L$2:$AX$6,32,FALSE)) | F21: =IF(VLOOKUP(報名總表及收費!$H$30,報名總表及收費!$L$2:$AX$6,33,FALSE)=0,"",VLOOKUP(報名總表及收費!$H$30,報名總表及收費!$L$2:$AX$6,33,FALSE)) | J21: =IF(B21="","",IF(G21="","未報名","")) | L21: =E21 | M21: =COUNTA(G21) -> 0
B23: 姓名 (中) | C23: 姓名 (英) | D23: 出生年份 | E23: 項目編號 | F23: 項目 | G23: 報項時間 | H23: 年齡 | I23: 申請成績證書 | J23: 備註 | O23: 年齡 | P23: 達標時間 | R23: Age Check
A24: 例 | B24: 王一一 | C24: Wong Yat Yat | D24: 1999 | E24: 11 | F24: =IF(E24="","",VLOOKUP(E24,報名總表及收費!$I$29:$L$97,4)) -> 50米蝶泳 | G24: 1228 | H24: =IF(D24=0,"",YEAR(NOW())-D24) -> 27 | I24: Y | L24: 個人項目 | M24: 總數
A25: 女運動員 1 | F25: =IF(E25="","",VLOOKUP(E25,報名總表及收費!$I$29:$L$140,4)) | H25: =IF(D25="","", IF(D25=0,"",YEAR(NOW())-D25)) | J25: =IF(E25="","",IF(((VLOOKUP(E25,$L$25:$Q$67,5))<G25),"報項時間慢於達標時間",""))&IF(T25="FAIL"," 運動員錯組別","")&IF(E25="","",IF(MOD(E25,2)=1,""," 項目編號為男子組")) | L25: 1 | M25: =COUNTIFS($E$25:$E$160,"=1") -> 0 | N25: =IF(M25>$O$2, L25, "OK") -> OK | O25: =VLOOKUP(L25,報名總表及收費!$I$30:$K$118,2) -> 14 | P25: =IF(VLOOKUP(L25,報名總表及收費!$I$30:$K$118,3)=0,"",VLOOKUP(L25,報名總表及收費!$I$30:$K$118,3,FALSE)) | Q25: =IF(O25="D",YEAR(NOW())-$P$5,IF(O25="C",YEAR(NOW())-$O$5,IF(O25="F",YEAR(NOW())-$Q$5,IF(O25=0,"",O25)))) -> 14 | R25: =IF(E25=0,"",IF(MOD(E25,2)=0,"",VLOOKUP(E25,$L$24:$Q$80,6,FALSE))) | S25: =IF(D25=0,"",VLOOKUP(E25,$L$25:$Q$80,4,FALSE)) | T25: =IF(R25="","",IF(S25="C",IF(H25>=R25,"OK","FAIL"),IF(S25="F",IF(H25<=R25,"OK","FAIL"),IF(S25="D",IF(AND(H25<=R25,H25>=U25),"OK","FAIL"),IF(U25="",IF(H25=S25,"OK","FAIL"),IF(U25="9U",IF(H25<=9,"OK","FAIL"),IF(U25="UP",IF(H25>=15,"OK","FAIL"),IF(U25="DN",IF(H25<=7,"OK","FAIL"))))))))) | U25: =IF(R25="15U","UP",IF(R25="7D","DN",IF(R25="9U","9U",IF(S25="D",10,""))))
B26: =IF(B25=0,"",B25) | C26: =IF(C25=0,"",C25) | D26: =IF(D25=0,"",D25) | F26: =IF(E26="","",VLOOKUP(E26,報名總表及收費!$I$29:$L$140,4)) | H26: =IF(D26="","", IF(D26=0,"",YEAR(NOW())-D26)) | J26: =IF(E26="","",IF(((VLOOKUP(E26,$L$25:$Q$67,5))<G26),"報項時間慢於達標時間",""))&IF(T26="FAIL"," 運動員錯組別","")&IF(E26="","",IF(MOD(E26,2)=1,""," 項目編號為男子組")) | L26: 3 | M26: =COUNTIFS($E$25:$E$160,"=3") -> 0 | N26: =IF(M26>$O$2, L26, "OK") -> OK | O26: =VLOOKUP(L26,報名總表及收費!$I$30:$K$118,2) -> 15U | P26: =IF(VLOOKUP(L26,報名總表及收費!$I$30:$K$118,3)=0,"",VLOOKUP(L26,報名總表及收費!$I$30:$K$118,3,FALSE)) | Q26: =IF(O26="D",YEAR(NOW())-$P$5,IF(O26="C",YEAR(NOW())-$O$5,IF(O26="F",YEAR(NOW())-$Q$5,IF(O26=0,"",O26)))) -> 15U | R26: =IF(E26=0,"",IF(MOD(E26,2)=0,"",VLOOKUP(E26,$L$24:$Q$80,6,FALSE))) | S26: =IF(D26=0,"",VLOOKUP(E26,$L$25:$Q$80,4,FALSE)) -> #N/A | T26: =IF(R26="","",IF(S26="C",IF(H26>=R26,"OK","FAIL"),IF(S26="F",IF(H26<=R26,"OK","FAIL"),IF(S26="D",IF(AND(H26<=R26,H26>=U26),"OK","FAIL"),IF(U26="",IF(H26=S26,"OK","FAIL"),IF(U26="9U",IF(H26<=9,"OK","FAIL"),IF(U26="UP",IF(H26>=15,"OK","FAIL"),IF(U26="DN",IF(H26<=7,"OK","FAIL"))))))))) | U26: =IF(R26="15U","UP",IF(R26="7D","DN",IF(R26="9U","9U",IF(S26="D",10,"")))) -> #N/A
B27: =IF(B26=0,"",B26) | C27: =IF(C26=0,"",C26) | D27: =IF(D26=0,"",D26) | F27: =IF(E27="","",VLOOKUP(E27,報名總表及收費!$I$29:$L$140,4)) | H27: =IF(D27="","", IF(D27=0,"",YEAR(NOW())-D27)) | J27: =IF(E27="","",IF(((VLOOKUP(E27,$L$25:$Q$67,5))<G27),"報項時間慢於達標時間",""))&IF(T27="FAIL"," 運動員錯組別","")&IF(E27="","",IF(MOD(E27,2)=1,""," 項目編號為男子組")) | L27: 5 | M27: =COUNTIFS($E$25:$E$160,"=5") -> 0 | N27: =IF(M27>$O$2, L27, "OK") -> OK | O27: =VLOOKUP(L27,報名總表及收費!$I$30:$K$118,2) -> 14 | P27: =IF(VLOOKUP(L27,報名總表及收費!$I$30:$K$118,3)=0,"",VLOOKUP(L27,報名總表及收費!$I$30:$K$118,3,FALSE)) | Q27: =IF(O27="D",YEAR(NOW())-$P$5,IF(O27="C",YEAR(NOW())-$O$5,IF(O27="F",YEAR(NOW())-$Q$5,IF(O27=0,"",O27)))) -> 14 | R27: =IF(E27=0,"",IF(MOD(E27,2)=0,"",VLOOKUP(E27,$L$24:$Q$80,6,FALSE))) | S27: =IF(D27=0,"",VLOOKUP(E27,$L$25:$Q$80,4,FALSE)) -> #N/A | T27: =IF(R27="","",IF(S27="C",IF(H27>=R27,"OK","FAIL"),IF(S27="F",IF(H27<=R27,"OK","FAIL"),IF(S27="D",IF(AND(H27<=R27,H27>=U27),"OK","FAIL"),IF(U27="",IF(H27=S27,"OK","FAIL"),IF(U27="9U",IF(H27<=9,"OK","FAIL"),IF(U27="UP",IF(H27>=15,"OK","FAIL"),IF(U27="DN",IF(H27<=7,"OK","FAIL"))))))))) | U27: =IF(R27="15U","UP",IF(R27="7D","DN",IF(R27="9U","9U",IF(S27="D",10,"")))) -> #N/A
B28: =IF(B27=0,"",B27) | C28: =IF(C27=0,"",C27) | D28: =IF(D27=0,"",D27) | F28: =IF(E28="","",VLOOKUP(E28,報名總表及收費!$I$29:$L$140,4)) | H28: =IF(D28="","", IF(D28=0,"",YEAR(NOW())-D28)) | J28: =IF(E28="","",IF(((VLOOKUP(E28,$L$25:$Q$67,5))<G28),"報項時間慢於達標時間",""))&IF(T28="FAIL"," 運動員錯組別","")&IF(E28="","",IF(MOD(E28,2)=1,""," 項目編號為男子組")) | L28: 7 | M28: =COUNTIFS($E$25:$E$160,"=7") -> 0 | N28: =IF(M28>$O$2, L28, "OK") -> OK | O28: =VLOOKUP(L28,報名總表及收費!$I$30:$K$118,2) -> 15U | P28: =IF(VLOOKUP(L28,報名總表及收費!$I$30:$K$118,3)=0,"",VLOOKUP(L28,報名總表及收費!$I$30:$K$118,3,FALSE)) | Q28: =IF(O28="D",YEAR(NOW())-$P$5,IF(O28="C",YEAR(NOW())-$O$5,IF(O28="F",YEAR(NOW())-$Q$5,IF(O28=0,"",O28)))) -> 15U | R28: =IF(E28=0,"",IF(MOD(E28,2)=0,"",VLOOKUP(E28,$L$24:$Q$80,6,FALSE))) | S28: =IF(D28=0,"",VLOOKUP(E28,$L$25:$Q$80,4,FALSE)) -> #N/A | T28: =IF(R28="","",IF(S28="C",IF(H28>=R28,"OK","FAIL"),IF(S28="F",IF(H28<=R28,"OK","FAIL"),IF(S28="D",IF(AND(H28<=R28,H28>=U28),"OK","FAIL"),IF(U28="",IF(H28=S28,"OK","FAIL"),IF(U28="9U",IF(H28<=9,"OK","FAIL"),IF(U28="UP",IF(H28>=15,"OK","FAIL"),IF(U28="DN",IF(H28<=7,"OK","FAIL"))))))))) | U28: =IF(R28="15U","UP",IF(R28="7D","DN",IF(R28="9U","9U",IF(S28="D",10,"")))) -> #N/A
A29: 女運動員 2 | F29: =IF(E29="","",VLOOKUP(E29,報名總表及收費!$I$29:$L$140,4)) | H29: =IF(D29="","", IF(D29=0,"",YEAR(NOW())-D29)) | J29: =IF(E29="","",IF(((VLOOKUP(E29,$L$25:$Q$67,5))<G29),"報項時間慢於達標時間",""))&IF(T29="FAIL"," 運動員錯組別","")&IF(E29="","",IF(MOD(E29,2)=1,""," 項目編號為男子組")) | L29: 9 | M29: =COUNTIFS($E$25:$E$160,"=9") -> 0 | N29: =IF(M29>$O$2, L29, "OK") -> OK | O29: =VLOOKUP(L29,報名總表及收費!$I$30:$K$118,2) -> 14 | P29: =IF(VLOOKUP(L29,報名總表及收費!$I$30:$K$118,3)=0,"",VLOOKUP(L29,報名總表及收費!$I$30:$K$118,3,FALSE)) | Q29: =IF(O29="D",YEAR(NOW())-$P$5,IF(O29="C",YEAR(NOW())-$O$5,IF(O29="F",YEAR(NOW())-$Q$5,IF(O29=0,"",O29)))) -> 14 | R29: =IF(E29=0,"",IF(MOD(E29,2)=0,"",VLOOKUP(E29,$L$24:$Q$80,6,FALSE))) | S29: =IF(D29=0,"",VLOOKUP(E29,$L$25:$Q$80,4,FALSE)) | T29: =IF(R29="","",IF(S29="C",IF(H29>=R29,"OK","FAIL"),IF(S29="F",IF(H29<=R29,"OK","FAIL"),IF(S29="D",IF(AND(H29<=R29,H29>=U29),"OK","FAIL"),IF(U29="",IF(H29=S29,"OK","FAIL"),IF(U29="9U",IF(H29<=9,"OK","FAIL"),IF(U29="UP",IF(H29>=15,"OK","FAIL"),IF(U29="DN",IF(H29<=7,"OK","FAIL"))))))))) | U29: =IF(R29="15U","UP",IF(R29="7D","DN",IF(R29="9U","9U",IF(S29="D",10,""))))
B30: =IF(B29=0,"",B29) | C30: =IF(C29=0,"",C29) | D30: =IF(D29=0,"",D29) | F30: =IF(E30="","",VLOOKUP(E30,報名總表及收費!$I$29:$L$140,4)) | H30: =IF(D30="","", IF(D30=0,"",YEAR(NOW())-D30)) | J30: =IF(E30="","",IF(((VLOOKUP(E30,$L$25:$Q$67,5))<G30),"報項時間慢於達標時間",""))&IF(T30="FAIL"," 運動員錯組別","")&IF(E30="","",IF(MOD(E30,2)=1,""," 項目編號為男子組")) | L30: 11 | M30: =COUNTIFS($E$25:$E$160,"=11") -> 0 | N30: =IF(M30>$O$2, L30, "OK") -> OK | O30: =VLOOKUP(L30,報名總表及收費!$I$30:$K$118,2) -> 15U | P30: =IF(VLOOKUP(L30,報名總表及收費!$I$30:$K$118,3)=0,"",VLOOKUP(L30,報名總表及收費!$I$30:$K$118,3,FALSE)) | Q30: =IF(O30="D",YEAR(NOW())-$P$5,IF(O30="C",YEAR(NOW())-$O$5,IF(O30="F",YEAR(NOW())-$Q$5,IF(O30=0,"",O30)))) -> 15U | R30: =IF(E30=0,"",IF(MOD(E30,2)=0,"",VLOOKUP(E30,$L$24:$Q$80,6,FALSE))) | S30: =IF(D30=0,"",VLOOKUP(E30,$L$25:$Q$80,4,FALSE)) -> #N/A | T30: =IF(R30="","",IF(S30="C",IF(H30>=R30,"OK","FAIL"),IF(S30="F",IF(H30<=R30,"OK","FAIL"),IF(S30="D",IF(AND(H30<=R30,H30>=U30),"OK","FAIL"),IF(U30="",IF(H30=S30,"OK","FAIL"),IF(U30="9U",IF(H30<=9,"OK","FAIL"),IF(U30="UP",IF(H30>=15,"OK","FAIL"),IF(U30="DN",IF(H30<=7,"OK","FAIL"))))))))) | U30: =IF(R30="15U","UP",IF(R30="7D","DN",IF(R30="9U","9U",IF(S30="D",10,"")))) -> #N/A
B31: =IF(B30=0,"",B30) | C31: =IF(C30=0,"",C30) | D31: =IF(D30=0,"",D30) | F31: =IF(E31="","",VLOOKUP(E31,報名總表及收費!$I$29:$L$140,4)) | H31: =IF(D31="","", IF(D31=0,"",YEAR(NOW())-D31)) | J31: =IF(E31="","",IF(((VLOOKUP(E31,$L$25:$Q$67,5))<G31),"報項時間慢於達標時間",""))&IF(T31="FAIL"," 運動員錯組別","")&IF(E31="","",IF(MOD(E31,2)=1,""," 項目編號為男子組")) | L31: 13 | M31: =COUNTIFS($E$25:$E$160,"=13") -> 0 | N31: =IF(M31>$O$2, L31, "OK") -> OK | O31: =VLOOKUP(L31,報名總表及收費!$I$30:$K$118,2) -> 14 | P31: =IF(VLOOKUP(L31,報名總表及收費!$I$30:$K$118,3)=0,"",VLOOKUP(L31,報名總表及收費!$I$30:$K$118,3,FALSE)) | Q31: =IF(O31="D",YEAR(NOW())-$P$5,IF(O31="C",YEAR(NOW())-$O$5,IF(O31="F",YEAR(NOW())-$Q$5,IF(O31=0,"",O31)))) -> 14 | R31: =IF(E31=0,"",IF(MOD(E31,2)=0,"",VLOOKUP(E31,$L$24:$Q$80,6,FALSE))) | S31: =IF(D31=0,"",VLOOKUP(E31,$L$25:$Q$80,4,FALSE)) -> #N/A | T31: =IF(R31="","",IF(S31="C",IF(H31>=R31,"OK","FAIL"),IF(S31="F",IF(H31<=R31,"OK","FAIL"),IF(S31="D",IF(AND(H31<=R31,H31>=U31),"OK","FAIL"),IF(U31="",IF(H31=S31,"OK","FAIL"),IF(U31="9U",IF(H31<=9,"OK","FAIL"),IF(U31="UP",IF(H31>=15,"OK","FAIL"),IF(U31="DN",IF(H31<=7,"OK","FAIL"))))))))) | U31: =IF(R31="15U","UP",IF(R31="7D","DN",IF(R31="9U","9U",IF(S31="D",10,"")))) -> #N/A
B32: =IF(B31=0,"",B31) | C32: =IF(C31=0,"",C31) | D32: =IF(D31=0,"",D31) | F32: =IF(E32="","",VLOOKUP(E32,報名總表及收費!$I$29:$L$140,4)) | H32: =IF(D32="","", IF(D32=0,"",YEAR(NOW())-D32)) | J32: =IF(E32="","",IF(((VLOOKUP(E32,$L$25:$Q$67,5))<G32),"報項時間慢於達標時間",""))&IF(T32="FAIL"," 運動員錯組別","")&IF(E32="","",IF(MOD(E32,2)=1,""," 項目編號為男子組")) | L32: 15 | M32: =COUNTIFS($E$25:$E$160,"=15") -> 0 | N32: =IF(M32>$O$2, L32, "OK") -> OK | O32: =VLOOKUP(L32,報名總表及收費!$I$30:$K$118,2) -> 15U | P32: =IF(VLOOKUP(L32,報名總表及收費!$I$30:$K$118,3)=0,"",VLOOKUP(L32,報名總表及收費!$I$30:$K$118,3,FALSE)) | Q32: =IF(O32="D",YEAR(NOW())-$P$5,IF(O32="C",YEAR(NOW())-$O$5,IF(O32="F",YEAR(NOW())-$Q$5,IF(O32=0,"",O32)))) -> 15U | R32: =IF(E32=0,"",IF(MOD(E32,2)=0,"",VLOOKUP(E32,$L$24:$Q$80,6,FALSE))) | S32: =IF(D32=0,"",VLOOKUP(E32,$L$25:$Q$80,4,FALSE)) -> #N/A | T32: =IF(R32="","",IF(S32="C",IF(H32>=R32,"OK","FAIL"),IF(S32="F",IF(H32<=R32,"OK","FAIL"),IF(S32="D",IF(AND(H32<=R32,H32>=U32),"OK","FAIL"),IF(U32="",IF(H32=S32,"OK","FAIL"),IF(U32="9U",IF(H32<=9,"OK","FAIL"),IF(U32="UP",IF(H32>=15,"OK","FAIL"),IF(U32="DN",IF(H32<=7,"OK","FAIL"))))))))) | U32: =IF(R32="15U","UP",IF(R32="7D","DN",IF(R32="9U","9U",IF(S32="D",10,"")))) -> #N/A
A33: 女運動員 3 | F33: =IF(E33="","",VLOOKUP(E33,報名總表及收費!$I$29:$L$140,4)) | H33: =IF(D33="","", IF(D33=0,"",YEAR(NOW())-D33)) | J33: =IF(E33="","",IF(((VLOOKUP(E33,$L$25:$Q$67,5))<G33),"報項時間慢於達標時間",""))&IF(T33="FAIL"," 運動員錯組別","")&IF(E33="","",IF(MOD(E33,2)=1,""," 項目編號為男子組")) | L33: 17 | M33: =COUNTIFS($E$25:$E$160,"=17") -> 0 | N33: =IF(M33>$O$2, L33, "OK") -> OK | O33: =VLOOKUP(L33,報名總表及收費!$I$30:$K$118,2) -> 14 | P33: =IF(VLOOKUP(L33,報名總表及收費!$I$30:$K$118,3)=0,"",VLOOKUP(L33,報名總表及收費!$I$30:$K$118,3,FALSE)) | Q33: =IF(O33="D",YEAR(NOW())-$P$5,IF(O33="C",YEAR(NOW())-$O$5,IF(O33="F",YEAR(NOW())-$Q$5,IF(O33=0,"",O33)))) -> 14 | R33: =IF(E33=0,"",IF(MOD(E33,2)=0,"",VLOOKUP(E33,$L$24:$Q$80,6,FALSE))) | S33: =IF(D33=0,"",VLOOKUP(E33,$L$25:$Q$80,4,FALSE)) | T33: =IF(R33="","",IF(S33="C",IF(H33>=R33,"OK","FAIL"),IF(S33="F",IF(H33<=R33,"OK","FAIL"),IF(S33="D",IF(AND(H33<=R33,H33>=U33),"OK","FAIL"),IF(U33="",IF(H33=S33,"OK","FAIL"),IF(U33="9U",IF(H33<=9,"OK","FAIL"),IF(U33="UP",IF(H33>=15,"OK","FAIL"),IF(U33="DN",IF(H33<=7,"OK","FAIL"))))))))) | U33: =IF(R33="15U","UP",IF(R33="7D","DN",IF(R33="9U","9U",IF(S33="D",10,""))))
