Workbook

Sheet 報名總表及收費
A1: 香港中華業餘游泳聯會 比賽報名總表 | H1: 比賽名稱 | I1: 比賽日期 | J1: 比賽地點 | M1: A | N1: B | O1: C | P1: D | Q1: E | R1: F | AS1: Fee (Ind) | AT1: Fee (Relay)
H2: 屬會新秀游泳比賽(第一天) | I2: 46152 | J2: 大環山游泳池 | L2: 新秀1 | S2: 新秀賽3項 | T2: 4 | U2: 34 | V2: 4X50米四式階梯接力 | W2: 36 | X2: 4X50米自由式階梯接力 | AG2: 33 | AH2: 4X50米四式階梯接力 | AI2: 35 | AJ2: 4X50米自由式階梯接力 | AS2: 15 | AT2: 30
A3: 填表注意事項: | H3: 屬會新秀游泳比賽(第二天) | I3: 46166 | J3: 大環山游泳池 | L3: 新秀2 | S3: 新秀賽3項 | T3: 4 | U3: 32 | V3: 4X50米四式階梯接力 | W3: 34 | X3: 4X50米自由式階梯接力 | AG3: 31 | AH3: 4X50米四式階梯接力 | AI3: 33 | AJ3: 4X50米自由式階梯接力 | AS3: 15 | AT3: 30
H4: 周年(長池)游泳錦標賽 | I4: TBC | J4: TBC | L4: 周年 | M4: 2009 | N4: 2009 | O4: 2010 | P4: 2010 | Q4: 2015 | R4: 2015 | S4: 週年賽4項 | T4: 4 | U4: 38 | V4: 男甲4X100米混合泳接力 | W4: 40 | X4: 男乙4X100米混合泳接力 | Y4: 42 | Z4: 男丙4X50米混合泳接力 | AA4: 80 | AB4: 男甲4X100米自由泳接力 | AC4: 82 | AD4: 男乙4X100米自由泳接力 | AE4: 84 | AF4: 男丙4X50米自由泳接力 | AG4: 37 | AH4: 女甲4X100米混合泳接力 | AI4: 39 | AJ4: 女乙4X100米混合泳接力 | AK4: 41 | AL4: 女丙4X50米混合泳接力 | AM4: 79 | AN4: 女甲4X100米自由泳接力 | AO4: 81 | AP4: 女乙4X100米自由泳接力 | AQ4: 83 | AR4: 女丙4X50米自由泳接力 | AS4: 15 | AT4: 30
A5: 1. 請先在此版面先填寫基本資料，其後相關資料會自動顯示所屬版面及位置上 | H5: 周年(短池)游泳錦標賽 | I5: 46348 | J5: 城門谷游泳池 | L5: 短池 | M5: 2009 | N5: 2009 | O5: 2010 | P5: 2010 | Q5: 2015 | R5: 2015 | S5: 週年賽4項 | T5: 4 | U5: 22 | V5: 男甲 4X50米自由泳接力 | W5: 24 | X5: 男乙 4X50米自由泳接力 | Y5: 26 | Z5: 男丙 4X50米自由泳接力 | AA5: 54 | AB5: 男甲 4X50米四式接力 | AC5: 56 | AD5: 男乙 4X50米四式接力 | AE5: 58 | AF5: 男丙4X50米四式接力 | AG5: 21 | AH5: 女甲 4X50米自由泳接力 | AI5: 23 | AJ5: 女乙 4X50米自由泳接力 | AK5: 25 | AL5: 女丙 4X50米自由泳接力 | AM5: 53 | AN5: 女甲 4X50米四式接力 | AO5: 55 | AP5: 女乙 4X50米四式接力 | AQ5: 57 | AR5: 女丙4X50米四式接力 | AS5: 15 | AT5: 30
A6: 2. 報名格式及要求，請參閱報名版面 | I6: TBC | J6: TBC | L6: 嶺南杯 | S6: 3項 | T6: 3 | U6: 41 | V6: 男女子混合4X50米四式接力 | W6: 83 | X6: 男女子混合4x50米自由泳接力 | AS6: 50 | AT6: 100
A7: 3. 請盡量使用Microsoft Excel填寫報名表，以獲得最佳效果。表格內所有提示只供參考。
A8: Google sheet 報名連結 | H8: 年齡 | I8: 1 | J8: 2 | K8: 3 | L8: 4 | M8: 5 | N8: 6 | O8: 7 | P8: 8 | Q8: 9 | R8: 10 | S8: 11 | T8: 12 | U8: 13 | V8: 14 | W8: 15 | X8: 16 | Y8: 17 | Z8: 18 | AA8: 19 | AB8: 20 | AC8: 21 | AD8: 22 | AE8: 23 | AF8: 24 | AG8: 25 | AH8: 26 | AI8: 27 | AJ8: 28 | AK8: 29 | AL8: 30 | AM8: 31 | AN8: 32 | AO8: 33 | AP8: 34 | AQ8: 35 | AR8: 36 | AS8: 37 | AT8: 38 | AU8: 39 | AV8: 40 | AW8: 41 | AX8: 42 | AY8: 43 | AZ8: 44 | BA8: 45 | BB8: 46 | BC8: 47 | BD8: 48 | BE8: 49 | BF8: 50 | BG8: 51 | BH8: 52 | BI8: 53 | BJ8: 54 | BK8: 55 | BL8: 56 | BM8: 57 | BN8: 58 | BO8: 59 | BP8: 60 | BQ8: 61 | BR8: 62 | BS8: 63 | BT8: 64 | BU8: 65 | BV8: 66 | BW8: 67 | BX8: 68 | BY8: 69 | BZ8: 70 | CA8: 71 | CB8: 72 | CC8: 73 | CD8: 74 | CE8: 75 | CF8: 76 | CG8: 77 | CH8: 78 | CI8: 79 | CJ8: 80 | CK8: 81 | CL8: 82 | CM8: 83 | CN8: 84
H9: 新秀1 | I9: 14 | J9: 14 | K9: 15U | L9: 15U | M9: 14 | N9: 14 | O9: 15U | P9: 15U | Q9: 14 | R9: 14 | S9: 15U | T9: 15U | U9: 14 | V9: 14 | W9: 15U | X9: 15U | Y9: 14 | Z9: 14 | AA9: 15U | AB9: 15U | AC9: 14 | AD9: 14 | AE9: 15U | AF9: 15U | AG9: 14 | AH9: 14 | AI9: 15U | AJ9: 15U | AK9: 14 | AL9: 14 | AM9: 15U | AN9: 15U | AS9: 12 | AT9: 12 | AU9: 13 | AV9: 13 | AW9: 12 | AX9: 12 | AY9: 13 | AZ9: 13 | BA9: 12 | BB9: 12 | BC9: 13 | BD9: 13 | BE9: 12 | BF9: 12 | BG9: 13 | BH9: 13 | BI9: 12 | BJ9: 12 | BK9: 13 | BL9: 13 | BM9: 12 | BN9: 12 | BO9: 13 | BP9: 13 | BQ9: 12 | BR9: 12 | BS9: 13 | BT9: 13 | BU9: 12 | BV9: 12 | BW9: 13 | BX9: 13
A10: 團體名稱: | E10: 比賽名稱: | F10: 屬會新秀游泳比賽(第一天) | H10: 新秀2 | I10: 10 | J10: 10 | K10: 11 | L10: 11 | M10: 10 | N10: 10 | O10: 11 | P10: 11 | Q10: 10 | R10: 10 | S10: 11 | T10: 11 | U10: 10 | V10: 10 | W10: 11 | X10: 11 | Y10: 10 | Z10: 10 | AA10: 11 | AB10: 11 | AC10: 10 | AD10: 10 | AE10: 11 | AF10: 11 | AG10: 11 | AH10: 11 | AI10: 10 | AJ10: 10 | AK10: 11 | AL10: 11 | AQ10: 8 | AR10: 8 | AS10: 9 | AT10: 9 | AU10: 7D | AV10: 7D | AW10: 8 | AX10: 8 | AY10: 9 | AZ10: 9 | BA10: 8 | BB10: 8 | BC10: 9 | BD10: 9 | BE10: 7D | BF10: 7D | BG10: 8 | BH10: 8 | BI10: 9 | BJ10: 9 | BK10: 9 | BL10: 9 | BM10: 9 | BN10: 9
A11: 負責人: | E11: 比賽日期: | F11: =IF($F$10="","",VLOOKUP($F$10,$H$2:$J$6,2,FALSE)) -> 46152 | H11: 周年 | I11: C | J11: A | K11: D | L11: B | M11: F | N11: E | O11: C | P11: A | Q11: D | R11: B | S11: F | U11: C | V11: A | W11: C | X11: A | Y11: D | Z11: B | AA11: F | AB11: E | AC11: C | AD11: A | AE11: D | AF11: B | AG11: F | AH11: E | AI11: C | AJ11: A | AK11: D | AL11: B | AM11: C | AN11: A | AO11: D | AP11: B | AQ11: F | AR11: E | AS11: C | AT11: A | AU11: D | AV11: B | AW11: F | AX11: E | AY11: C | AZ11: A | BA11: D | BB11: B | BC11: F | BD11: E | BE11: C | BF11: A | BG11: D | BH11: B | BJ11: E | BK11: C | BL11: A | BM11: C | BN11: A | BO11: D | BP11: B | BQ11: F | BR11: E | BS11: C | BT11: A | BU11: D | BV11: B | BW11: F | BX11: E | BY11: C | BZ11: A | CA11: D | CB11: B | CC11: C | CD11: A | CE11: D | CF11: B | CG11: F | CH11: E | CI11: C | CJ11: A | CK11: D | CL11: B | CM11: F | CN11: E
A12: 聯絡電話: | E12: 比賽地點: | F12: =IF($F$10="","",VLOOKUP($F$10,$H$2:$J$6,3,FALSE)) -> 大環山游泳池 | H12: 短池 | I12: C | J12: A | K12: D | L12: B | M12: C | N12: A | O12: D | P12: B | Q12: F | R12: E | S12: C | T12: A | U12: D | V12: B | W12: C | X12: A | Y12: D | Z12: B | AA12: F | AB12: E | AC12: C | AD12: A | AE12: D | AF12: B | AG12: F | AH12: E | AI12: C | AJ12: A | AK12: D | AL12: B | AM12: F | AN12: E | AO12: C | AP12: A | AQ12: D | AR12: B | AS12: F | AT12: E | AU12: C | AV12: A | AW12: D | AX12: B | AY12: C | AZ12: A | BA12: D | BB12: B | BC12: F | BD12: E | BE12: C | BF12: A | BG12: D | BH12: B | BI12: C | BJ12: A | BK12: D | BL12: B | BM12: E | BN12: F
H13: 嶺南杯 | I13: 9U | J13: 9U | K13: 10 | L13: 10 | M13: 11 | N13: 11 | O13: 12 | P13: 12 | Q13: 13 | R13: 13 | S13: 9U | T13: 9U | U13: 10 | V13: 10 | W13: 11 | X13: 11 | Y13: 12 | Z13: 12 | AA13: 13 | AB13: 13 | AC13: 9U | AD13: 9U | AE13: 10 | AF13: 10 | AG13: 11 | AH13: 11 | AI13: 12 | AJ13: 12 | AK13: 13 | AL13: 13 | AM13: 9U | AN13: 9U | AO13: 10 | AP13: 10 | AQ13: 11 | AR13: 11 | AS13: 12 | AT13: 12 | AU13: 13 | AV13: 13 | AW13: Open | AY13: 9U | AZ13: 9U | BA13: 10 | BB13: 10 | BC13: 11 | BD13: 11 | BE13: 12 | BF13: 12 | BG13: 13 | BH13: 13 | BI13: 9U | BJ13: 9U | BK13: 10 | BL13: 10 | BM13: 11 | BN13: 11 | BO13: 12 | BP13: 12 | BQ13: 13 | BR13: 13 | BS13: 9U | BT13: 9U | BU13: 10 | BV13: 10 | BW13: 11 | BX13: 11 | BY13: 12 | BZ13: 12 | CA13: 13 | CB13: 13 | CC13: 9U | CD13: 9U | CE13: 10 | CF13: 10 | CG13: 11 | CH13: 11 | CI13: 12 | CJ13: 12 | CK13: 13 | CL13: 13 | CM13: Open
D14: 數量 | E14: 費用 | F14: 收費
C15: 單項(男) | D15: =COUNTA(男!E25:E164) -> 0 | E15: =H31 -> 15 | F15: =E15*D15 -> 0 | H15: 達標時間
H16: 新秀1
C17: 單項(女) | D17: =COUNTA(女!E25:E164) -> 0 | E17: =H31 -> 15 | F17: =E17*D17 -> 0 | H17: 新秀2
H18: 周年 | I18: 30000 | J18: 10705 | K18: 30000 | L18: 11003 | M18: 31000 | N18: 12650 | O18: 13656 | P18: 32000 | Q18: 13656 | R18: 32000 | S18: 14876 | U18: 33000 | V18: 31500 | W18: 14200 | X18: 12000 | Y18: 14200 | Z18: 12922 | AA18: 14200 | AB18: 14444 | AC18: 3280 | AD18: 3743 | AE18: 3506 | AF18: 3755 | AG18: 3916 | AH18: 5166 | AI18: 31500 | AJ18: 60000 | AK18: 32500 | AL18: 60000 | AM18: 4150 | AN18: 3214 | AO18: 4300 | AP18: 3564 | AQ18: 5054 | AR18: 4020 | AY18: 11899 | AZ18: 22624 | BA18: 12541 | BB18: 23075 | BC18: 13600 | BD18: 30000 | BE18: 31500 | BF18: 12458 | BG18: 32000 | BH18: 12792 | BJ18: 14381 | BK18: 32000 | BL18: 32000 | BM18: 13500 | BN18: 12000 | BO18: 14500 | BP18: 12915 | BQ18: 15000 | BR18: 13800 | BS18: 4398 | BT18: 2828 | BU18: 4406 | BV18: 2974 | BW18: 5500 | BX18: 3622 | BY18: 63000 | BZ18: 30370 | CA18: 63000 | CB18: 30370 | CC18: 3866 | CD18: 3518 | CE18: 4000 | CF18: 3680 | CG18: 4500 | CH18: 4612
C19: 接力 | D19: =COUNTA(男!G16:G21)+COUNTA(女!G16:G22) -> 0 | E19: =H32 -> 30 | F19: =E19*D19 -> 0 | H19: 短池 | I19: 13400 | J19: 13000 | K19: 13600 | L19: 13200 | M19: 4200 | N19: 3900 | O19: 4500 | P19: 4011 | Q19: 5900 | R19: 5000 | S19: 13200 | T19: 12600 | U19: 13400 | V19: 12800 | W19: 3600 | X19: 3000 | Y19: 3900 | Z19: 3509 | AA19: 4740 | AB19: 4211 | AI19: 13052 | AJ19: 12300 | AK19: 13700 | AL19: 12788 | AM19: 14500 | AN19: 14000 | AO19: 3900 | AP19: 3600 | AQ19: 4300 | AR19: 3800 | AS19: 5477 | AT19: 4500 | AU19: 13500 | AV19: 12500 | AW19: 14046 | AX19: 13400 | AY19: 3800 | AZ19: 3444 | BA19: 4000 | BB19: 3800 | BC19: 5000 | BD19: 4500 | BE19: 12000 | BF19: 10700 | BG19: 12266 | BH19: 11500
H20: 嶺南杯 | I20: 4500 | J20: 4400 | K20: 4300 | L20: 4200 | M20: 4100 | N20: 4000 | O20: 4000 | P20: 3900 | Q20: 4000 | R20: 3900 | S20: 4700 | T20: 4600 | U20: 4600 | V20: 4500 | W20: 4500 | X20: 4400 | Y20: 4400 | Z20: 4300 | AA20: 4300 | AB20: 4200 | AC20: 15500 | AD20: 15300 | AE20: 15300 | AF20: 15100 | AG20: 15100 | AH20: 14900 | AI20: 14900 | AJ20: 14700 | AK20: 14700 | AL20: 14500 | AM20: 14500 | AN20: 14300 | AO20: 14300 | AP20: 14100 | AQ20: 14100 | AR20: 13900 | AS20: 13900 | AT20: 13700 | AU20: 13900 | AV20: 13700 | AY20: 14000 | AZ20: 13800 | BA20: 13800 | BB20: 13600 | BC20: 13600 | BD20: 13400 | BE20: 13400 | BF20: 13200 | BG20: 13200 | BH20: 13000 | BI20: 15200 | BJ20: 15000 | BK20: 15000 | BL20: 14800 | BM20: 14800 | BN20: 14600 | BO20: 14600 | BP20: 14400 | BQ20: 14500 | BR20: 14200 | BS20: 5000 | BT20: 4900 | BU20: 4900 | BV20: 4800 | BW20: 4800 | BX20: 4700 | BY20: 4700 | BZ20: 4600 | CA20: 4600 | CB20: 4500 | CC20: 4600 | CD20: 4500 | CE20: 4500 | CF20: 4400 | CG20: 4400 | CH20: 4300 | CI20: 4300 | CJ20: 4200 | CK20: 4200 | CL20: 4100
C21: 成績證書行政費 | D21: =男!N2+女!N2 -> 0 | E21: $50.00 | F21: =E21*D21 -> 0
H22: Events
C23: 領取證書方式: | H23: 新秀1 | I23: 100米背泳 | J23: 100米背泳 | K23: 100米背泳 | L23: 100米背泳 | M23: 100米蛙泳 | N23: 100米蛙泳 | O23: 100米蛙泳 | P23: 100米蛙泳 | Q23: 50米蝶泳 | R23: 50米蝶泳 | S23: 50米蝶泳 | T23: 50米蝶泳 | U23: 50米自由泳 | V23: 50米自由泳 | W23: 50米自由泳 | X23: 50米自由泳 | Y23: 50米背泳 | Z23: 50米背泳 | AA23: 50米背泳 | AB23: 50米背泳 | AC23: 50米蛙泳 | AD23: 50米蛙泳 | AE23: 50米蛙泳 | AF23: 50米蛙泳 | AG23: 100米蝶泳 | AH23: 100米蝶泳 | AI23: 100米蝶泳 | AJ23: 100米蝶泳 | AK23: 100米自由泳 | AL23: 100米自由泳 | AM23: 100米自由泳 | AN23: 100米自由泳 | AO23: 4X50米四式接力 | AP23: 4X50米四式接力 | AQ23: 4X50米自由泳接力 | AR23: 4X50米自由泳接力 | AS23: 100米背泳 | AT23: 100米背泳 | AU23: 100米背泳 | AV23: 100米背泳 | AW23: 100米蛙泳 | AX23: 100米蛙泳 | AY23: 100米蛙泳 | AZ23: 100米蛙泳 | BA23: 50米蝶泳 | BB23: 50米蝶泳 | BC23: 50米蝶泳 | BD23: 50米蝶泳 | BE23: 50米自由泳 | BF23: 50米自由泳 | BG23: 50米自由泳 | BH23: 50米自由泳 | BI23: 50米背泳 | BJ23: 50米背泳 | BK23: 50米背泳 | BL23: 50米背泳 | BM23: 50米蛙泳 | BN23: 50米蛙泳 | BO23: 50米蛙泳 | BP23: 50米蛙泳 | BQ23: 100米蝶泳 | BR23: 100米蝶泳 | BS23: 100米蝶泳 | BT23: 100米蝶泳 | BU23: 100米自由泳 | BV23: 100米自由泳 | BW23: 100米自由泳 | BX23: 100米自由泳
H24: 新秀2 | I24: 100米背泳 | J24: 100米背泳 | K24: 100米背泳 | L24: 100米背泳 | M24: 100米蛙泳 | N24: 100米蛙泳 | O24: 100米蛙泳 | P24: 100米蛙泳 | Q24: 50米蝶泳 | R24: 50米蝶泳 | S24: 50米蝶泳 | T24: 50米蝶泳 | U24: 50米自由泳 | V24: 50米自由泳 | W24: 50米自由泳 | X24: 50米自由泳 | Y24: 50米背泳 | Z24: 50米背泳 | AA24: 50米背泳 | AB24: 50米背泳 | AC24: 50米蛙泳 | AD24: 50米蛙泳 | AE24: 50米蛙泳 | AF24: 50米蛙泳 | AG24: 100米蝶泳 | AH24: 100米蝶泳 | AI24: 100米自由泳 | AJ24: 100米自由泳 | AK24: 100米自由泳 | AL24: 100米自由泳 | AM24: 4X50米四式接力 | AN24: 4X50米四式接力 | AO24: 4X50米自由泳接力 | AP24: 4X50米自由泳接力 | AQ24: 50米背泳 | AR24: 50米背泳 | AS24: 50米背泳 | AT24: 50米背泳 | AU24: 50米蛙泳 | AV24: 50米蛙泳 | AW24: 50米蛙泳 | AX24: 50米蛙泳 | AY24: 50米蛙泳 | AZ24: 50米蛙泳 | BA24: 50米蝶泳 | BB24: 50米蝶泳 | BC24: 50米蝶泳 | BD24: 50米蝶泳 | BE24: 50米自由泳 | BF24: 50米自由泳 | BG24: 50米自由泳 | BH24: 50米自由泳 | BI24: 50米自由泳 | BJ24: 50米自由泳 | BK24: 100米蛙泳 | BL24: 100米蛙泳 | BM24: 100米自由泳 | BN24: 100米自由泳
C25: 郵寄地址: | H25: 周年 | I25: 女甲200米自由泳 | J25: 男甲100米自由泳 | K25: 女乙200米自由泳 | L25: 男乙100米自由泳 | M25: 女丙200米自由泳 | N25: 男丙100米自由泳 | O25: 女甲100米蛙泳 | P25: 男甲200米蛙泳 | Q25: 女乙100米蛙泳 | R25: 男乙200米蛙泳 | S25: 女丙100米蛙泳 | U25: 女甲200米背泳 | V25: 男甲200米蝶泳 | W25: 女甲100米蝶泳 | X25: 男甲100米背泳 | Y25: 女乙100米蝶泳 | Z25: 男乙100米背泳 | AA25: 女丙100米蝶泳 | AB25: 男丙100米背泳 | AC25: 女甲50米自由泳 | AD25: 男甲50米蛙泳 | AE25: 女乙50米自由泳 | AF25: 男乙50米蛙泳 | AG25: 女丙50米自由泳 | AH25: 男丙50米蛙泳 | AI25: 女甲200米混合泳 | AJ25: 男甲400米自由泳 | AK25: 女乙200米混合泳 | AL25: 男乙400米自由泳 | AM25: 女甲50米背泳 | AN25: 男甲50米蝶泳 | AO25: 女乙50米背泳 | AP25: 男乙50米蝶泳 | AQ25: 女丙50米背泳 | AR25: 男丙50米蝶泳 | AS25: 女甲4X100米混合泳接力 | AT25: 男甲4X100米混合泳接力 | AU25: 女乙4X100米混合泳接力 | AV25: 男乙4X100米混合泳接力 | AW25: 女丙4X50米混合泳接力 | AX25: 男丙4X50米混合泳接力 | AY25: 女甲100米自由泳 | AZ25: 男甲200米自由泳 | BA25: 女乙100米自由泳 | BB25: 男乙200米自由泳 | BC25: 女丙100米自由泳 | BD25: 男丙200米自由泳 | BE25: 女甲200米蛙泳 | BF25: 男甲100米蛙泳 | BG25: 女乙200米蛙泳 | BH25: 男乙100米蛙泳 | BJ25: 男丙100米蛙泳 | BK25: 女甲200米蝶泳 | BL25: 男甲200米背泳 | BM25: 女甲100米背泳 | BN25: 男甲100米蝶泳 | BO25: 女乙100米背泳 | BP25: 男乙100米蝶泳 | BQ25: 女丙100米背泳 | BR25: 男丙100米蝶泳 | BS25: 女甲50米蛙泳 | BT25: 男甲50米自由泳 | BU25: 女乙50米蛙泳 | BV25: 男乙50米自由泳 | BW25: 女丙50米蛙泳 | BX25: 男丙50米自由泳 | BY25: 女甲400米自由泳 | BZ25: 男甲200米混合泳 | CA25: 女乙400米自由泳 | CB25: 男乙200米混合泳 | CC25: 女甲50米蝶泳 | CD25: 男甲50米背泳 | CE25: 女乙50米蝶泳 | CF25: 男乙50米背泳 | CG25: 女丙50米蝶泳 | CH25: 男丙50米背泳 | CI25: 女甲4X100米自由泳接力 | CJ25: 男甲4X100米自由泳接力 | CK25: 女乙4X100米自由泳接力 | CL25: 男乙4X100米自由泳接力 | CM25: 女丙4X50米自由泳接力 | CN25: 男丙4X50米自由泳接力
H26: 短池 | I26: 女甲 100米背泳 | J26: 男甲 100米背泳 | K26: 女乙 100米背泳 | L26: 男乙 100米背泳 | M26: 女甲 50米蛙泳 | N26: 男甲 50米蛙泳 | O26: 女乙 50米蛙泳 | P26: 男乙 50米蛙泳 | Q26: 女丙 50米蛙泳 | R26: 男丙 50米蛙泳 | S26: 女甲 100米蝶泳 | T26: 男甲 100米蝶泳 | U26: 女乙 100米蝶泳 | V26: 男乙 100米蝶泳 | W26: 女甲 50米自由泳 | X26: 男甲 50米自由泳 | Y26: 女乙 50米自由泳 | Z26: 男乙 50米自由泳 | AA26: 女丙 50米自由泳 | AB26: 男丙 50米自由泳 | AC26: 女甲 4X50米自由泳接力 | AD26: 男甲 4X50米自由泳接力 | AE26: 女乙 4X50米自由泳接力 | AF26: 男乙 4X50米自由泳接力 | AG26: 女丙 4X50米自由泳接力 | AH26: 男丙 4X50米自由泳接力 | AI26: 女甲 100米個人混合泳 | AJ26: 男甲 100米個人混合泳 | AK26: 女乙 100米個人混合泳 | AL26: 男乙 100米個人混合泳 | AM26: 女丙 100米個人混合泳 | AN26: 男丙 100米個人混合泳 | AO26: 女甲 50米背泳 | AP26: 男甲 50米背泳 | AQ26: 女乙 50米背泳 | AR26: 男乙 50米背泳 | AS26: 女丙 50米背泳 | AT26: 男丙 50米背泳 | AU26: 女甲 100米蛙泳 | AV26: 男甲 100米蛙泳 | AW26: 女乙 100米蛙泳 | AX26: 男乙 100米蛙泳 | AY26: 女甲 50米蝶泳 | AZ26: 男甲 50米蝶泳 | BA26: 女乙 50米蝶泳 | BB26: 男乙 50米蝶泳 | BC26: 女丙 50米蝶泳 | BD26: 男丙 50米蝶泳 | BE26: 女甲 100米自由泳 | BF26: 男甲 100米自由泳 | BG26: 女乙 100米自由泳 | BH26: 男乙 100米自由泳 | BI26: 女甲 4X50米四式接力 | BJ26: 男甲 4X50米四式接力 | BK26: 女乙 4X50米四式接力 | BL26: 男乙 4X50米四式接力 | BM26: 女丙 4X50米四式接力 | BN26: 男丙 4X50米四式接力
C27: 註冊費用: | D27: =COUNTA(運動員註冊表!E18:E217) -> 0 | E27: $50.00 | F27: =E27*D27 -> 0 | H27: 嶺南杯 | I27: 女子9歲及以下50米自由泳 | J27: 男子9歲及以下50米自由泳 | K27: 女子10歲50米自由泳 | L27: 男子10歲50米自由泳 | M27: 女子11歲50米自由泳 | N27: 男子11歲50米自由泳 | O27: 女子12歲50米自由泳 | P27: 男子12歲50米自由泳 | Q27: 女子13歲50米自由泳 | R27: 男子13歲50米自由泳 | S27: 女子9歲及以下50米背泳 | T27: 男子9歲及以下50米背泳 | U27: 女子10歲50米背泳 | V27: 男子10歲50米背泳 | W27: 女子11歲50米背泳 | X27: 男子11歲50米背泳 | Y27: 女子12歲50米背泳 | Z27: 男子12歲50米背泳 | AA27: 女子13歲50米背泳 | AB27: 男子13歲50米背泳 | AC27: 女子9歲及以下100米蛙泳 | AD27: 男子9歲及以下100米蛙泳 | AE27: 女子10歲100米蛙泳 | AF27: 男子10歲100米蛙泳 | AG27: 女子11歲100米蛙泳 | AH27: 男子11歲100米蛙泳 | AI27: 女子12歲100米蛙泳 | AJ27: 男子12歲100米蛙泳 | AK27: 女子13歲100米蛙泳 | AL27: 男子13歲100米蛙泳 | AM27: 女子9歲及以下100米蝶泳 | AN27: 男子9歲及以下100米蝶泳 | AO27: 女子10歲100米蝶泳 | AP27: 男子10歲100米蝶泳 | AQ27: 女子11歲100米蝶泳 | AR27: 男子11歲100米蝶泳 | AS27: 女子12歲100米蝶泳 | AT27: 男子12歲100米蝶泳 | AU27: 女子13歲100米蝶泳 | AV27: 男子13歲100米蝶泳 | AY27: 女子9歲及以下100米自由泳 | AZ27: 男子9歲及以下100米自由泳 | BA27: 女子10歲100米自由泳 | BB27: 男子10歲100米自由泳 | BC27: 女子11歲100米自由泳 | BD27: 男子11歲100米自由泳 | BE27: 女子12歲100米自由泳 | BF27: 男子12歲100米自由泳 | BG27: 女子13歲100米自由泳 | BH27: 男子13歲100米自由泳 | BI27: 女子9歲及以下100米背泳 | BJ27: 男子9歲及以下100米背泳 | BK27: 女子10歲100米背泳 | BL27: 男子10歲100米背泳 | BM27: 女子11歲100米背泳 | BN27: 男子11歲100米背泳 | BO27: 女子12歲100米背泳 | BP27: 男子12歲100米背泳 | BQ27: 女子13歲100米背泳 | BR27: 男子13歲100米背泳 | BS27: 女子9歲及以下50米蛙泳 | BT27: 男子9歲及以下50米蛙泳 | BU27: 女子10歲50米蛙泳 | BV27: 男子10歲50米蛙泳 | BW27: 女子11歲50米蛙泳 | BX27: 男子11歲50米蛙泳 | BY27: 女子12歲50米蛙泳 | BZ27: 男子12歲50米蛙泳 | CA27: 女子13歲50米蛙泳 | CB27: 男子13歲50米蛙泳 | CC27: 女子9歲及以下50米蝶泳 | CD27: 男子9歲及以下50米蝶泳 | CE27: 女子10歲50米蝶泳 | CF27: 男子10歲50米蝶泳 | CG27: 女子11歲50米蝶泳 | CH27: 男子11歲50米蝶泳 | CI27: 女子12歲50米蝶泳 | CJ27: 男子12歲50米蝶泳 | CK27: 女子13歲50米蝶泳 | CL27: 男子13歲50米蝶泳
E29: 總收費 | F29: =F15+F17+F19+F21+F27 -> 0 | H29: =F10 -> 屬會新秀游泳比賽(第一天) | J29: 年齡 | K29: 達標時間 | L29: Events
H30: =VLOOKUP($H$29,$H$2:$M$6,5,FALSE) -> 新秀1 | I30: 1 | J30: =IF(VLOOKUP($H$30,$H$9:$CW$14,I30+1,FALSE)=0,"",VLOOKUP($H$30,$H$9:$CW$14,I30+1,FALSE)) -> 14 | K30: =IF(VLOOKUP($H$30,$H$16:$CW$20,I30+1,FALSE)=0,"",VLOOKUP($H$30,$H$16:$CW$20,I30+1,FALSE)) | L30: =IF(VLOOKUP($H$30,$H$23:$CW$27,I30+1,FALSE)=0,"",VLOOKUP($H$30,$H$23:$CW$27,I30+1,FALSE)) -> 100米背泳
H31: =VLOOKUP($H$30,$L$2:$AT$6,34,FALSE) -> 15 | I31: 2 | J31: =IF(VLOOKUP($H$30,$H$9:$CW$14,I31+1,FALSE)=0,"",VLOOKUP($H$30,$H$9:$CW$14,I31+1,FALSE)) -> 14 | K31: =IF(VLOOKUP($H$30,$H$16:$CW$20,I31+1,FALSE)=0,"",VLOOKUP($H$30,$H$16:$CW$20,I31+1,FALSE)) | L31: =IF(VLOOKUP($H$30,$H$23:$CW$27,I31+1,FALSE)=0,"",VLOOKUP($H$30,$H$23:$CW$27,I31+1,FALSE)) -> 100米背泳
H32: =VLOOKUP($H$30,$L$2:$AT$6,35,FALSE) -> 30 | I32: 3 | J32: =IF(VLOOKUP($H$30,$H$9:$CW$14,I32+1,FALSE)=0,"",VLOOKUP($H$30,$H$9:$CW$14,I32+1,FALSE)) -> 15U | K32: =IF(VLOOKUP($H$30,$H$16:$CW$20,I32+1,FALSE)=0,"",VLOOKUP($H$30,$H$16:$CW$20,I32+1,FALSE)) | L32: =IF(VLOOKUP($H$30,$H$23:$CW$27,I32+1,FALSE)=0,"",VLOOKUP($H$30,$H$23:$CW$27,I32+1,FALSE)) -> 100米背泳
I33: 4 | J33: =IF(VLOOKUP($H$30,$H$9:$CW$14,I33+1,FALSE)=0,"",VLOOKUP($H$30,$H$9:$CW$14,I33+1,FALSE)) -> 15U | K33: =IF(VLOOKUP($H$30,$H$16:$CW$20,I33+1,FALSE)=0,"",VLOOKUP($H$30,$H$16:$CW$20,I33+1,FALSE)) | L33: =IF(VLOOKUP($H$30,$H$23:$CW$27,I33+1,FALSE)=0,"",VLOOKUP($H$30,$H$23:$CW$27,I33+1,FALSE)) -> 100米背泳
I34: 5 | J34: =IF(VLOOKUP($H$30,$H$9:$CW$14,I34+1,FALSE)=0,"",VLOOKUP($H$30,$H$9:$CW$14,I34+1,FALSE)) -> 14 | K34: =IF(VLOOKUP($H$30,$H$16:$CW$20,I34+1,FALSE)=0,"",VLOOKUP($H$30,$H$16:$CW$20,I34+1,FALSE)) | L34: =IF(VLOOKUP($H$30,$H$23:$CW$27,I34+1,FALSE)=0,"",VLOOKUP($H$30,$H$23:$CW$27,I34+1,FALSE)) -> 100米蛙泳
H35: 欄1 | I35: 6 | J35: =IF(VLOOKUP($H$30,$H$9:$CW$14,I35+1,FALSE)=0,"",VLOOKUP($H$30,$H$9:$CW$14,I35+1,FALSE)) -> 14 | K35: =IF(VLOOKUP($H$30,$H$16:$CW$20,I35+1,FALSE)=0,"",VLOOKUP($H$30,$H$16:$CW$20,I35+1,FALSE)) | L35: =IF(VLOOKUP($H$30,$H$23:$CW$27,I35+1,FALSE)=0,"",VLOOKUP($H$30,$H$23:$CW$27,I35+1,FALSE)) -> 100米蛙泳
H36: 順豐到付(費用在取件時支付) | I36: 7 | J36: =IF(VLOOKUP($H$30,$H$9:$CW$14,I36+1,FALSE)=0,"",VLOOKUP($H$30,$H$9:$CW$14,I36+1,FALSE)) -> 15U | K36: =IF(VLOOKUP($H$30,$H$16:$CW$20,I36+1,FALSE)=0,"",VLOOKUP($H$30,$H$16:$CW$20,I36+1,FALSE)) | L36: =IF(VLOOKUP($H$30,$H$23:$CW$27,I36+1,FALSE)=0,"",VLOOKUP($H$30,$H$23:$CW$27,I36+1,FALSE)) -> 100米蛙泳
H37: 郵政平郵(郵費由本會支付) | I37: 8 | J37: =IF(VLOOKUP($H$30,$H$9:$CW$14,I37+1,FALSE)=0,"",VLOOKUP($H$30,$H$9:$CW$14,I37+1,FALSE)) -> 15U | K37: =IF(VLOOKUP($H$30,$H$16:$CW$20,I37+1,FALSE)=0,"",VLOOKUP($H$30,$H$16:$CW$20,I37+1,FALSE)) | L37: =IF(VLOOKUP($H$30,$H$23:$CW$27,I37+1,FALSE)=0,"",VLOOKUP($H$30,$H$23:$CW$27,I37+1,FALSE)) -> 100米蛙泳
I38: 9 | J38: =IF(VLOOKUP($H$30,$H$9:$CW$14,I38+1,FALSE)=0,"",VLOOKUP($H$30,$H$9:$CW$14,I38+1,FALSE)) -> 14 | K38: =IF(VLOOKUP($H$30,$H$16:$CW$20,I38+1,FALSE)=0,"",VLOOKUP($H$30,$H$16:$CW$20,I38+1,FALSE)) | L38: =IF(VLOOKUP($H$30,$H$23:$CW$27,I38+1,FALSE)=0,"",VLOOKUP($H$30,$H$23:$CW$27,I38+1,FALSE)) -> 50米蝶泳
I39: 10 | J39: =IF(VLOOKUP($H$30,$H$9:$CW$14,I39+1,FALSE)=0,"",VLOOKUP($H$30,$H$9:$CW$14,I39+1,FALSE)) -> 14 | K39: =IF(VLOOKUP($H$30,$H$16:$CW$20,I39+1,FALSE)=0,"",VLOOKUP($H$30,$H$16:$CW$20,I39+1,FALSE)) | L39: =IF(VLOOKUP($H$30,$H$23:$CW$27,I39+1,FALSE)=0,"",VLOOKUP($H$30,$H$23:$CW$27,I39+1,FALSE)) -> 50米蝶泳
I40: 11 | J40: =IF(VLOOKUP($H$30,$H$9:$CW$14,I40+1,FALSE)=0,"",VLOOKUP($H$30,$H$9:$CW$14,I40+1,FALSE)) -> 15U | K40: =IF(VLOOKUP($H$30,$H$16:$CW$20,I40+1,FALSE)=0,"",VLOOKUP($H$30,$H$16:$CW$20,I40+1,FALSE)) | L40: =IF(VLOOKUP($H$30,$H$23:$CW$27,I40+1,FALSE)=0,"",VLOOKUP($H$30,$H$23:$CW$27,I40+1,FALSE)) -> 50米蝶泳
I41: 12 | J41: =IF(VLOOKUP($H$30,$H$9:$CW$14,I41+1,FALSE)=0,"",VLOOKUP($H$30,$H$9:$CW$14,I41+1,FALSE)) -> 15U | K41: =IF(VLOOKUP($H$30,$H$16:$CW$20,I41+1,FALSE)=0,"",VLOOKUP($H$30,$H$16:$CW$20,I41+1,FALSE)) | L41: =IF(VLOOKUP($H$30,$H$23:$CW$27,I41+1,FALSE)=0,"",VLOOKUP($H$30,$H$23:$CW$27,I41+1,FALSE)) -> 50米蝶泳
I42: 13 | J42: =IF(VLOOKUP($H$30,$H$9:$CW$14,I42+1,FALSE)=0,"",VLOOKUP($H$30,$H$9:$CW$14,I42+1,FALSE)) -> 14 | K42: =IF(VLOOKUP($H$30,$H$16:$CW$20,I42+1,FALSE)=0,"",VLOOKUP($H$30,$H$16:$CW$20,I42+1,FALSE)) | L42: =IF(VLOOKUP($H$30,$H$23:$CW$27,I42+1,FALSE)=0,"",VLOOKUP($H$30,$H$23:$CW$27,I42+1,FALSE)) -> 50米自由泳
I43: 14 | J43: =IF(VLOOKUP($H$30,$H$9:$CW$14,I43+1,FALSE)=0,"",VLOOKUP($H$30,$H$9:$CW$14,I43+1,FALSE)) -> 14 | K43: =IF(VLOOKUP($H$30,$H$16:$CW$20,I43+1,FALSE)=0,"",VLOOKUP($H$30,$H$16:$CW$20,I43+1,FALSE)) | L43: =IF(VLOOKUP($H$30,$H$23:$CW$27,I43+1,FALSE)=0,"",VLOOKUP($H$30,$H$23:$CW$27,I43+1,FALSE)) -> 50米自由泳
I44: 15 | J44: =IF(VLOOKUP($H$30,$H$9:$CW$14,I44+1,FALSE)=0,"",VLOOKUP($H$30,$H$9:$CW$14,I44+1,FALSE)) -> 15U | K44: =IF(VLOOKUP($H$30,$H$16:$CW$20,I44+1,FALSE)=0,"",VLOOKUP($H$30,$H$16:$CW$20,I44+1,FALSE)) | L44: =IF(VLOOKUP($H$30,$H$23:$CW$27,I44+1,FALSE)=0,"",VLOOKUP($H$30,$H$23:$CW$27,I44+1,FALSE)) -> 50米自由泳
I45: 16 | J45: =IF(VLOOKUP($H$30,$H$9:$CW$14,I45+1,FALSE)=0,"",VLOOKUP($H$30,$H$9:$CW$14,I45+1,FALSE)) -> 15U | K45: =IF(VLOOKUP($H$30,$H$16:$CW$20,I45+1,FALSE)=0,"",VLOOKUP($H$30,$H$16:$CW$20,I45+1,FALSE)) | L45: =IF(VLOOKUP($H$30,$H$23:$CW$27,I45+1,FALSE)=0,"",VLOOKUP($H$30,$H$23:$CW$27,I45+1,FALSE)) -> 50米自由泳
I46: 17 | J46: =IF(VLOOKUP($H$30,$H$9:$CW$14,I46+1,FALSE)=0,"",VLOOKUP($H$30,$H$9:$CW$14,I46+1,FALSE)) -> 14 | K46: =IF(VLOOKUP($H$30,$H$16:$CW$20,I46+1,FALSE)=0,"",VLOOKUP($H$30,$H$16:$CW$20,I46+1,FALSE)) | L46: =IF(VLOOKUP($H$30,$H$23:$CW$27,I46+1,FALSE)=0,"",VLOOKUP($H$30,$H$23:$CW$27,I46+1,FALSE)) -> 50米背泳
I47: 18 | J47: =IF(VLOOKUP($H$30,$H$9:$CW$14,I47+1,FALSE)=0,"",VLOOKUP($H$30,$H$9:$CW$14,I47+1,FALSE)) -> 14 | K47: =IF(VLOOKUP($H$30,$H$16:$CW$20,I47+1,FALSE)=0,"",VLOOKUP($H$30,$H$16:$CW$20,I47+1,FALSE)) | L47: =IF(VLOOKUP($H$30,$H$23:$CW$27,I47+1,FALSE)=0,"",VLOOKUP($H$30,$H$23:$CW$27,I47+1,FALSE)) -> 50米背泳
I48: 19 | J48: =IF(VLOOKUP($H$30,$H$9:$CW$14,I48+1,FALSE)=0,"",VLOOKUP($H$30,$H$9:$CW$14,I48+1,FALSE)) -> 15U | K48: =IF(VLOOKUP($H$30,$H$16:$CW$20,I48+1,FALSE)=0,"",VLOOKUP($H$30,$H$16:$CW$20,I48+1,FALSE)) | L48: =IF(VLOOKUP($H$30,$H$23:$CW$27,I48+1,FALSE)=0,"",VLOOKUP($H$30,$H$23:$CW$27,I48+1,FALSE)) -> 50米背泳
I49: 20 | J49: =IF(VLOOKUP($H$30,$H$9:$CW$14,I49+1,FALSE)=0,"",VLOOKUP($H$30,$H$9:$CW$14,I49+1,FALSE)) -> 15U | K49: =IF(VLOOKUP($H$30,$H$16:$CW$20,I49+1,FALSE)=0,"",VLOOKUP($H$30,$H$16:$CW$20,I49+1,FALSE)) | L49: =IF(VLOOKUP($H$30,$H$23:$CW$27,I49+1,FALSE)=0,"",VLOOKUP($H$30,$H$23:$CW$27,I49+1,FALSE)) -> 50米背泳
... I113: 84 | J113: =IF(VLOOKUP($H$30,$H$9:$CW$14,I113+1,FALSE)=0,"",VLOOKUP($H$30,$H$9:$CW$14,I113+1,FALSE)) | K113: =IF(VLOOKUP($H$30,$H$16:$CW$20,I113+1,FALSE)=0,"",VLOOKUP($H$30,$H$16:$CW$20,I113+1,FALSE)) | L113: =IF(VLOOKUP($H$30,$H$23:$CW$27,I113+1,FALSE)=0,"",VLOOKUP($H$30,$H$23:$CW$27,I113+1,FALSE))

Sheet 男
A1: 香港中華業餘游泳聯會 比賽報名表 (男子) | O1: Max Event per club
A2: 填表注意事項: | N2: =COUNTA(I25:I164) -> 0 | O2: =VLOOKUP(F11,報名總表及收費!H1:T7,13,FALSE) -> 4 | T2: 欄1
A3: 1. 請根據所屬性別分別填寫在指定的報名表上(報名表分為男，女)，接力在報名表上方，只需按比賽項目輸入報項時間便可 | T3: Y
A4: 2. 請準確及清楚填寫各項資料，所有超額報名、資料不全、錯填資料均被視為無效。無效報名會被拒參賽，報名費怒不退回。 | O4: A | P4: B | Q4: E
A5: ="3. 每個個人項目每團體最多可報"& VLOOKUP(F11,報名總表及收費!H1:T7,13,FALSE) & "個運動員。每名運動員限報個人項目︰"& VLOOKUP(F11,報名總表及收費!H1:T7,12,FALSE) &"，個人項目報名總數可參考報名表右方" -> 3. 每個個人項目每團體最多可報4個運動員。每名運動員限報個人項目︰新秀賽3項，個人項目報名總數可參考報名表右方 | O5: =VLOOKUP($O$8,報名總表及收費!$L$2:$R$5,2,FALSE) -> 0 | P5: =VLOOKUP($O$8,報名總表及收費!$L$2:$R$5,3,FALSE) -> 0 | Q5: =VLOOKUP($O$8,報名總表及收費!$L$2:$R$5,6,FALSE) -> 0
A6: 4. 時間格式以此為準 - 例: 0:26:88 , 請輸入 2688
A7: 5. 只需輸入綠色欄位的資料，其他為自動填寫資料。
A8: 6. 若儲存格出現紅色，請重新檢查該項目是否報錯資料。 | O8: =報名總表及收費!H30 -> 新秀1
A9: 7. 如需申請成績證書，請在"申請成績證書"格上填上"Y"，若不申請可漏空。比賽後申請成績證書，本會將額外收取每張港元10元行政費(即每項每張港元共60元行政費)
A11: 團體名稱: | B11: =IF(報名總表及收費!B10=0,"",報名總表及收費!B10) | E11: 比賽名稱: | F11: =報名總表及收費!F10 -> 屬會新秀游泳比賽(第一天)
A12: 負責人: | B12: =IF(報名總表及收費!B11=0,"",報名總表及收費!B11) | E12: 比賽日期: | F12: =報名總表及收費!F11 -> 46152
A13: 聯絡電話: | B13: =IF(報名總表及收費!B12=0,"",報名總表及收費!B12) | E13: 比賽地點: | F13: =報名總表及收費!F12 -> 大環山游泳池
B15: 接力團體 | E15: 項目編號 | F15: 接力項目 | G15: 報項時間 | J15: 備註 | L15: 團體項目 | M15: 總數
A16: 接力項目 | B16: =IF(報名總表及收費!$B$10=0,"",報名總表及收費!$B$10) | E16: =VLOOKUP(報名總表及收費!$H$30,報名總表及收費!$L$2:$AX$6,10,FALSE) -> 34 | F16: =VLOOKUP(報名總表及收費!$H$30,報名總表及收費!$L$2:$AX$6,11,FALSE) -> 4X50米四式階梯接力 | J16: =IF(B16="","",IF(G16="","未報名","")) | L16: =E16 -> 34 | M16: =COUNTA(G16) -> 0
B17: =IF(報名總表及收費!$B$10=0,"",報名總表及收費!$B$10) | E17: =VLOOKUP(報名總表及收費!$H$30,報名總表及收費!$L$2:$AX$6,12,FALSE) -> 36 | F17: =VLOOKUP(報名總表及收費!$H$30,報名總表及收費!$L$2:$AX$6,13,FALSE) -> 4X50米自由式階梯接力 | J17: =IF(B17="","",IF(G17="","未報名","")) | L17: =E17 -> 36 | M17: =COUNTA(G17) -> 0
B18: =IF(E18="","",IF(報名總表及收費!$B$10=0,"",報名總表及收費!$B$10)) | E18: =IF(VLOOKUP(報名總表及收費!$H$30,報名總表及收費!$L$2:$AX$6,14,FALSE)= 0,"",VLOOKUP(報名總表及收費!$H$30,報名總表及收費!$L$2:$AX$6,14,FALSE)) | F18: =IF(VLOOKUP(報名總表及收費!$H$30,報名總表及收費!$L$2:$AX$6,15,FALSE)=0,"",VLOOKUP(報名總表及收費!$H$30,報名總表及收費!$L$2:$AX$6,15,FALSE)) | J18: =IF(B18="","",IF(G18="","未報名","")) | L18: =E18 | M18: =COUNTA(G18) -> 0
B19: =IF(E19="","",IF(報名總表及收費!$B$10=0,"",報名總表及收費!$B$10)) | E19: =IF(VLOOKUP(報名總表及收費!$H$30,報名總表及收費!$L$2:$AX$6,16,FALSE)=0,"",VLOOKUP(報名總表及收費!$H$30,報名總表及收費!$L$2:$AX$6,16,FALSE)) | F19: =IF(VLOOKUP(報名總表及收費!$H$30,報名總表及收費!$L$2:$AX$6,17,FALSE)=0,"",VLOOKUP(報名總表及收費!$H$30,報名總表及收費!$L$2:$AX$6,17,FALSE)) | J19: =IF(B19="","",IF(G19="","未報名","")) | L19: =E19 | M19: =COUNTA(G19) -> 0
B20: =IF(E20="","",IF(報名總表及收費!$B$10=0,"",報名總表及收費!$B$10)) | E20: =IF(VLOOKUP(報名總表及收費!$H$30,報名總表及收費!$L$2:$AX$6,18,FALSE)=0,"",VLOOKUP(報名總表及收費!$H$30,報名總表及收費!$L$2:$AX$6,18,FALSE)) | F20: =IF(VLOOKUP(報名總表及收費!$H$30,報名總表及收費!$L$2:$AX$6,19,FALSE)=0,"",VLOOKUP(報名總表及收費!$H$30,報名總表及收費!$L$2:$AX$6,19,FALSE)) | J20: =IF(B20="","",IF(G20="","未報名","")) | L20: =E20 | M20: =COUNTA(G20) -> 0
B21: =IF(E21="","",IF(報名總表及收費!$B$10=0,"",報名總表及收費!$B$10)) | E21: =IF(VLOOKUP(報名總表及收費!$H$30,報名總表及收費!$L$2:$AX$6,20,FALSE)=0,"",VLOOKUP(報名總表及收費!$H$30,報名總表及收費!$L$2:$AX$6,20,FALSE)) | F21: =IF(VLOOKUP(報名總表及收費!$H$30,報名總表及收費!$L$2:$AX$6,21,FALSE)=0,"",VLOOKUP(報名總表及收費!$H$30,報名總表及收費!$L$2:$AX$6,21,FALSE)) | J21: =IF(B21="","",IF(G21="","未報名","")) | L21: =E21 | M21: =COUNTA(G21) -> 0
B23: 姓名 (中) | C23: 姓名 (英) | D23: 出生年份 | E23: 項目編號 | F23: 項目 | G23: 報項時間 | H23: 年齡 | I23: 申請成績證書 | J23: 備註 | O23: 年齡 | P23: 達標時間 | R23: Age Check
A24: 例 | B24: 王一一 | C24: Wong Yat Yat | D24: 1999 | E24: 12 | F24: =IF(E24="","",VLOOKUP(E24,報名總表及收費!$I$29:$L$97,4)) -> 50米蝶泳 | G24: 1228 | H24: =IF(D24=0,"",YEAR(NOW())-D24) -> 27 | I24: Y | L24: 個人項目 | M24: 總數
A25: 男運動員 1 | F25: =IF(E25="","",VLOOKUP(E25,報名總表及收費!$I$29:$L$140,4)) | H25: =IF(D25="","", IF(D25=0,"",YEAR(NOW())-D25)) | J25: =IF(E25="","",IF(((VLOOKUP(E25,$L$25:$T$70,5))<G25),"報項時間慢於達標時間",""))&IF(T25="FAIL"," 運動員錯組別","")&IF(MOD(E25,2)=0,""," 項目編號為女子組") | L25: 2 | M25: =COUNTIFS($E$25:$E$164,"=2") -> 0 | N25: =IF(M25>$O$2, L25, "OK") -> OK | O25: =VLOOKUP(L25,報名總表及收費!$I$30:$K$118,2) -> 14 | P25: =IF(VLOOKUP(L25,報名總表及收費!$I$30:$K$118,3)=0,"",VLOOKUP(L25,報名總表及收費!$I$30:$K$118,3,FALSE)) | Q25: =IF(O25="E",YEAR(NOW())-$Q$5,IF(O25="A",YEAR(NOW())-$O$5,IF(O25="B",YEAR(NOW())-$P$5,IF(O25=0,"",O25)))) -> 14 | R25: =IF(E25=0,"",IF(MOD(E25,2)=1,"",VLOOKUP(E25,$L$24:$R$80,6,FALSE))) | S25: =IF(D25=0,"",VLOOKUP(E25,$L$24:$R$80,4,FALSE)) | T25: =IF(R25="","",IF(S25="A",IF(H25>=R25,"OK","FAIL"),IF(S25="E",IF(H25<=R25,"OK","FAIL"),IF(S25="B",IF(AND(H25<=R25,H25>=U25),"OK","FAIL"),IF(U25="",IF(H25=S25,"OK","FAIL"),IF(U25="9U",IF(H25<=9,"OK","FAIL"),IF(U25="UP",IF(H25>=17,"OK","FAIL"),IF(U25="DN",IF(H25<=7,"OK","FAIL"))))))))) | U25: =IF(R25="15U","UP",IF(R25="7D","DN",IF(R25="9U","9U",IF(S25="B",11,""))))
B26: =IF(B25=0,"",B25) | C26: =IF(C25=0,"",C25) | D26: =IF(D25=0,"",D25) | F26: =IF(E26="","",VLOOKUP(E26,報名總表及收費!$I$29:$L$140,4)) | H26: =IF(D26="","", IF(D26=0,"",YEAR(NOW())-D26)) | J26: =IF(E26="","",IF(((VLOOKUP(E26,$L$25:$T$70,5))<G26),"報項時間慢於達標時間",""))&IF(T26="FAIL"," 運動員錯組別","")&IF(MOD(E26,2)=0,""," 項目編號為女子組") | L26: 4 | M26: =COUNTIFS($E$25:$E$164,"=4") -> 0 | N26: =IF(M26>$O$2, L26, "OK") -> OK | O26: =VLOOKUP(L26,報名總表及收費!$I$30:$K$118,2) -> 15U | P26: =IF(VLOOKUP(L26,報名總表及收費!$I$30:$K$118,3)=0,"",VLOOKUP(L26,報名總表及收費!$I$30:$K$118,3,FALSE)) | Q26: =IF(O26="E",YEAR(NOW())-$Q$5,IF(O26="A",YEAR(NOW())-$O$5,IF(O26="B",YEAR(NOW())-$P$5,IF(O26=0,"",O26)))) -> 15U | R26: =IF(E26=0,"",IF(MOD(E26,2)=1,"",VLOOKUP(E26,$L$24:$R$80,6,FALSE))) | S26: =IF(D26=0,"",VLOOKUP(E26,$L$24:$R$80,4,FALSE)) -> #N/A | T26: =IF(R26="","",IF(S26="A",IF(H26>=R26,"OK","FAIL"),IF(S26="E",IF(H26<=R26,"OK","FAIL"),IF(S26="B",IF(AND(H26<=R26,H26>=U26),"OK","FAIL"),IF(U26="",IF(H26=S26,"OK","FAIL"),IF(U26="9U",IF(H26<=9,"OK","FAIL"),IF(U26="UP",IF(H26>=15,"OK","FAIL"),IF(U26="DN",IF(H26<=7,"OK","FAIL"))))))))) | U26: =IF(R26="15U","UP",IF(R26="7D","DN",IF(R26="9U","9U",IF(S26="B",11,"")))) -> #N/A
B27: =IF(B26=0,"",B26) | C27: =IF(C26=0,"",C26) | D27: =IF(D26=0,"",D26) | F27: =IF(E27="","",VLOOKUP(E27,報名總表及收費!$I$29:$L$140,4)) | H27: =IF(D27="","", IF(D27=0,"",YEAR(NOW())-D27)) | J27: =IF(E27="","",IF(((VLOOKUP(E27,$L$25:$T$70,5))<G27),"報項時間慢於達標時間",""))&IF(T27="FAIL"," 運動員錯組別","")&IF(MOD(E27,2)=0,""," 項目編號為女子組") | L27: 6 | M27: =COUNTIFS($E$25:$E$164,"=6") -> 0 | N27: =IF(M27>$O$2, L27, "OK") -> OK | O27: =VLOOKUP(L27,報名總表及收費!$I$30:$K$118,2) -> 14 | P27: =IF(VLOOKUP(L27,報名總表及收費!$I$30:$K$118,3)=0,"",VLOOKUP(L27,報名總表及收費!$I$30:$K$118,3,FALSE)) | Q27: =IF(O27="E",YEAR(NOW())-$Q$5,IF(O27="A",YEAR(NOW())-$O$5,IF(O27="B",YEAR(NOW())-$P$5,IF(O27=0,"",O27)))) -> 14 | R27: =IF(E27=0,"",IF(MOD(E27,2)=1,"",VLOOKUP(E27,$L$24:$R$80,6,FALSE))) | S27: =IF(D27=0,"",VLOOKUP(E27,$L$24:$R$80,4,FALSE)) -> #N/A | T27: =IF(R27="","",IF(S27="A",IF(H27>=R27,"OK","FAIL"),IF(S27="E",IF(H27<=R27,"OK","FAIL"),IF(S27="B",IF(AND(H27<=R27,H27>=U27),"OK","FAIL"),IF(U27="",IF(H27=S27,"OK","FAIL"),IF(U27="9U",IF(H27<=9,"OK","FAIL"),IF(U27="UP",IF(H27>=15,"OK","FAIL"),IF(U27="DN",IF(H27<=7,"OK","FAIL"))))))))) | U27: =IF(R27="15U","UP",IF(R27="7D","DN",IF(R27="9U","9U",IF(S27="B",11,"")))) -> #N/A
B28: =IF(B27=0,"",B27) | C28: =IF(C27=0,"",C27) | D28: =IF(D27=0,"",D27) | F28: =IF(E28="","",VLOOKUP(E28,報名總表及收費!$I$29:$L$140,4)) | H28: =IF(D28="","", IF(D28=0,"",YEAR(NOW())-D28)) | J28: =IF(E28="","",IF(((VLOOKUP(E28,$L$25:$T$70,5))<G28),"報項時間慢於達標時間",""))&IF(T28="FAIL"," 運動員錯組別","")&IF(MOD(E28,2)=0,""," 項目編號為女子組") | L28: 8 | M28: =COUNTIFS($E$25:$E$164,"=8") -> 0 | N28: =IF(M28>$O$2, L28, "OK") -> OK | O28: =VLOOKUP(L28,報名總表及收費!$I$30:$K$118,2) -> 15U | P28: =IF(VLOOKUP(L28,報名總表及收費!$I$30:$K$118,3)=0,"",VLOOKUP(L28,報名總表及收費!$I$30:$K$118,3,FALSE)) | Q28: =IF(O28="E",YEAR(NOW())-$Q$5,IF(O28="A",YEAR(NOW())-$O$5,IF(O28="B",YEAR(NOW())-$P$5,IF(O28=0,"",O28)))) -> 15U | R28: =IF(E28=0,"",IF(MOD(E28,2)=1,"",VLOOKUP(E28,$L$24:$R$80,6,FALSE))) | S28: =IF(D28=0,"",VLOOKUP(E28,$L$24:$R$80,4,FALSE)) -> #N/A | T28: =IF(R28="","",IF(S28="A",IF(H28>=R28,"OK","FAIL"),IF(S28="E",IF(H28<=R28,"OK","FAIL"),IF(S28="B",IF(AND(H28<=R28,H28>=U28),"OK","FAIL"),IF(U28="",IF(H28=S28,"OK","FAIL"),IF(U28="9U",IF(H28<=9,"OK","FAIL"),IF(U28="UP",IF(H28>=15,"OK","FAIL"),IF(U28="DN",IF(H28<=7,"OK","FAIL"))))))))) | U28: =IF(R28="15U","UP",IF(R28="7D","DN",IF(R28="9U","9U",IF(S28="B",11,"")))) -> #N/A
A29: 男運動員 2 | F29: =IF(E29="","",VLOOKUP(E29,報名總表及收費!$I$29:$L$140,4)) | H29: =IF(D29="","", IF(D29=0,"",YEAR(NOW())-D29)) | J29: =IF(E29="","",IF(((VLOOKUP(E29,$L$25:$T$70,5))<G29),"報項時間慢於達標時間",""))&IF(T29="FAIL"," 運動員錯組別","")&IF(MOD(E29,2)=0,""," 項目編號為女子組") | L29: 10 | M29: =COUNTIFS($E$25:$E$164,"=10") -> 0 | N29: =IF(M29>$O$2, L29, "OK") -> OK | O29: =VLOOKUP(L29,報名總表及收費!$I$30:$K$118,2) -> 14 | P29: =IF(VLOOKUP(L29,報名總表及收費!$I$30:$K$118,3)=0,"",VLOOKUP(L29,報名總表及收費!$I$30:$K$118,3,FALSE)) | Q29: =IF(O29="E",YEAR(NOW())-$Q$5,IF(O29="A",YEAR(NOW())-$O$5,IF(O29="B",YEAR(NOW())-$P$5,IF(O29=0,"",O29)))) -> 14 | R29: =IF(E29=0,"",IF(MOD(E29,2)=1,"",VLOOKUP(E29,$L$24:$R$80,6,FALSE))) | S29: =IF(D29=0,"",VLOOKUP(E29,$L$24:$R$80,4,FALSE)) | T29: =IF(R29="","",IF(S29="A",IF(H29>=R29,"OK","FAIL"),IF(S29="E",IF(H29<=R29,"OK","FAIL"),IF(S29="B",IF(AND(H29<=R29,H29>=U29),"OK","FAIL"),IF(U29="",IF(H29=S29,"OK","FAIL"),IF(U29="9U",IF(H29<=9,"OK","FAIL"),IF(U29="UP",IF(H29>=15,"OK","FAIL"),IF(U29="DN",IF(H29<=7,"OK","FAIL"))))))))) | U29: =IF(R29="15U","UP",IF(R29="7D","DN",IF(R29="9U","9U",IF(S29="B",11,""))))
B30: =IF(B29=0,"",B29) | C30: =IF(C29=0,"",C29) | D30: =IF(D29=0,"",D29) | F30: =IF(E30="","",VLOOKUP(E30,報名總表及收費!$I$29:$L$140,4)) | H30: =IF(D30="","", IF(D30=0,"",YEAR(NOW())-D30)) | J30: =IF(E30="","",IF(((VLOOKUP(E30,$L$25:$T$70,5))<G30),"報項時間慢於達標時間",""))&IF(T30="FAIL"," 運動員錯組別","")&IF(MOD(E30,2)=0,""," 項目編號為女子組") | L30: 12 | M30: =COUNTIFS($E$25:$E$164,"=12") -> 0 | N30: =IF(M30>$O$2, L30, "OK") -> OK | O30: =VLOOKUP(L30,報名總表及收費!$I$30:$K$118,2) -> 15U | P30: =IF(VLOOKUP(L30,報名總表及收費!$I$30:$K$118,3)=0,"",VLOOKUP(L30,報名總表及收費!$I$30:$K$118,3,FALSE)) | Q30: =IF(O30="E",YEAR(NOW())-$Q$5,IF(O30="A",YEAR(NOW())-$O$5,IF(O30="B",YEAR(NOW())-$P$5,IF(O30=0,"",O30)))) -> 15U | R30: =IF(E30=0,"",IF(MOD(E30,2)=1,"",VLOOKUP(E30,$L$24:$R$80,6,FALSE))) | S30: =IF(D30=0,"",VLOOKUP(E30,$L$24:$R$80,4,FALSE)) -> #N/A | T30: =IF(R30="","",IF(S30="A",IF(H30>=R30,"OK","FAIL"),IF(S30="E",IF(H30<=R30,"OK","FAIL"),IF(S30="B",IF(AND(H30<=R30,H30>=U30),"OK","FAIL"),IF(U30="",IF(H30=S30,"OK","FAIL"),IF(U30="9U",IF(H30<=9,"OK","FAIL"),IF(U30="UP",IF(H30>=15,"OK","FAIL"),IF(U30="DN",IF(H30<=7,"OK","FAIL"))))))))) | U30: =IF(R30="15U","UP",IF(R30="7D","DN",IF(R30="9U","9U",IF(S30="B",11,"")))) -> #N/A
B31: =IF(B30=0,"",B30) | C31: =IF(C30=0,"",C30) | D31: =IF(D30=0,"",D30) | F31: =IF(E31="","",VLOOKUP(E31,報名總表及收費!$I$29:$L$140,4)) | H31: =IF(D31="","", IF(D31=0,"",YEAR(NOW())-D31)) | J31: =IF(E31="","",IF(((VLOOKUP(E31,$L$25:$T$70,5))<G31),"報項時間慢於達標時間",""))&IF(T31="FAIL"," 運動員錯組別","")&IF(MOD(E31,2)=0,""," 項目編號為女子組") | L31: 14 | M31: =COUNTIFS($E$25:$E$164,"=14") -> 0 | N31: =IF(M31>$O$2, L31, "OK") -> OK | O31: =VLOOKUP(L31,報名總表及收費!$I$30:$K$118,2) -> 14 | P31: =IF(VLOOKUP(L31,報名總表及收費!$I$30:$K$118,3)=0,"",VLOOKUP(L31,報名總表及收費!$I$30:$K$118,3,FALSE)) | Q31: =IF(O31="E",YEAR(NOW())-$Q$5,IF(O31="A",YEAR(NOW())-$O$5,IF(O31="B",YEAR(NOW())-$P$5,IF(O31=0,"",O31)))) -> 14 | R31: =IF(E31=0,"",IF(MOD(E31,2)=1,"",VLOOKUP(E31,$L$24:$R$80,6,FALSE))) | S31: =IF(D31=0,"",VLOOKUP(E31,$L$24:$R$80,4,FALSE)) -> #N/A | T31: =IF(R31="","",IF(S31="A",IF(H31>=R31,"OK","FAIL"),IF(S31="E",IF(H31<=R31,"OK","FAIL"),IF(S31="B",IF(AND(H31<=R31,H31>=U31),"OK","FAIL"),IF(U31="",IF(H31=S31,"OK","FAIL"),IF(U31="9U",IF(H31<=9,"OK","FAIL"),IF(U31="UP",IF(H31>=15,"OK","FAIL"),IF(U31="DN",IF(H31<=7,"OK","FAIL"))))))))) | U31: =IF(R31="15U","UP",IF(R31="7D","DN",IF(R31="9U","9U",IF(S31="B",11,"")))) -> #N/A
B32: =IF(B31=0,"",B31) | C32: =IF(C31=0,"",C31) | D32: =IF(D31=0,"",D31) | F32: =IF(E32="","",VLOOKUP(E32,報名總表及收費!$I$29:$L$140,4)) | H32: =IF(D32="","", IF(D32=0,"",YEAR(NOW())-D32)) | J32: =IF(E32="","",IF(((VLOOKUP(E32,$L$25:$T$70,5))<G32),"報項時間慢於達標時間",""))&IF(T32="FAIL"," 運動員錯組別","")&IF(MOD(E32,2)=0,""," 項目編號為女子組") | L32: 16 | M32: =COUNTIFS($E$25:$E$164,"=16") -> 0 | N32: =IF(M32>$O$2, L32, "OK") -> OK | O32: =VLOOKUP(L32,報名總表及收費!$I$30:$K$118,2) -> 15U | P32: =IF(VLOOKUP(L32,報名總表及收費!$I$30:$K$118,3)=0,"",VLOOKUP(L32,報名總表及收費!$I$30:$K$118,3,FALSE)) | Q32: =IF(O32="E",YEAR(NOW())-$Q$5,IF(O32="A",YEAR(NOW())-$O$5,IF(O32="B",YEAR(NOW())-$P$5,IF(O32=0,"",O32)))) -> 15U | R32: =IF(E32=0,"",IF(MOD(E32,2)=1,"",VLOOKUP(E32,$L$24:$R$80,6,FALSE))) | S32: =IF(D32=0,"",VLOOKUP(E32,$L$24:$R$80,4,FALSE)) -> #N/A | T32: =IF(R32="","",IF(S32="A",IF(H32>=R32,"OK","FAIL"),IF(S32="E",IF(H32<=R32,"OK","FAIL"),IF(S32="B",IF(AND(H32<=R32,H32>=U32),"OK","FAIL"),IF(U32="",IF(H32=S32,"OK","FAIL"),IF(U32="9U",IF(H32<=9,"OK","FAIL"),IF(U32="UP",IF(H32>=15,"OK","FAIL"),IF(U32="DN",IF(H32<=7,"OK","FAIL"))))))))) | U32: =IF(R32="15U","UP",IF(R32="7D","DN",IF(R32="9U","9U",IF(S32="B",11,"")))) -> #N/A
A33: 男運動員 3 | F33: =IF(E33="","",VLOOKUP(E33,報名總表及收費!$I$29:$L$140,4)) | H33: =IF(D33="","", IF(D33=0,"",YEAR(NOW())-D33)) | J33: =IF(E33="","",IF(((VLOOKUP(E33,$L$25:$T$70,5))<G33),"報項時間慢於達標時間",""))&IF(T33="FAIL"," 運動員錯組別","")&IF(MOD(E33,2)=0,""," 項目編號為女子組") | L33: 18 | M33: =COUNTIFS($E$25:$E$164,"=18") -> 0 | N33: =IF(M33>$O$2, L33, "OK") -> OK | O33: =VLOOKUP(L33,報名總表及收費!$I$30:$K$118,2) -> 14 | P33: =IF(VLOOKUP(L33,報名總表及收費!$I$30:$K$118,3)=0,"",VLOOKUP(L33,報名總表及收費!$I$30:$K$118,3,FALSE)) | Q33: =IF(O33="E",YEAR(NOW())-$Q$5,IF(O33="A",YEAR(NOW())-$O$5,IF(O33="B",YEAR(NOW())-$P$5,IF(O33=0,"",O33)))) -> 14 | R33: =IF(E33=0,"",IF(MOD(E33,2)=1,"",VLOOKUP(E33,$L$24:$R$80,6,FALSE))) | S33: =IF(D33=0,"",VLOOKUP(E33,$L$24:$R$80,4,FALSE)) | T33: =IF(R33="","",IF(S33="A",IF(H33>=R33,"OK","FAIL"),IF(S33="E",IF(H33<=R33,"OK","FAIL"),IF(S33="B",IF(AND(H33<=R33,H33>=U33),"OK","FAIL"),IF(U33="",IF(H33=S33,"OK","FAIL"),IF(U33="9U",IF(H33<=9,"OK","FAIL"),IF(U33="UP",IF(H33>=15,"OK","FAIL"),IF(U33="DN",IF(H33<=7,"OK","FAIL"))))))))) | U33: =IF(R33="15U","UP",IF(R33="7D","DN",IF(R33="9U","9U",IF(S33="B",11,""))))
B34: =IF(B33=0,"",B33) | C34: =IF(C33=0,"",C33) | D34: =IF(D33=0,"",D33) | F34: =IF(E34="","",VLOOKUP(E34,報名總表及收費!$I$29:$L$140,4)) | H34: =IF(D34="","", IF(D34=0,"",YEAR(NOW())-D34)) | J34: =IF(E34="","",IF(((VLOOKUP(E34,$L$25:$T$70,5))<G34),"報項時間慢於達標時間",""))&IF(T34="FAIL"," 運動員錯組別","")&IF(MOD(E34,2)=0,""," 項目編號為女子組") | L34: 20 | M34: =COUNTIFS($E$25:$E$164,"=20") -> 0 | N34: =IF(M34>$O$2, L34, "OK") -> OK | O34: =VLOOKUP(L34,報名總表及收費!$I$30:$K$118,2) -> 15U | P34: =IF(VLOOKUP(L34,報名總表及收費!$I$30:$K$118,3)=0,"",VLOOKUP(L34,報名總表及收費!$I$30:$K$118,3,FALSE)) | Q34: =IF(O34="E",YEAR(NOW())-$Q$5,IF(O34="A",YEAR(NOW())-$O$5,IF(O34="B",YEAR(NOW())-$P$5,IF(O34=0,"",O34)))) -> 15U | R34: =IF(E34=0,"",IF(MOD(E34,2)=1,"",VLOOKUP(E34,$L$24:$R$80,6,FALSE))) | S34: =IF(D34=0,"",VLOOKUP(E34,$L$24:$R$80,4,FALSE)) -> #N/A | T34: =IF(R34="","",IF(S34="A",IF(H34>=R34,"OK","FAIL"),IF(S34="E",IF(H34<=R34,"OK","FAIL"),IF(S34="B",IF(AND(H34<=R34,H34>=U34),"OK","FAIL"),IF(U34="",IF(H34=S34,"OK","FAIL"),IF(U34="9U",IF(H34<=9,"OK","FAIL"),IF(U34="UP",IF(H34>=15,"OK","FAIL"),IF(U34="DN",IF(H34<=7,"OK","FAIL"))))))))) | U34: =IF(R34="15U","UP",IF(R34="7D","DN",IF(R34="9U","9U",IF(S34="B",11,"")))) -> #N/A
B35: =IF(B34=0,"",B34) | C35: =IF(C34=0,"",C34) | D35: =IF(D34=0,"",D34) | F35: =IF(E35="","",VLOOKUP(E35,報名總表及收費!$I$29:$L$140,4)) | H35: =IF(D35="","", IF(D35=0,"",YEAR(NOW())-D35)) | J35: =IF(E35="","",IF(((VLOOKUP(E35,$L$25:$T$70,5))<G35),"報項時間慢於達標時間",""))&IF(T35="FAIL"," 運動員錯組別","")&IF(MOD(E35,2)=0,""," 項目編號為女子組") | L35: 22 | M35: =COUNTIFS($E$25:$E$164,"=22") -> 0 | N35: =IF(M35>$O$2, L35, "OK") -> OK | O35: =VLOOKUP(L35,報名總表及收費!$I$30:$K$118,2) -> 14 | P35: =IF(VLOOKUP(L35,報名總表及收費!$I$30:$K$118,3)=0,"",VLOOKUP(L35,報名總表及收費!$I$30:$K$118,3,FALSE)) | Q35: =IF(O35="E",YEAR(NOW())-$Q$5,IF(O35="A",YEAR(NOW())-$O$5,IF(O35="B",YEAR(NOW())-$P$5,IF(O35=0,"",O35)))) -> 14 | R35: =IF(E35=0,"",IF(MOD(E35,2)=1,"",VLOOKUP(E35,$L$24:$R$80,6,FALSE))) | S35: =IF(D35=0,"",VLOOKUP(E35,$L$24:$R$80,4,FALSE)) -> #N/A | T35: =IF(R35="","",IF(S35="A",IF(H35>=R35,"OK","FAIL"),IF(S35="E",IF(H35<=R35,"OK","FAIL"),IF(S35="B",IF(AND(H35<=R35,H35>=U35),"OK","FAIL"),IF(U35="",IF(H35=S35,"OK","FAIL"),IF(U35="9U",IF(H35<=9,"OK","FAIL"),IF(U35="UP",IF(H35>=15,"OK","FAIL"),IF(U35="DN",IF(H35<=7,"OK","FAIL"))))))))) | U35: =IF(R35="15U","UP",IF(R35="7D","DN",IF(R35="9U","9U",IF(S35="B",11,"")))) -> #N/A
B36: =IF(B35=0,"",B35) | C36: =IF(C35=0,"",C35) | D36: =IF(D35=0,"",D35) | F36: =IF(E36="","",VLOOKUP(E36,報名總表及收費!$I$29:$L$140,4)) | H36: =IF(D36="","", IF(D36=0,"",YEAR(NOW())-D36)) | J36: =IF(E36="","",IF(((VLOOKUP(E36,$L$25:$T$70,5))<G36),"報項時間慢於達標時間",""))&IF(T36="FAIL"," 運動員錯組別","")&IF(MOD(E36,2)=0,""," 項目編號為女子組") | L36: 24 | M36: =COUNTIFS($E$25:$E$164,"=24") -> 0 | N36: =IF(M36>$O$2, L36, "OK") -> OK | O36: =VLOOKUP(L36,報名總表及收費!$I$30:$K$118,2) -> 15U | P36: =IF(VLOOKUP(L36,報名總表及收費!$I$30:$K$118,3)=0,"",VLOOKUP(L36,報名總表及收費!$I$30:$K$118,3,FALSE)) | Q36: =IF(O36="E",YEAR(NOW())-$Q$5,IF(O36="A",YEAR(NOW())-$O$5,IF(O36="B",YEAR(NOW())-$P$5,IF(O36=0,"",O36)))) -> 15U | R36: =IF(E36=0,"",IF(MOD(E36,2)=1,"",VLOOKUP(E36,$L$24:$R$80,6,FALSE))) | S36: =IF(D36=0,"",VLOOKUP(E36,$L$24:$R$80,4,FALSE)) -> #N/A | T36: =IF(R36="","",IF(S36="A",IF(H36>=R36,"OK","FAIL"),IF(S36="E",IF(H36<=R36,"OK","FAIL"),IF(S36="B",IF(AND(H36<=R36,H36>=U36),"OK","FAIL"),IF(U36="",IF(H36=S36,"OK","FAIL"),IF(U36="9U",IF(H36<=9,"OK","FAIL"),IF(U36="UP",IF(H36>=15,"OK","FAIL"),IF(U36="DN",IF(H36<=7,"OK","FAIL"))))))))) | U36: =IF(R36="15U","UP",IF(R36="7D","DN",IF(R36="9U","9U",IF(S36="B",11,"")))) -> #N/A
A37: 男運動員 4 | F37: =IF(E37="","",VLOOKUP(E37,報名總表及收費!$I$29:$L$140,4)) | H37: =IF(D37="","", IF(D37=0,"",YEAR(NOW())-D37)) | J37: =IF(E37="","",IF(((VLOOKUP(E37,$L$25:$T$70,5))<G37),"報項時間慢於達標時間",""))&IF(T37="FAIL"," 運動員錯組別","")&IF(MOD(E37,2)=0,""," 項目編號為女子組") | L37: 26 | M37: =COUNTIFS($E$25:$E$164,"=26") -> 0 | N37: =IF(M37>$O$2, L37, "OK") -> OK | O37: =VLOOKUP(L37,報名總表及收費!$I$30:$K$118,2) -> 14 | P37: =IF(VLOOKUP(L37,報名總表及收費!$I$30:$K$118,3)=0,"",VLOOKUP(L37,報名總表及收費!$I$30:$K$118,3,FALSE)) | Q37: =IF(O37="E",YEAR(NOW())-$Q$5,IF(O37="A",YEAR(NOW())-$O$5,IF(O37="B",YEAR(NOW())-$P$5,IF(O37=0,"",O37)))) -> 14 | R37: =IF(E37=0,"",IF(MOD(E37,2)=1,"",VLOOKUP(E37,$L$24:$R$80,6,FALSE))) | S37: =IF(D37=0,"",VLOOKUP(E37,$L$24:$R$80,4,FALSE)) | T37: =IF(R37="","",IF(S37="A",IF(H37>=R37,"OK","FAIL"),IF(S37="E",IF(H37<=R37,"OK","FAIL"),IF(S37="B",IF(AND(H37<=R37,H37>=U37),"OK","FAIL"),IF(U37="",IF(H37=S37,"OK","FAIL"),IF(U37="9U",IF(H37<=9,"OK","FAIL"),IF(U37="UP",IF(H37>=15,"OK","FAIL"),IF(U37="DN",IF(H37<=7,"OK","FAIL"))))))))) | U37: =IF(R37="15U","UP",IF(R37="7D","DN",IF(R37="9U","9U",IF(S37="B",11,""))))
B38: =IF(B37=0,"",B37) | C38: =IF(C37=0,"",C37) | D38: =IF(D37=0,"",D37) | F38: =IF(E38="","",VLOOKUP(E38,報名總表及收費!$I$29:$L$140,4)) | H38: =IF(D38="","", IF(D38=0,"",YEAR(NOW())-D38)) | J38: =IF(E38="","",IF(((VLOOKUP(E38,$L$25:$T$70,5))<G38),"報項時間慢於達標時間",""))&IF(T38="FAIL"," 運動員錯組別","")&IF(MOD(E38,2)=0,""," 項目編號為女子組") | L38: 28 | M38: =COUNTIFS($E$25:$E$164,"=28") -> 0 | N38: =IF(M38>$O$2, L38, "OK") -> OK | O38: =VLOOKUP(L38,報名總表及收費!$I$30:$K$118,2) -> 15U | P38: =IF(VLOOKUP(L38,報名總表及收費!$I$30:$K$118,3)=0,"",VLOOKUP(L38,報名總表及收費!$I$30:$K$118,3,FALSE)) | Q38: =IF(O38="E",YEAR(NOW())-$Q$5,IF(O38="A",YEAR(NOW())-$O$5,IF(O38="B",YEAR(NOW())-$P$5,IF(O38=0,"",O38)))) -> 15U | R38: =IF(E38=0,"",IF(MOD(E38,2)=1,"",VLOOKUP(E38,$L$24:$R$80,6,FALSE))) | S38: =IF(D38=0,"",VLOOKUP(E38,$L$24:$R$80,4,FALSE)) -> #N/A | T38: =IF(R38="","",IF(S38="A",IF(H38>=R38,"OK","FAIL"),IF(S38="E",IF(H38<=R38,"OK","FAIL"),IF(S38="B",IF(AND(H38<=R38,H38>=U38),"OK","FAIL"),IF(U38="",IF(H38=S38,"OK","FAIL"),IF(U38="9U",IF(H38<=9,"OK","FAIL"),IF(U38="UP",IF(H38>=15,"OK","FAIL"),IF(U38="DN",IF(H38<=7,"OK","FAIL"))))))))) | U38: =IF(R38="15U","UP",IF(R38="7D","DN",IF(R38="9U","9U",IF(S38="B",11,"")))) -> #N/A
B39: =IF(B38=0,"",B38) | C39: =IF(C38=0,"",C38) | D39: =IF(D38=0,"",D38) | F39: =IF(E39="","",VLOOKUP(E39,報名總表及收費!$I$29:$L$140,4)) | H39: =IF(D39="","", IF(D39=0,"",YEAR(NOW())-D39)) | J39: =IF(E39="","",IF(((VLOOKUP(E39,$L$25:$T$70,5))<G39),"報項時間慢於達標時間",""))&IF(T39="FAIL"," 運動員錯組別","")&IF(MOD(E39,2)=0,""," 項目編號為女子組") | L39: 30 | M39: =COUNTIFS($E$25:$E$164,"=30") -> 0 | N39: =IF(M39>$O$2, L39, "OK") -> OK | O39: =VLOOKUP(L39,報名總表及收費!$I$30:$K$118,2) -> 14 | P39: =IF(VLOOKUP(L39,報名總表及收費!$I$30:$K$118,3)=0,"",VLOOKUP(L39,報名總表及收費!$I$30:$K$118,3,FALSE)) | Q39: =IF(O39="E",YEAR(NOW())-$Q$5,IF(O39="A",YEAR(NOW())-$O$5,IF(O39="B",YEAR(NOW())-$P$5,IF(O39=0,"",O39)))) -> 14 | R39: =IF(E39=0,"",IF(MOD(E39,2)=1,"",VLOOKUP(E39,$L$24:$R$80,6,FALSE))) | S39: =IF(D39=0,"",VLOOKUP(E39,$L$24:$R$80,4,FALSE)) -> #N/A | T39: =IF(R39="","",IF(S39="A",IF(H39>=R39,"OK","FAIL"),IF(S39="E",IF(H39<=R39,"OK","FAIL"),IF(S39="B",IF(AND(H39<=R39,H39>=U39),"OK","FAIL"),IF(U39="",IF(H39=S39,"OK","FAIL"),IF(U39="9U",IF(H39<=9,"OK","FAIL"),IF(U39="UP",IF(H39>=15,"OK","FAIL"),IF(U39="DN",IF(H39<=7,"OK","FAIL"))))))))) | U39: =IF(R39="15U","UP",IF(R39="7D","DN",IF(R39="9U","9U",IF(S39="B",11,"")))) -> #N/A
B40: =IF(B39=0,"",B39) | C40: =IF(C39=0,"",C39) | D40: =IF(D39=0,"",D39) | F40: =IF(E40="","",VLOOKUP(E40,報名總表及收費!$I$29:$L$140,4)) | H40: =IF(D40="","", IF(D40=0,"",YEAR(NOW())-D40)) | J40: =IF(E40="","",IF(((VLOOKUP(E40,$L$25:$T$70,5))<G40),"報項時間慢於達標時間",""))&IF(T40="FAIL"," 運動員錯組別","")&IF(MOD(E40,2)=0,""," 項目編號為女子組") | L40: 32 | M40: =COUNTIFS($E$25:$E$164,"=32") -> 0 | N40: =IF(M40>$O$2, L40, "OK") -> OK | O40: =VLOOKUP(L40,報名總表及收費!$I$30:$K$118,2) -> 15U | P40: =IF(VLOOKUP(L40,報名總表及收費!$I$30:$K$118,3)=0,"",VLOOKUP(L40,報名總表及收費!$I$30:$K$118,3,FALSE)) | Q40: =IF(O40="E",YEAR(NOW())-$Q$5,IF(O40="A",YEAR(NOW())-$O$5,IF(O40="B",YEAR(NOW())-$P$5,IF(O40=0,"",O40)))) -> 15U | R40: =IF(E40=0,"",IF(MOD(E40,2)=1,"",VLOOKUP(E40,$L$24:$R$80,6,FALSE))) | S40: =IF(D40=0,"",VLOOKUP(E40,$L$24:$R$80,4,FALSE)) -> #N/A | T40: =IF(R40="","",IF(S40="A",IF(H40>=R40,"OK","FAIL"),IF(S40="E",IF(H40<=R40,"OK","FAIL"),IF(S40="B",IF(AND(H40<=R40,H40>=U40),"OK","FAIL"),IF(U40="",IF(H40=S40,"OK","FAIL"),IF(U40="9U",IF(H40<=9,"OK","FAIL"),IF(U40="UP",IF(H40>=15,"OK","FAIL"),IF(U40="DN",IF(H40<=7,"OK","FAIL"))))))))) | U40: =IF(R40="15U","UP",IF(R40="7D","DN",IF(R40="9U","9U",IF(S40="B",11,"")))) -> #N/A
A41: 男運動員 5 | F41: =IF(E41="","",VLOOKUP(E41,報名總表及收費!$I$29:$L$140,4)) | H41: =IF(D41="","", IF(D41=0,"",YEAR(NOW())-D41)) | J41: =IF(E41="","",IF(((VLOOKUP(E41,$L$25:$T$70,5))<G41),"報項時間慢於達標時間",""))&IF(T41="FAIL"," 運動員錯組別","")&IF(MOD(E41,2)=0,""," 項目編號為女子組") | L41: 34 | M41: =COUNTIFS($E$25:$E$164,"=34") -> 0 | N41: =IF(M41>$O$2, L41, "OK") -> OK | O41: =VLOOKUP(L41,報名總表及收費!$I$30:$K$118,2) | P41: =IF(VLOOKUP(L41,報名總表及收費!$I$30:$K$118,3)=0,"",VLOOKUP(L41,報名總表及收費!$I$30:$K$118,3,FALSE)) | Q41: =IF(O41="E",YEAR(NOW())-$Q$5,IF(O41="A",YEAR(NOW())-$O$5,IF(O41="B",YEAR(NOW())-$P$5,IF(O41=0,"",O41)))) | R41: =IF(E41=0,"",IF(MOD(E41,2)=1,"",VLOOKUP(E41,$L$24:$R$80,6,FALSE))) | S41: =IF(D41=0,"",VLOOKUP(E41,$L$24:$R$80,4,FALSE)) | T41: =IF(R41="","",IF(S41="A",IF(H41>=R41,"OK","FAIL"),IF(S41="E",IF(H41<=R41,"OK","FAIL"),IF(S41="B",IF(AND(H41<=R41,H41>=U41),"OK","FAIL"),IF(U41="",IF(H41=S41,"OK","FAIL"),IF(U41="9U",IF(H41<=9,"OK","FAIL"),IF(U41="UP",IF(H41>=15,"OK","FAIL"),IF(U41="DN",IF(H41<=7,"OK","FAIL"))))))))) | U41: =IF(R41="15U","UP",IF(R41="7D","DN",IF(R41="9U","9U",IF(S41="B",11,""))))
B42: =IF(B41=0,"",B41) | C42: =IF(C41=0,"",C41) | D42: =IF(D41=0,"",D41) | F42: =IF(E42="","",VLOOKUP(E42,報名總表及收費!$I$29:$L$140,4)) | H42: =IF(D42="","", IF(D42=0,"",YEAR(NOW())-D42)) | J42: =IF(E42="","",IF(((VLOOKUP(E42,$L$25:$T$70,5))<G42),"報項時間慢於達標時間",""))&IF(T42="FAIL"," 運動員錯組別","")&IF(MOD(E42,2)=0,""," 項目編號為女子組") | L42: 36 | M42: =COUNTIFS($E$25:$E$164,"=36") -> 0 | N42: =IF(M42>$O$2, L42, "OK") -> OK | O42: =VLOOKUP(L42,報名總表及收費!$I$30:$K$118,2) | P42: =IF(VLOOKUP(L42,報名總表及收費!$I$30:$K$118,3)=0,"",VLOOKUP(L42,報名總表及收費!$I$30:$K$118,3,FALSE)) | Q42: =IF(O42="E",YEAR(NOW())-$Q$5,IF(O42="A",YEAR(NOW())-$O$5,IF(O42="B",YEAR(NOW())-$P$5,IF(O42=0,"",O42)))) | R42: =IF(E42=0,"",IF(MOD(E42,2)=1,"",VLOOKUP(E42,$L$24:$R$80,6,FALSE))) | S42: =IF(D42=0,"",VLOOKUP(E42,$L$24:$R$80,4,FALSE)) -> #N/A | T42: =IF(R42="","",IF(S42="A",IF(H42>=R42,"OK","FAIL"),IF(S42="E",IF(H42<=R42,"OK","FAIL"),IF(S42="B",IF(AND(H42<=R42,H42>=U42),"OK","FAIL"),IF(U42="",IF(H42=S42,"OK","FAIL"),IF(U42="9U",IF(H42<=9,"OK","FAIL"),IF(U42="UP",IF(H42>=15,"OK","FAIL"),IF(U42="DN",IF(H42<=7,"OK","FAIL"))))))))) | U42: =IF(R42="15U","UP",IF(R42="7D","DN",IF(R42="9U","9U",IF(S42="B",11,"")))) -> #N/A
B43: =IF(B42=0,"",B42) | C43: =IF(C42=0,"",C42) | D43: =IF(D42=0,"",D42) | F43: =IF(E43="","",VLOOKUP(E43,報名總表及收費!$I$29:$L$140,4)) | H43: =IF(D43="","", IF(D43=0,"",YEAR(NOW())-D43)) | J43: =IF(E43="","",IF(((VLOOKUP(E43,$L$25:$T$70,5))<G43),"報項時間慢於達標時間",""))&IF(T43="FAIL"," 運動員錯組別","")&IF(MOD(E43,2)=0,""," 項目編號為女子組") | L43: 38 | M43: =COUNTIFS($E$25:$E$164,"=38") -> 0 | N43: =IF(M43>$O$2, L43, "OK") -> OK | O43: =VLOOKUP(L43,報名總表及收費!$I$30:$K$118,2) -> 12 | P43: =IF(VLOOKUP(L43,報名總表及收費!$I$30:$K$118,3)=0,"",VLOOKUP(L43,報名總表及收費!$I$30:$K$118,3,FALSE)) | Q43: =IF(O43="E",YEAR(NOW())-$Q$5,IF(O43="A",YEAR(NOW())-$O$5,IF(O43="B",YEAR(NOW())-$P$5,IF(O43=0,"",O43)))) -> 12 | R43: =IF(E43=0,"",IF(MOD(E43,2)=1,"",VLOOKUP(E43,$L$24:$R$80,6,FALSE))) | S43: =IF(D43=0,"",VLOOKUP(E43,$L$24:$R$80,4,FALSE)) -> #N/A | T43: =IF(R43="","",IF(S43="A",IF(H43>=R43,"OK","FAIL"),IF(S43="E",IF(H43<=R43,"OK","FAIL"),IF(S43="B",IF(AND(H43<=R43,H43>=U43),"OK","FAIL"),IF(U43="",IF(H43=S43,"OK","FAIL"),IF(U43="9U",IF(H43<=9,"OK","FAIL"),IF(U43="UP",IF(H43>=15,"OK","FAIL"),IF(U43="DN",IF(H43<=7,"OK","FAIL"))))))))) | U43: =IF(R43="15U","UP",IF(R43="7D","DN",IF(R43="9U","9U",IF(S43="B",11,"")))) -> #N/A
B44: =IF(B43=0,"",B43) | C44: =IF(C43=0,"",C43) | D44: =IF(D43=0,"",D43) | F44: =IF(E44="","",VLOOKUP(E44,報名總表及收費!$I$29:$L$140,4)) | H44: =IF(D44="","", IF(D44=0,"",YEAR(NOW())-D44)) | J44: =IF(E44="","",IF(((VLOOKUP(E44,$L$25:$T$70,5))<G44),"報項時間慢於達標時間",""))&IF(T44="FAIL"," 運動員錯組別","")&IF(MOD(E44,2)=0,""," 項目編號為女子組") | L44: 40 | M44: =COUNTIFS($E$25:$E$164,"=40") -> 0 | N44: =IF(M44>$O$2, L44, "OK") -> OK | O44: =VLOOKUP(L44,報名總表及收費!$I$30:$K$118,2) -> 13 | P44: =IF(VLOOKUP(L44,報名總表及收費!$I$30:$K$118,3)=0,"",VLOOKUP(L44,報名總表及收費!$I$30:$K$118,3,FALSE)) | Q44: =IF(O44="E",YEAR(NOW())-$Q$5,IF(O44="A",YEAR(NOW())-$O$5,IF(O44="B",YEAR(NOW())-$P$5,IF(O44=0,"",O44)))) -> 13 | R44: =IF(E44=0,"",IF(MOD(E44,2)=1,"",VLOOKUP(E44,$L$24:$R$80,6,FALSE))) | S44: =IF(D44=0,"",VLOOKUP(E44,$L$24:$R$80,4,FALSE)) -> #N/A | T44: =IF(R44="","",IF(S44="A",IF(H44>=R44,"OK","FAIL"),IF(S44="E",IF(H44<=R44,"OK","FAIL"),IF(S44="B",IF(AND(H44<=R44,H44>=U44),"OK","FAIL"),IF(U44="",IF(H44=S44,"OK","FAIL"),IF(U44="9U",IF(H44<=9,"OK","FAIL"),IF(U44="UP",IF(H44>=15,"OK","FAIL"),IF(U44="DN",IF(H44<=7,"OK","FAIL"))))))))) | U44: =IF(R44="15U","UP",IF(R44="7D","DN",IF(R44="9U","9U",IF(S44="B",11,"")))) -> #N/A
A45: 男運動員 6 | F45: =IF(E45="","",VLOOKUP(E45,報名總表及收費!$I$29:$L$140,4)) | H45: =IF(D45="","", IF(D45=0,"",YEAR(NOW())-D45)) | J45: =IF(E45="","",IF(((VLOOKUP(E45,$L$25:$T$70,5))<G45),"報項時間慢於達標時間",""))&IF(T45="FAIL"," 運動員錯組別","")&IF(MOD(E45,2)=0,""," 項目編號為女子組") | L45: 42 | M45: =COUNTIFS($E$25:$E$164,"=42") -> 0 | N45: =IF(M45>$O$2, L45, "OK") -> OK | O45: =VLOOKUP(L45,報名總表及收費!$I$30:$K$118,2) -> 12 | P45: =IF(VLOOKUP(L45,報名總表及收費!$I$30:$K$118,3)=0,"",VLOOKUP(L45,報名總表及收費!$I$30:$K$118,3,FALSE)) | Q45: =IF(O45="E",YEAR(NOW())-$Q$5,IF(O45="A",YEAR(NOW())-$O$5,IF(O45="B",YEAR(NOW())-$P$5,IF(O45=0,"",O45)))) -> 12 | R45: =IF(E45=0,"",IF(MOD(E45,2)=1,"",VLOOKUP(E45,$L$24:$R$80,6,FALSE))) | S45: =IF(D45=0,"",VLOOKUP(E45,$L$24:$R$80,4,FALSE)) | T45: =IF(R45="","",IF(S45="A",IF(H45>=R45,"OK","FAIL"),IF(S45="E",IF(H45<=R45,"OK","FAIL"),IF(S45="B",IF(AND(H45<=R45,H45>=U45),"OK","FAIL"),IF(U45="",IF(H45=S45,"OK","FAIL"),IF(U45="9U",IF(H45<=9,"OK","FAIL"),IF(U45="UP",IF(H45>=15,"OK","FAIL"),IF(U45="DN",IF(H45<=7,"OK","FAIL"))))))))) | U45: =IF(R45="15U","UP",IF(R45="7D","DN",IF(R45="9U","9U",IF(S45="B",11,""))))
B46: =IF(B45=0,"",B45) | C46: =IF(C45=0,"",C45) | D46: =IF(D45=0,"",D45) | F46: =IF(E46="","",VLOOKUP(E46,報名總表及收費!$I$29:$L$140,4)) | H46: =IF(D46="","", IF(D46=0,"",YEAR(NOW())-D46)) | J46: =IF(E46="","",IF(((VLOOKUP(E46,$L$25:$T$70,5))<G46),"報項時間慢於達標時間",""))&IF(T46="FAIL"," 運動員錯組別","")&IF(MOD(E46,2)=0,""," 項目編號為女子組") | L46: 44 | M46: =COUNTIFS($E$25:$E$164,"=44") -> 0 | N46: =IF(M46>$O$2, L46, "OK") -> OK | O46: =VLOOKUP(L46,報名總表及收費!$I$30:$K$118,2) -> 13 | P46: =IF(VLOOKUP(L46,報名總表及收費!$I$30:$K$118,3)=0,"",VLOOKUP(L46,報名總表及收費!$I$30:$K$118,3,FALSE)) | Q46: =IF(O46="E",YEAR(NOW())-$Q$5,IF(O46="A",YEAR(NOW())-$O$5,IF(O46="B",YEAR(NOW())-$P$5,IF(O46=0,"",O46)))) -> 13 | R46: =IF(E46=0,"",IF(MOD(E46,2)=1,"",VLOOKUP(E46,$L$24:$R$80,6,FALSE))) | S46: =IF(D46=0,"",VLOOKUP(E46,$L$24:$R$80,4,FALSE)) -> #N/A | T46: =IF(R46="","",IF(S46="A",IF(H46>=R46,"OK","FAIL"),IF(S46="E",IF(H46<=R46,"OK","FAIL"),IF(S46="B",IF(AND(H46<=R46,H46>=U46),"OK","FAIL"),IF(U46="",IF(H46=S46,"OK","FAIL"),IF(U46="9U",IF(H46<=9,"OK","FAIL"),IF(U46="UP",IF(H46>=15,"OK","FAIL"),IF(U46="DN",IF(H46<=7,"OK","FAIL"))))))))) | U46: =IF(R46="15U","UP",IF(R46="7D","DN",IF(R46="9U","9U",IF(S46="B",11,"")))) -> #N/A
B47: =IF(B46=0,"",B46) | C47: =IF(C46=0,"",C46) | D47: =IF(D46=0,"",D46) | F47: =IF(E47="","",VLOOKUP(E47,報名總表及收費!$I$29:$L$140,4)) | H47: =IF(D47="","", IF(D47=0,"",YEAR(NOW())-D47)) | J47: =IF(E47="","",IF(((VLOOKUP(E47,$L$25:$T$70,5))<G47),"報項時間慢於達標時間",""))&IF(T47="FAIL"," 運動員錯組別","")&IF(MOD(E47,2)=0,""," 項目編號為女子組") | L47: 46 | M47: =COUNTIFS($E$25:$E$164,"=46") -> 0 | N47: =IF(M47>$O$2, L47, "OK") -> OK | O47: =VLOOKUP(L47,報名總表及收費!$I$30:$K$118,2) -> 12 | P47: =IF(VLOOKUP(L47,報名總表及收費!$I$30:$K$118,3)=0,"",VLOOKUP(L47,報名總表及收費!$I$30:$K$118,3,FALSE)) | Q47: =IF(O47="E",YEAR(NOW())-$Q$5,IF(O47="A",YEAR(NOW())-$O$5,IF(O47="B",YEAR(NOW())-$P$5,IF(O47=0,"",O47)))) -> 12 | R47: =IF(E47=0,"",IF(MOD(E47,2)=1,"",VLOOKUP(E47,$L$24:$R$80,6,FALSE))) | S47: =IF(D47=0,"",VLOOKUP(E47,$L$24:$R$80,4,FALSE)) -> #N/A | T47: =IF(R47="","",IF(S47="A",IF(H47>=R47,"OK","FAIL"),IF(S47="E",IF(H47<=R47,"OK","FAIL"),IF(S47="B",IF(AND(H47<=R47,H47>=U47),"OK","FAIL"),IF(U47="",IF(H47=S47,"OK","FAIL"),IF(U47="9U",IF(H47<=9,"OK","FAIL"),IF(U47="UP",IF(H47>=15,"OK","FAIL"),IF(U47="DN",IF(H47<=7,"OK","FAIL"))))))))) | U47: =IF(R47="15U","UP",IF(R47="7D","DN",IF(R47="9U","9U",IF(S47="B",11,"")))) -> #N/A
B48: =IF(B47=0,"",B47) | C48: =IF(C47=0,"",C47) | D48: =IF(D47=0,"",D47) | F48: =IF(E48="","",VLOOKUP(E48,報名總表及收費!$I$29:$L$140,4)) | H48: =IF(D48="","", IF(D48=0,"",YEAR(NOW())-D48)) | J48: =IF(E48="","",IF(((VLOOKUP(E48,$L$25:$T$70,5))<G48),"報項時間慢於達標時間",""))&IF(T48="FAIL"," 運動員錯組別","")&IF(MOD(E48,2)=0,""," 項目編號為女子組") | L48: 48 | M48: =COUNTIFS($E$25:$E$164,"=48") -> 0 | N48: =IF(M48>$O$2, L48, "OK") -> OK | O48: =VLOOKUP(L48,報名總表及收費!$I$30:$K$118,2) -> 13 | P48: =IF(VLOOKUP(L48,報名總表及收費!$I$30:$K$118,3)=0,"",VLOOKUP(L48,報名總表及收費!$I$30:$K$118,3,FALSE)) | Q48: =IF(O48="E",YEAR(NOW())-$Q$5,IF(O48="A",YEAR(NOW())-$O$5,IF(O48="B",YEAR(NOW())-$P$5,IF(O48=0,"",O48)))) -> 13 | R48: =IF(E48=0,"",IF(MOD(E48,2)=1,"",VLOOKUP(E48,$L$24:$R$80,6,FALSE))) | S48: =IF(D48=0,"",VLOOKUP(E48,$L$24:$R$80,4,FALSE)) -> #N/A | T48: =IF(R48="","",IF(S48="A",IF(H48>=R48,"OK","FAIL"),IF(S48="E",IF(H48<=R48,"OK","FAIL"),IF(S48="B",IF(AND(H48<=R48,H48>=U48),"OK","FAIL"),IF(U48="",IF(H48=S48,"OK","FAIL"),IF(U48="9U",IF(H48<=9,"OK","FAIL"),IF(U48="UP",IF(H48>=15,"OK","FAIL"),IF(U48="DN",IF(H48<=7,"OK","FAIL"))))))))) | U48: =IF(R48="15U","UP",IF(R48="7D","DN",IF(R48="9U","9U",IF(S48="B",11,"")))) -> #N/A
A49: 男運動員 7 | F49: =IF(E49="","",VLOOKUP(E49,報名總表及收費!$I$29:$L$140,4)) | H49: =IF(D49="","", IF(D49=0,"",YEAR(NOW())-D49)) | J49: =IF(E49="","",IF(((VLOOKUP(E49,$L$25:$T$70,5))<G49),"報項時間慢於達標時間",""))&IF(T49="FAIL"," 運動員錯組別","")&IF(MOD(E49,2)=0,""," 項目編號為女子組") | L49: 50 | M49: =COUNTIFS($E$25:$E$164,"=50") -> 0 | N49: =IF(M49>$O$2, L49, "OK") -> OK | O49: =VLOOKUP(L49,報名總表及收費!$I$30:$K$118,2) -> 12 | P49: =IF(VLOOKUP(L49,報名總表及收費!$I$30:$K$118,3)=0,"",VLOOKUP(L49,報名總表及收費!$I$30:$K$118,3,FALSE)) | Q49: =IF(O49="E",YEAR(NOW())-$Q$5,IF(O49="A",YEAR(NOW())-$O$5,IF(O49="B",YEAR(NOW())-$P$5,IF(O49=0,"",O49)))) -> 12 | R49: =IF(E49=0,"",IF(MOD(E49,2)=1,"",VLOOKUP(E49,$L$24:$R$80,6,FALSE))) | S49: =IF(D49=0,"",VLOOKUP(E49,$L$24:$R$80,4,FALSE)) | T49: =IF(R49="","",IF(S49="A",IF(H49>=R49,"OK","FAIL"),IF(S49="E",IF(H49<=R49,"OK","FAIL"),IF(S49="B",IF(AND(H49<=R49,H49>=U49),"OK","FAIL"),IF(U49="",IF(H49=S49,"OK","FAIL"),IF(U49="9U",IF(H49<=9,"OK","FAIL"),IF(U49="UP",IF(H49>=15,"OK","FAIL"),IF(U49="DN",IF(H49<=7,"OK","FAIL"))))))))) | U49: =IF(R49="15U","UP",IF(R49="7D","DN",IF(R49="9U","9U",IF(S49="B",11,""))))
B50: =IF(B49=0,"",B49) | C50: =IF(C49=0,"",C49) | D50: =IF(D49=0,"",D49) | F50: =IF(E50="","",VLOOKUP(E50,報名總表及收費!$I$29:$L$140,4)) | H50: =IF(D50="","", IF(D50=0,"",YEAR(NOW())-D50)) | J50: =IF(E50="","",IF(((VLOOKUP(E50,$L$25:$T$70,5))<G50),"報項時間慢於達標時間",""))&IF(T50="FAIL"," 運動員錯組別","")&IF(MOD(E50,2)=0,""," 項目編號為女子組") | L50: 52 | M50: =COUNTIFS($E$25:$E$164,"=52") -> 0 | N50: =IF(M50>$O$2, L50, "OK") -> OK | O50: =VLOOKUP(L50,報名總表及收費!$I$30:$K$118,2) -> 13 | P50: =IF(VLOOKUP(L50,報名總表及收費!$I$30:$K$118,3)=0,"",VLOOKUP(L50,報名總表及收費!$I$30:$K$118,3,FALSE)) | Q50: =IF(O50="E",YEAR(NOW())-$Q$5,IF(O50="A",YEAR(NOW())-$O$5,IF(O50="B",YEAR(NOW())-$P$5,IF(O50=0,"",O50)))) -> 13 | R50: =IF(E50=0,"",IF(MOD(E50,2)=1,"",VLOOKUP(E50,$L$24:$R$80,6,FALSE))) | S50: =IF(D50=0,"",VLOOKUP(E50,$L$24:$R$80,4,FALSE)) -> #N/A | T50: =IF(R50="","",IF(S50="A",IF(H50>=R50,"OK","FAIL"),IF(S50="E",IF(H50<=R50,"OK","FAIL"),IF(S50="B",IF(AND(H50<=R50,H50>=U50),"OK","FAIL"),IF(U50="",IF(H50=S50,"OK","FAIL"),IF(U50="9U",IF(H50<=9,"OK","FAIL"),IF(U50="UP",IF(H50>=15,"OK","FAIL"),IF(U50="DN",IF(H50<=7,"OK","FAIL"))))))))) | U50: =IF(R50="15U","UP",IF(R50="7D","DN",IF(R50="9U","9U",IF(S50="B",11,"")))) -> #N/A
B51: =IF(B50=0,"",B50) | C51: =IF(C50=0,"",C50) | D51: =IF(D50=0,"",D50) | F51: =IF(E51="","",VLOOKUP(E51,報名總表及收費!$I$29:$L$140,4)) | H51: =IF(D51="","", IF(D51=0,"",YEAR(NOW())-D51)) | J51: =IF(E51="","",IF(((VLOOKUP(E51,$L$25:$T$70,5))<G51),"報項時間慢於達標時間",""))&IF(T51="FAIL"," 運動員錯組別","")&IF(MOD(E51,2)=0,""," 項目編號為女子組") | L51: 54 | M51: =COUNTIFS($E$25:$E$164,"=54") -> 0 | N51: =IF(M51>$O$2, L51, "OK") -> OK | O51: =VLOOKUP(L51,報名總表及收費!$I$30:$K$118,2) -> 12 | P51: =IF(VLOOKUP(L51,報名總表及收費!$I$30:$K$118,3)=0,"",VLOOKUP(L51,報名總表及收費!$I$30:$K$118,3,FALSE)) | Q51: =IF(O51="E",YEAR(NOW())-$Q$5,IF(O51="A",YEAR(NOW())-$O$5,IF(O51="B",YEAR(NOW())-$P$5,IF(O51=0,"",O51)))) -> 12 | R51: =IF(E51=0,"",IF(MOD(E51,2)=1,"",VLOOKUP(E51,$L$24:$R$80,6,FALSE))) | S51: =IF(D51=0,"",VLOOKUP(E51,$L$24:$R$80,4,FALSE)) -> #N/A | T51: =IF(R51="","",IF(S51="A",IF(H51>=R51,"OK","FAIL"),IF(S51="E",IF(H51<=R51,"OK","FAIL"),IF(S51="B",IF(AND(H51<=R51,H51>=U51),"OK","FAIL"),IF(U51="",IF(H51=S51,"OK","FAIL"),IF(U51="9U",IF(H51<=9,"OK","FAIL"),IF(U51="UP",IF(H51>=15,"OK","FAIL"),IF(U51="DN",IF(H51<=7,"OK","FAIL"))))))))) | U51: =IF(R51="15U","UP",IF(R51="7D","DN",IF(R51="9U","9U",IF(S51="B",11,"")))) -> #N/A
B52: =IF(B51=0,"",B51) | C52: =IF(C51=0,"",C51) | D52: =IF(D51=0,"",D51) | F52: =IF(E52="","",VLOOKUP(E52,報名總表及收費!$I$29:$L$140,4)) | H52: =IF(D52="","", IF(D52=0,"",YEAR(NOW())-D52)) | J52: =IF(E52="","",IF(((VLOOKUP(E52,$L$25:$T$70,5))<G52),"報項時間慢於達標時間",""))&IF(T52="FAIL"," 運動員錯組別","")&IF(MOD(E52,2)=0,""," 項目編號為女子組") | L52: 56 | M52: =COUNTIFS($E$25:$E$164,"=56") -> 0 | N52: =IF(M52>$O$2, L52, "OK") -> OK | O52: =VLOOKUP(L52,報名總表及收費!$I$30:$K$118,2) -> 13 | P52: =IF(VLOOKUP(L52,報名總表及收費!$I$30:$K$118,3)=0,"",VLOOKUP(L52,報名總表及收費!$I$30:$K$118,3,FALSE)) | Q52: =IF(O52="E",YEAR(NOW())-$Q$5,IF(O52="A",YEAR(NOW())-$O$5,IF(O52="B",YEAR(NOW())-$P$5,IF(O52=0,"",O52)))) -> 13 | R52: =IF(E52=0,"",IF(MOD(E52,2)=1,"",VLOOKUP(E52,$L$24:$R$80,6,FALSE))) | S52: =IF(D52=0,"",VLOOKUP(E52,$L$24:$R$80,4,FALSE)) -> #N/A | T52: =IF(R52="","",IF(S52="A",IF(H52>=R52,"OK","FAIL"),IF(S52="E",IF(H52<=R52,"OK","FAIL"),IF(S52="B",IF(AND(H52<=R52,H52>=U52),"OK","FAIL"),IF(U52="",IF(H52=S52,"OK","FAIL"),IF(U52="9U",IF(H52<=9,"OK","FAIL"),IF(U52="UP",IF(H52>=15,"OK","FAIL"),IF(U52="DN",IF(H52<=7,"OK","FAIL"))))))))) | U52: =IF(R52="15U","UP",IF(R52="7D","DN",IF(R52="9U","9U",IF(S52="B",11,"")))) -> #N/A
A53: 男運動員 8 | F53: =IF(E53="","",VLOOKUP(E53,報名總表及收費!$I$29:$L$140,4)) | H53: =IF(D53="","", IF(D53=0,"",YEAR(NOW())-D53)) | J53: =IF(E53="","",IF(((VLOOKUP(E53,$L$25:$T$70,5))<G53),"報項時間慢於達標時間",""))&IF(T53="FAIL"," 運動員錯組別","")&IF(MOD(E53,2)=0,""," 項目編號為女子組") | L53: 58 | M53: =COUNTIFS($E$25:$E$164,"=58") -> 0 | N53: =IF(M53>$O$2, L53, "OK") -> OK | O53: =VLOOKUP(L53,報名總表及收費!$I$30:$K$118,2) -> 12 | P53: =IF(VLOOKUP(L53,報名總表及收費!$I$30:$K$118,3)=0,"",VLOOKUP(L53,報名總表及收費!$I$30:$K$118,3,FALSE)) | Q53: =IF(O53="E",YEAR(NOW())-$Q$5,IF(O53="A",YEAR(NOW())-$O$5,IF(O53="B",YEAR(NOW())-$P$5,IF(O53=0,"",O53)))) -> 12 | R53: =IF(E53=0,"",IF(MOD(E53,2)=1,"",VLOOKUP(E53,$L$24:$R$80,6,FALSE))) | S53: =IF(D53=0,"",VLOOKUP(E53,$L$24:$R$80,4,FALSE)) | T53: =IF(R53="","",IF(S53="A",IF(H53>=R53,"OK","FAIL"),IF(S53="E",IF(H53<=R53,"OK","FAIL"),IF(S53="B",IF(AND(H53<=R53,H53>=U53),"OK","FAIL"),IF(U53="",IF(H53=S53,"OK","FAIL"),IF(U53="9U",IF(H53<=9,"OK","FAIL"),IF(U53="UP",IF(H53>=15,"OK","FAIL"),IF(U53="DN",IF(H53<=7,"OK","FAIL"))))))))) | U53: =IF(R53="15U","UP",IF(R53="7D","DN",IF(R53="9U","9U",IF(S53="B",11,""))))
B54: =IF(B53=0,"",B53) | C54: =IF(C53=0,"",C53) | D54: =IF(D53=0,"",D53) | F54: =IF(E54="","",VLOOKUP(E54,報名總表及收費!$I$29:$L$140,4)) | H54: =IF(D54="","", IF(D54=0,"",YEAR(NOW())-D54)) | J54: =IF(E54="","",IF(((VLOOKUP(E54,$L$25:$T$70,5))<G54),"報項時間慢於達標時間",""))&IF(T54="FAIL"," 運動員錯組別","")&IF(MOD(E54,2)=0,""," 項目編號為女子組") | L54: 60 | M54: =COUNTIFS($E$25:$E$164,"=60") -> 0 | N54: =IF(M54>$O$2, L54, "OK") -> OK | O54: =VLOOKUP(L54,報名總表及收費!$I$30:$K$118,2) -> 13 | P54: =IF(VLOOKUP(L54,報名總表及收費!$I$30:$K$118,3)=0,"",VLOOKUP(L54,報名總表及收費!$I$30:$K$118,3,FALSE)) | Q54: =IF(O54="E",YEAR(NOW())-$Q$5,IF(O54="A",YEAR(NOW())-$O$5,IF(O54="B",YEAR(NOW())-$P$5,IF(O54=0,"",O54)))) -> 13 | R54: =IF(E54=0,"",IF(MOD(E54,2)=1,"",VLOOKUP(E54,$L$24:$R$80,6,FALSE))) | S54: =IF(D54=0,"",VLOOKUP(E54,$L$24:$R$80,4,FALSE)) -> #N/A | T54: =IF(R54="","",IF(S54="A",IF(H54>=R54,"OK","FAIL"),IF(S54="E",IF(H54<=R54,"OK","FAIL"),IF(S54="B",IF(AND(H54<=R54,H54>=U54),"OK","FAIL"),IF(U54="",IF(H54=S54,"OK","FAIL"),IF(U54="9U",IF(H54<=9,"OK","FAIL"),IF(U54="UP",IF(H54>=15,"OK","FAIL"),IF(U54="DN",IF(H54<=7,"OK","FAIL"))))))))) | U54: =IF(R54="15U","UP",IF(R54="7D","DN",IF(R54="9U","9U",IF(S54="B",11,"")))) -> #N/A
B55: =IF(B54=0,"",B54) | C55: =IF(C54=0,"",C54) | D55: =IF(D54=0,"",D54) | F55: =IF(E55="","",VLOOKUP(E55,報名總表及收費!$I$29:$L$140,4)) | H55: =IF(D55="","", IF(D55=0,"",YEAR(NOW())-D55)) | J55: =IF(E55="","",IF(((VLOOKUP(E55,$L$25:$T$70,5))<G55),"報項時間慢於達標時間",""))&IF(T55="FAIL"," 運動員錯組別","")&IF(MOD(E55,2)=0,""," 項目編號為女子組") | L55: 62 | M55: =COUNTIFS($E$25:$E$164,"=62") -> 0 | N55: =IF(M55>$O$2, L55, "OK") -> OK | O55: =VLOOKUP(L55,報名總表及收費!$I$30:$K$118,2) -> 12 | P55: =IF(VLOOKUP(L55,報名總表及收費!$I$30:$K$118,3)=0,"",VLOOKUP(L55,報名總表及收費!$I$30:$K$118,3,FALSE)) | Q55: =IF(O55="E",YEAR(NOW())-$Q$5,IF(O55="A",YEAR(NOW())-$O$5,IF(O55="B",YEAR(NOW())-$P$5,IF(O55=0,"",O55)))) -> 12 | R55: =IF(E55=0,"",IF(MOD(E55,2)=1,"",VLOOKUP(E55,$L$24:$R$80,6,FALSE))) | S55: =IF(D55=0,"",VLOOKUP(E55,$L$24:$R$80,4,FALSE)) -> #N/A | T55: =IF(R55="","",IF(S55="A",IF(H55>=R55,"OK","FAIL"),IF(S55="E",IF(H55<=R55,"OK","FAIL"),IF(S55="B",IF(AND(H55<=R55,H55>=U55),"OK","FAIL"),IF(U55="",IF(H55=S55,"OK","FAIL"),IF(U55="9U",IF(H55<=9,"OK","FAIL"),IF(U55="UP",IF(H55>=15,"OK","FAIL"),IF(U55="DN",IF(H55<=7,"OK","FAIL"))))))))) | U55: =IF(R55="15U","UP",IF(R55="7D","DN",IF(R55="9U","9U",IF(S55="B",11,"")))) -> #N/A
B56: =IF(B55=0,"",B55) | C56: =IF(C55=0,"",C55) | D56: =IF(D55=0,"",D55) | F56: =IF(E56="","",VLOOKUP(E56,報名總表及收費!$I$29:$L$140,4)) | H56: =IF(D56="","", IF(D56=0,"",YEAR(NOW())-D56)) | J56: =IF(E56="","",IF(((VLOOKUP(E56,$L$25:$T$70,5))<G56),"報項時間慢於達標時間",""))&IF(T56="FAIL"," 運動員錯組別","")&IF(MOD(E56,2)=0,""," 項目編號為女子組") | L56: 64 | M56: =COUNTIFS($E$25:$E$164,"=64") -> 0 | N56: =IF(M56>$O$2, L56, "OK") -> OK | O56: =VLOOKUP(L56,報名總表及收費!$I$30:$K$118,2) -> 13 | P56: =IF(VLOOKUP(L56,報名總表及收費!$I$30:$K$118,3)=0,"",VLOOKUP(L56,報名總表及收費!$I$30:$K$118,3,FALSE)) | Q56: =IF(O56="E",YEAR(NOW())-$Q$5,IF(O56="A",YEAR(NOW())-$O$5,IF(O56="B",YEAR(NOW())-$P$5,IF(O56=0,"",O56)))) -> 13 | R56: =IF(E56=0,"",IF(MOD(E56,2)=1,"",VLOOKUP(E56,$L$24:$R$80,6,FALSE))) | S56: =IF(D56=0,"",VLOOKUP(E56,$L$24:$R$80,4,FALSE)) -> #N/A | T56: =IF(R56="","",IF(S56="A",IF(H56>=R56,"OK","FAIL"),IF(S56="E",IF(H56<=R56,"OK","FAIL"),IF(S56="B",IF(AND(H56<=R56,H56>=U56),"OK","FAIL"),IF(U56="",IF(H56=S56,"OK","FAIL"),IF(U56="9U",IF(H56<=9,"OK","FAIL"),IF(U56="UP",IF(H56>=15,"OK","FAIL"),IF(U56="DN",IF(H56<=7,"OK","FAIL"))))))))) | U56: =IF(R56="15U","UP",IF(R56="7D","DN",IF(R56="9U","9U",IF(S56="B",11,"")))) -> #N/A
A57: 男運動員 9 | F57: =IF(E57="","",VLOOKUP(E57,報名總表及收費!$I$29:$L$140,4)) | H57: =IF(D57="","", IF(D57=0,"",YEAR(NOW())-D57)) | J57: =IF(E57="","",IF(((VLOOKUP(E57,$L$25:$T$70,5))<G57),"報項時間慢於達標時間",""))&IF(T57="FAIL"," 運動員錯組別","")&IF(MOD(E57,2)=0,""," 項目編號為女子組") | L57: 66 | M57: =COUNTIFS($E$25:$E$164,"=66") -> 0 | N57: =IF(M57>$O$2, L57, "OK") -> OK | O57: =VLOOKUP(L57,報名總表及收費!$I$30:$K$118,2) -> 12 | P57: =IF(VLOOKUP(L57,報名總表及收費!$I$30:$K$118,3)=0,"",VLOOKUP(L57,報名總表及收費!$I$30:$K$118,3,FALSE)) | Q57: =IF(O57="E",YEAR(NOW())-$Q$5,IF(O57="A",YEAR(NOW())-$O$5,IF(O57="B",YEAR(NOW())-$P$5,IF(O57=0,"",O57)))) -> 12 | R57: =IF(E57=0,"",IF(MOD(E57,2)=1,"",VLOOKUP(E57,$L$24:$R$80,6,FALSE))) | S57: =IF(D57=0,"",VLOOKUP(E57,$L$24:$R$80,4,FALSE)) | T57: =IF(R57="","",IF(S57="A",IF(H57>=R57,"OK","FAIL"),IF(S57="E",IF(H57<=R57,"OK","FAIL"),IF(S57="B",IF(AND(H57<=R57,H57>=U57),"OK","FAIL"),IF(U57="",IF(H57=S57,"OK","FAIL"),IF(U57="9U",IF(H57<=9,"OK","FAIL"),IF(U57="UP",IF(H57>=15,"OK","FAIL"),IF(U57="DN",IF(H57<=7,"OK","FAIL"))))))))) | U57: =IF(R57="15U","UP",IF(R57="7D","DN",IF(R57="9U","9U",IF(S57="B",11,""))))
B58: =IF(B57=0,"",B57) | C58: =IF(C57=0,"",C57) | D58: =IF(D57=0,"",D57) | F58: =IF(E58="","",VLOOKUP(E58,報名總表及收費!$I$29:$L$140,4)) | H58: =IF(D58="","", IF(D58=0,"",YEAR(NOW())-D58)) | J58: =IF(E58="","",IF(((VLOOKUP(E58,$L$25:$T$70,5))<G58),"報項時間慢於達標時間",""))&IF(T58="FAIL"," 運動員錯組別","")&IF(MOD(E58,2)=0,""," 項目編號為女子組") | L58: 68 | M58: =COUNTIFS($E$25:$E$164,"=68") -> 0 | N58: =IF(M58>$O$2, L58, "OK") -> OK | O58: =VLOOKUP(L58,報名總表及收費!$I$30:$K$118,2) -> 13 | P58: =IF(VLOOKUP(L58,報名總表及收費!$I$30:$K$118,3)=0,"",VLOOKUP(L58,報名總表及收費!$I$30:$K$118,3,FALSE)) | Q58: =IF(O58="E",YEAR(NOW())-$Q$5,IF(O58="A",YEAR(NOW())-$O$5,IF(O58="B",YEAR(NOW())-$P$5,IF(O58=0,"",O58)))) -> 13 | R58: =IF(E58=0,"",IF(MOD(E58,2)=1,"",VLOOKUP(E58,$L$24:$R$80,6,FALSE))) | S58: =IF(D58=0,"",VLOOKUP(E58,$L$24:$R$80,4,FALSE)) -> #N/A | T58: =IF(R58="","",IF(S58="A",IF(H58>=R58,"OK","FAIL"),IF(S58="E",IF(H58<=R58,"OK","FAIL"),IF(S58="B",IF(AND(H58<=R58,H58>=U58),"OK","FAIL"),IF(U58="",IF(H58=S58,"OK","FAIL"),IF(U58="9U",IF(H58<=9,"OK","FAIL"),IF(U58="UP",IF(H58>=15,"OK","FAIL"),IF(U58="DN",IF(H58<=7,"OK","FAIL"))))))))) | U58: =IF(R58="15U","UP",IF(R58="7D","DN",IF(R58="9U","9U",IF(S58="B",11,"")))) -> #N/A
B59: =IF(B58=0,"",B58) | C59: =IF(C58=0,"",C58) | D59: =IF(D58=0,"",D58) | F59: =IF(E59="","",VLOOKUP(E59,報名總表及收費!$I$29:$L$140,4)) | H59: =IF(D59="","", IF(D59=0,"",YEAR(NOW())-D59)) | J59: =IF(E59="","",IF(((VLOOKUP(E59,$L$25:$T$70,5))<G59),"報項時間慢於達標時間",""))&IF(T59="FAIL"," 運動員錯組別","")&IF(MOD(E59,2)=0,""," 項目編號為女子組") | L59: 70 | M59: =COUNTIFS($E$25:$E$164,"=70") -> 0 | N59: =IF(M59>$O$2, L59, "OK") -> OK | O59: =VLOOKUP(L59,報名總表及收費!$I$30:$K$118,2) | P59: =IF(VLOOKUP(L59,報名總表及收費!$I$30:$K$118,3)=0,"",VLOOKUP(L59,報名總表及收費!$I$30:$K$118,3,FALSE)) | Q59: =IF(O59="E",YEAR(NOW())-$Q$5,IF(O59="A",YEAR(NOW())-$O$5,IF(O59="B",YEAR(NOW())-$P$5,IF(O59=0,"",O59)))) | R59: =IF(E59=0,"",IF(MOD(E59,2)=1,"",VLOOKUP(E59,$L$24:$R$80,6,FALSE))) | S59: =IF(D59=0,"",VLOOKUP(E59,$L$24:$R$80,4,FALSE)) -> #N/A | T59: =IF(R59="","",IF(S59="A",IF(H59>=R59,"OK","FAIL"),IF(S59="E",IF(H59<=R59,"OK","FAIL"),IF(S59="B",IF(AND(H59<=R59,H59>=U59),"OK","FAIL"),IF(U59="",IF(H59=S59,"OK","FAIL"),IF(U59="9U",IF(H59<=9,"OK","FAIL"),IF(U59="UP",IF(H59>=15,"OK","FAIL"),IF(U59="DN",IF(H59<=7,"OK","FAIL"))))))))) | U59: =IF(R59="15U","UP",IF(R59="7D","DN",IF(R59="9U","9U",IF(S59="B",11,"")))) -> #N/A
B60: =IF(B59=0,"",B59) | C60: =IF(C59=0,"",C59) | D60: =IF(D59=0,"",D59) | F60: =IF(E60="","",VLOOKUP(E60,報名總表及收費!$I$29:$L$140,4)) | H60: =IF(D60="","", IF(D60=0,"",YEAR(NOW())-D60)) | J60: =IF(E60="","",IF(((VLOOKUP(E60,$L$25:$T$70,5))<G60),"報項時間慢於達標時間",""))&IF(T60="FAIL"," 運動員錯組別","")&IF(MOD(E60,2)=0,""," 項目編號為女子組") | L60: 72 | M60: =COUNTIFS($E$25:$E$164,"=72") -> 0 | N60: =IF(M60>$O$2, L60, "OK") -> OK | O60: =VLOOKUP(L60,報名總表及收費!$I$30:$K$118,2) | P60: =IF(VLOOKUP(L60,報名總表及收費!$I$30:$K$118,3)=0,"",VLOOKUP(L60,報名總表及收費!$I$30:$K$118,3,FALSE)) | Q60: =IF(O60="E",YEAR(NOW())-$Q$5,IF(O60="A",YEAR(NOW())-$O$5,IF(O60="B",YEAR(NOW())-$P$5,IF(O60=0,"",O60)))) | R60: =IF(E60=0,"",IF(MOD(E60,2)=1,"",VLOOKUP(E60,$L$24:$R$80,6,FALSE))) | S60: =IF(D60=0,"",VLOOKUP(E60,$L$24:$R$80,4,FALSE)) -> #N/A | T60: =IF(R60="","",IF(S60="A",IF(H60>=R60,"OK","FAIL"),IF(S60="E",IF(H60<=R60,"OK","FAIL"),IF(S60="B",IF(AND(H60<=R60,H60>=U60),"OK","FAIL"),IF(U60="",IF(H60=S60,"OK","FAIL"),IF(U60="9U",IF(H60<=9,"OK","FAIL"),IF(U60="UP",IF(H60>=15,"OK","FAIL"),IF(U60="DN",IF(H60<=7,"OK","FAIL"))))))))) | U60: =IF(R60="15U","UP",IF(R60="7D","DN",IF(R60="9U","9U",IF(S60="B",11,"")))) -> #N/A
A61: 男運動員 10 | F61: =IF(E61="","",VLOOKUP(E61,報名總表及收費!$I$29:$L$140,4)) | H61: =IF(D61="","", IF(D61=0,"",YEAR(NOW())-D61)) | J61: =IF(E61="","",IF(((VLOOKUP(E61,$L$25:$T$70,5))<G61),"報項時間慢於達標時間",""))&IF(T61="FAIL"," 運動員錯組別","")&IF(MOD(E61,2)=0,""," 項目編號為女子組") | L61: 74 | M61: =COUNTIFS($E$25:$E$164,"=74") -> 0 | N61: =IF(M61>$O$2, L61, "OK") -> OK | O61: =VLOOKUP(L61,報名總表及收費!$I$30:$K$118,2) | P61: =IF(VLOOKUP(L61,報名總表及收費!$I$30:$K$118,3)=0,"",VLOOKUP(L61,報名總表及收費!$I$30:$K$118,3,FALSE)) | Q61: =IF(O61="E",YEAR(NOW())-$Q$5,IF(O61="A",YEAR(NOW())-$O$5,IF(O61="B",YEAR(NOW())-$P$5,IF(O61=0,"",O61)))) | R61: =IF(E61=0,"",IF(MOD(E61,2)=1,"",VLOOKUP(E61,$L$24:$R$80,6,FALSE))) | S61: =IF(D61=0,"",VLOOKUP(E61,$L$24:$R$80,4,FALSE)) | T61: =IF(R61="","",IF(S61="A",IF(H61>=R61,"OK","FAIL"),IF(S61="E",IF(H61<=R61,"OK","FAIL"),IF(S61="B",IF(AND(H61<=R61,H61>=U61),"OK","FAIL"),IF(U61="",IF(H61=S61,"OK","FAIL"),IF(U61="9U",IF(H61<=9,"OK","FAIL"),IF(U61="UP",IF(H61>=15,"OK","FAIL"),IF(U61="DN",IF(H61<=7,"OK","FAIL"))))))))) | U61: =IF(R61="15U","UP",IF(R61="7D","DN",IF(R61="9U","9U",IF(S61="B",11,""))))
B62: =IF(B61=0,"",B61) | C62: =IF(C61=0,"",C61) | D62: =IF(D61=0,"",D61) | F62: =IF(E62="","",VLOOKUP(E62,報名總表及收費!$I$29:$L$140,4)) | H62: =IF(D62="","", IF(D62=0,"",YEAR(NOW())-D62)) | J62: =IF(E62="","",IF(((VLOOKUP(E62,$L$25:$T$70,5))<G62),"報項時間慢於達標時間",""))&IF(T62="FAIL"," 運動員錯組別","")&IF(MOD(E62,2)=0,""," 項目編號為女子組") | L62: 76 | M62: =COUNTIFS($E$25:$E$164,"=76") -> 0 | N62: =IF(M62>$O$2, L62, "OK") -> OK | O62: =VLOOKUP(L62,報名總表及收費!$I$30:$K$118,2) | P62: =IF(VLOOKUP(L62,報名總表及收費!$I$30:$K$118,3)=0,"",VLOOKUP(L62,報名總表及收費!$I$30:$K$118,3,FALSE)) | Q62: =IF(O62="E",YEAR(NOW())-$Q$5,IF(O62="A",YEAR(NOW())-$O$5,IF(O62="B",YEAR(NOW())-$P$5,IF(O62=0,"",O62)))) | R62: =IF(E62=0,"",IF(MOD(E62,2)=1,"",VLOOKUP(E62,$L$24:$R$80,6,FALSE))) | S62: =IF(D62=0,"",VLOOKUP(E62,$L$24:$R$80,4,FALSE)) -> #N/A | T62: =IF(R62="","",IF(S62="A",IF(H62>=R62,"OK","FAIL"),IF(S62="E",IF(H62<=R62,"OK","FAIL"),IF(S62="B",IF(AND(H62<=R62,H62>=U62),"OK","FAIL"),IF(U62="",IF(H62=S62,"OK","FAIL"),IF(U62="9U",IF(H62<=9,"OK","FAIL"),IF(U62="UP",IF(H62>=15,"OK","FAIL"),IF(U62="DN",IF(H62<=7,"OK","FAIL"))))))))) | U62: =IF(R62="15U","UP",IF(R62="7D","DN",IF(R62="9U","9U",IF(S62="B",11,"")))) -> #N/A
B63: =IF(B62=0,"",B62) | C63: =IF(C62=0,"",C62) | D63: =IF(D62=0,"",D62) | F63: =IF(E63="","",VLOOKUP(E63,報名總表及收費!$I$29:$L$140,4)) | H63: =IF(D63="","", IF(D63=0,"",YEAR(NOW())-D63)) | J63: =IF(E63="","",IF(((VLOOKUP(E63,$L$25:$T$70,5))<G63),"報項時間慢於達標時間",""))&IF(T63="FAIL"," 運動員錯組別","")&IF(MOD(E63,2)=0,""," 項目編號為女子組") | L63: 78 | M63: =COUNTIFS($E$25:$E$164,"=78") -> 0 | N63: =IF(M63>$O$2, L63, "OK") -> OK | O63: =VLOOKUP(L63,報名總表及收費!$I$30:$K$118,2) | P63: =IF(VLOOKUP(L63,報名總表及收費!$I$30:$K$118,3)=0,"",VLOOKUP(L63,報名總表及收費!$I$30:$K$118,3,FALSE)) | Q63: =IF(O63="E",YEAR(NOW())-$Q$5,IF(O63="A",YEAR(NOW())-$O$5,IF(O63="B",YEAR(NOW())-$P$5,IF(O63=0,"",O63)))) | R63: =IF(E63=0,"",IF(MOD(E63,2)=1,"",VLOOKUP(E63,$L$24:$R$80,6,FALSE))) | S63: =IF(D63=0,"",VLOOKUP(E63,$L$24:$R$80,4,FALSE)) -> #N/A | T63: =IF(R63="","",IF(S63="A",IF(H63>=R63,"OK","FAIL"),IF(S63="E",IF(H63<=R63,"OK","FAIL"),IF(S63="B",IF(AND(H63<=R63,H63>=U63),"OK","FAIL"),IF(U63="",IF(H63=S63,"OK","FAIL"),IF(U63="9U",IF(H63<=9,"OK","FAIL"),IF(U63="UP",IF(H63>=15,"OK","FAIL"),IF(U63="DN",IF(H63<=7,"OK","FAIL"))))))))) | U63: =IF(R63="15U","UP",IF(R63="7D","DN",IF(R63="9U","9U",IF(S63="B",11,"")))) -> #N/A
B64: =IF(B63=0,"",B63) | C64: =IF(C63=0,"",C63) | D64: =IF(D63=0,"",D63) | F64: =IF(E64="","",VLOOKUP(E64,報名總表及收費!$I$29:$L$140,4)) | H64: =IF(D64="","", IF(D64=0,"",YEAR(NOW())-D64)) | J64: =IF(E64="","",IF(((VLOOKUP(E64,$L$25:$T$70,5))<G64),"報項時間慢於達標時間",""))&IF(T64="FAIL"," 運動員錯組別","")&IF(MOD(E64,2)=0,""," 項目編號為女子組") | L64: 80 | M64: =COUNTIFS($E$25:$E$164,"=80") -> 0 | N64: =IF(M64>$O$2, L64, "OK") -> OK | O64: =VLOOKUP(L64,報名總表及收費!$I$30:$K$118,2) | P64: =IF(VLOOKUP(L64,報名總表及收費!$I$30:$K$118,3)=0,"",VLOOKUP(L64,報名總表及收費!$I$30:$K$118,3,FALSE)) | Q64: =IF(O64="E",YEAR(NOW())-$Q$5,IF(O64="A",YEAR(NOW())-$O$5,IF(O64="B",YEAR(NOW())-$P$5,IF(O64=0,"",O64)))) | R64: =IF(E64=0,"",IF(MOD(E64,2)=1,"",VLOOKUP(E64,$L$24:$R$80,6,FALSE))) | S64: =IF(D64=0,"",VLOOKUP(E64,$L$24:$R$80,4,FALSE)) -> #N/A | T64: =IF(R64="","",IF(S64="A",IF(H64>=R64,"OK","FAIL"),IF(S64="E",IF(H64<=R64,"OK","FAIL"),IF(S64="B",IF(AND(H64<=R64,H64>=U64),"OK","FAIL"),IF(U64="",IF(H64=S64,"OK","FAIL"),IF(U64="9U",IF(H64<=9,"OK","FAIL"),IF(U64="UP",IF(H64>=15,"OK","FAIL"),IF(U64="DN",IF(H64<=7,"OK","FAIL"))))))))) | U64: =IF(R64="15U","UP",IF(R64="7D","DN",IF(R64="9U","9U",IF(S64="B",11,"")))) -> #N/A
A65: 男運動員 11 | F65: =IF(E65="","",VLOOKUP(E65,報名總表及收費!$I$29:$L$140,4)) | H65: =IF(D65="","", IF(D65=0,"",YEAR(NOW())-D65)) | J65: =IF(E65="","",IF(((VLOOKUP(E65,$L$25:$T$70,5))<G65),"報項時間慢於達標時間",""))&IF(T65="FAIL"," 運動員錯組別","")&IF(MOD(E65,2)=0,""," 項目編號為女子組") | L65: 82 | M65: =COUNTIFS($E$25:$E$164,"=82") -> 0 | N65: =IF(M65>$O$2, L65, "OK") -> OK | O65: =VLOOKUP(L65,報名總表及收費!$I$30:$K$118,2) | P65: =IF(VLOOKUP(L65,報名總表及收費!$I$30:$K$118,3)=0,"",VLOOKUP(L65,報名總表及收費!$I$30:$K$118,3,FALSE)) | Q65: =IF(O65="E",YEAR(NOW())-$Q$5,IF(O65="A",YEAR(NOW())-$O$5,IF(O65="B",YEAR(NOW())-$P$5,IF(O65=0,"",O65)))) | R65: =IF(E65=0,"",IF(MOD(E65,2)=1,"",VLOOKUP(E65,$L$24:$R$80,6,FALSE))) | S65: =IF(D65=0,"",VLOOKUP(E65,$L$24:$R$80,4,FALSE)) | T65: =IF(R65="","",IF(S65="A",IF(H65>=R65,"OK","FAIL"),IF(S65="E",IF(H65<=R65,"OK","FAIL"),IF(S65="B",IF(AND(H65<=R65,H65>=U65),"OK","FAIL"),IF(U65="",IF(H65=S65,"OK","FAIL"),IF(U65="9U",IF(H65<=9,"OK","FAIL"),IF(U65="UP",IF(H65>=15,"OK","FAIL"),IF(U65="DN",IF(H65<=7,"OK","FAIL"))))))))) | U65: =IF(R65="15U","UP",IF(R65="7D","DN",IF(R65="9U","9U",IF(S65="B",11,""))))
B66: =IF(B65=0,"",B65) | C66: =IF(C65=0,"",C65) | D66: =IF(D65=0,"",D65) | F66: =IF(E66="","",VLOOKUP(E66,報名總表及收費!$I$29:$L$140,4)) | H66: =IF(D66="","", IF(D66=0,"",YEAR(NOW())-D66)) | J66: =IF(E66="","",IF(((VLOOKUP(E66,$L$25:$T$70,5))<G66),"報項時間慢於達標時間",""))&IF(T66="FAIL"," 運動員錯組別","")&IF(MOD(E66,2)=0,""," 項目編號為女子組") | L66: 84 | M66: =COUNTIFS($E$25:$E$164,"=84") -> 0 | N66: =IF(M66>$O$2, L66, "OK") -> OK | O66: =VLOOKUP(L66,報名總表及收費!$I$30:$K$118,2) | P66: =IF(VLOOKUP(L66,報名總表及收費!$I$30:$K$118,3)=0,"",VLOOKUP(L66,報名總表及收費!$I$30:$K$118,3,FALSE)) | Q66: =IF(O66="E",YEAR(NOW())-$Q$5,IF(O66="A",YEAR(NOW())-$O$5,IF(O66="B",YEAR(NOW())-$P$5,IF(O66=0,"",O66)))) | R66: =IF(E66=0,"",IF(MOD(E66,2)=1,"",VLOOKUP(E66,$L$24:$R$80,6,FALSE))) | S66: =IF(D66=0,"",VLOOKUP(E66,$L$24:$R$80,4,FALSE)) -> #N/A | T66: =IF(R66="","",IF(S66="A",IF(H66>=R66,"OK","FAIL"),IF(S66="E",IF(H66<=R66,"OK","FAIL"),IF(S66="B",IF(AND(H66<=R66,H66>=U66),"OK","FAIL"),IF(U66="",IF(H66=S66,"OK","FAIL"),IF(U66="9U",IF(H66<=9,"OK","FAIL"),IF(U66="UP",IF(H66>=15,"OK","FAIL"),IF(U66="DN",IF(H66<=7,"OK","FAIL"))))))))) | U66: =IF(R66="15U","UP",IF(R66="7D","DN",IF(R66="9U","9U",IF(S66="B",11,"")))) -> #N/A
B67: =IF(B66=0,"",B66) | C67: =IF(C66=0,"",C66) | D67: =IF(D66=0,"",D66) | F67: =IF(E67="","",VLOOKUP(E67,報名總表及收費!$I$29:$L$140,4)) | H67: =IF(D67="","", IF(D67=0,"",YEAR(NOW())-D67)) | J67: =IF(E67="","",IF(((VLOOKUP(E67,$L$25:$T$70,5))<G67),"報項時間慢於達標時間",""))&IF(T67="FAIL"," 運動員錯組別","")&IF(MOD(E67,2)=0,""," 項目編號為女子組") | M67: =SUM(M25:M66) -> 0 | Q67: =IF(O67="E",YEAR(NOW())-$Q$5,IF(O67="A",YEAR(NOW())-$O$5,IF(O67="B",YEAR(NOW())-$P$5,IF(O67=0,"",O67)))) | R67: =IF(E67=0,"",IF(MOD(E67,2)=1,"",VLOOKUP(E67,$L$24:$R$80,6,FALSE))) | S67: =IF(D67=0,"",VLOOKUP(E67,$L$24:$R$80,4,FALSE)) -> #N/A | T67: =IF(R67="","",IF(S67="A",IF(H67>=R67,"OK","FAIL"),IF(S67="E",IF(H67<=R67,"OK","FAIL"),IF(S67="B",IF(AND(H67<=R67,H67>=U67),"OK","FAIL"),IF(U67="",IF(H67=S67,"OK","FAIL"),IF(U67="9U",IF(H67<=9,"OK","FAIL"),IF(U67="UP",IF(H67>=15,"OK","FAIL"),IF(U67="DN",IF(H67<=7,"OK","FAIL"))))))))) | U67: =IF(R67="15U","UP",IF(R67="7D","DN",IF(R67="9U","9U",IF(S67="B",11,"")))) -> #N/A
B68: =IF(B67=0,"",B67) | C68: =IF(C67=0,"",C67) | D68: =IF(D67=0,"",D67) | F68: =IF(E68="","",VLOOKUP(E68,報名總表及收費!$I$29:$L$140,4)) | H68: =IF(D68="","", IF(D68=0,"",YEAR(NOW())-D68)) | J68: =IF(E68="","",IF(((VLOOKUP(E68,$L$25:$T$70,5))<G68),"報項時間慢於達標時間",""))&IF(T68="FAIL"," 運動員錯組別","")&IF(MOD(E68,2)=0,""," 項目編號為女子組") | Q68: =IF(O68="E",YEAR(NOW())-$Q$5,IF(O68="A",YEAR(NOW())-$O$5,IF(O68="B",YEAR(NOW())-$P$5,IF(O68=0,"",O68)))) | R68: =IF(E68=0,"",IF(MOD(E68,2)=1,"",VLOOKUP(E68,$L$24:$R$80,6,FALSE))) | S68: =IF(D68=0,"",VLOOKUP(E68,$L$24:$R$80,4,FALSE)) -> #N/A | T68: =IF(R68="","",IF(S68="A",IF(H68>=R68,"OK","FAIL"),IF(S68="E",IF(H68<=R68,"OK","FAIL"),IF(S68="B",IF(AND(H68<=R68,H68>=U68),"OK","FAIL"),IF(U68="",IF(H68=S68,"OK","FAIL"),IF(U68="9U",IF(H68<=9,"OK","FAIL"),IF(U68="UP",IF(H68>=15,"OK","FAIL"),IF(U68="DN",IF(H68<=7,"OK","FAIL"))))))))) | U68: =IF(R68="15U","UP",IF(R68="7D","DN",IF(R68="9U","9U",IF(S68="B",11,"")))) -> #N/A
A69: 男運動員 12 | F69: =IF(E69="","",VLOOKUP(E69,報名總表及收費!$I$29:$L$140,4)) | H69: =IF(D69="","", IF(D69=0,"",YEAR(NOW())-D69)) | J69: =IF(E69="","",IF(((VLOOKUP(E69,$L$25:$T$70,5))<G69),"報項時間慢於達標時間",""))&IF(T69="FAIL"," 運動員錯組別","")&IF(MOD(E69,2)=0,""," 項目編號為女子組") | Q69: =IF(O69="E",YEAR(NOW())-$Q$5,IF(O69="A",YEAR(NOW())-$O$5,IF(O69="B",YEAR(NOW())-$P$5,IF(O69=0,"",O69)))) | R69: =IF(E69=0,"",IF(MOD(E69,2)=1,"",VLOOKUP(E69,$L$24:$R$80,6,FALSE))) | S69: =IF(D69=0,"",VLOOKUP(E69,$L$24:$R$80,4,FALSE)) | T69: =IF(R69="","",IF(S69="A",IF(H69>=R69,"OK","FAIL"),IF(S69="E",IF(H69<=R69,"OK","FAIL"),IF(S69="B",IF(AND(H69<=R69,H69>=U69),"OK","FAIL"),IF(U69="",IF(H69=S69,"OK","FAIL"),IF(U69="9U",IF(H69<=9,"OK","FAIL"),IF(U69="UP",IF(H69>=15,"OK","FAIL"),IF(U69="DN",IF(H69<=7,"OK","FAIL"))))))))) | U69: =IF(R69="15U","UP",IF(R69="7D","DN",IF(R69="9U","9U",IF(S69="B",11,""))))
B70: =IF(B69=0,"",B69) | C70: =IF(C69=0,"",C69) | D70: =IF(D69=0,"",D69) | F70: =IF(E70="","",VLOOKUP(E70,報名總表及收費!$I$29:$L$140,4)) | H70: =IF(D70="","", IF(D70=0,"",YEAR(NOW())-D70)) | J70: =IF(E70="","",IF(((VLOOKUP(E70,$L$25:$T$70,5))<G70),"報項時間慢於達標時間",""))&IF(T70="FAIL"," 運動員錯組別","")&IF(MOD(E70,2)=0,""," 項目編號為女子組") | Q70: =IF(O70="E",YEAR(NOW())-$Q$5,IF(O70="A",YEAR(NOW())-$O$5,IF(O70="B",YEAR(NOW())-$P$5,IF(O70=0,"",O70)))) | R70: =IF(E70=0,"",IF(MOD(E70,2)=1,"",VLOOKUP(E70,$L$24:$R$80,6,FALSE))) | S70: =IF(D70=0,"",VLOOKUP(E70,$L$24:$R$80,4,FALSE)) -> #N/A | T70: =IF(R70="","",IF(S70="A",IF(H70>=R70,"OK","FAIL"),IF(S70="E",IF(H70<=R70,"OK","FAIL"),IF(S70="B",IF(AND(H70<=R70,H70>=U70),"OK","FAIL"),IF(U70="",IF(H70=S70,"OK","FAIL"),IF(U70="9U",IF(H70<=9,"OK","FAIL"),IF(U70="UP",IF(H70>=15,"OK","FAIL"),IF(U70="DN",IF(H70<=7,"OK","FAIL"))))))))) | U70: =IF(R70="15U","UP",IF(R70="7D","DN",IF(R70="9U","9U",IF(S70="B",11,"")))) -> #N/A
B71: =IF(B70=0,"",B70) | C71: =IF(C70=0,"",C70) | D71: =IF(D70=0,"",D70) | F71: =IF(E71="","",VLOOKUP(E71,報名總表及收費!$I$29:$L$140,4)) | H71: =IF(D71="","", IF(D71=0,"",YEAR(NOW())-D71)) | J71: =IF(E71="","",IF(((VLOOKUP(E71,$L$25:$T$70,5))<G71),"報項時間慢於達標時間",""))&IF(T71="FAIL"," 運動員錯組別","")&IF(MOD(E71,2)=0,""," 項目編號為女子組") | Q71: =IF(O71="E",YEAR(NOW())-$Q$5,IF(O71="A",YEAR(NOW())-$O$5,IF(O71="B",YEAR(NOW())-$P$5,IF(O71=0,"",O71)))) | R71: =IF(E71=0,"",IF(MOD(E71,2)=1,"",VLOOKUP(E71,$L$24:$R$80,6,FALSE))) | S71: =IF(D71=0,"",VLOOKUP(E71,$L$24:$R$80,4,FALSE)) -> #N/A | T71: =IF(R71="","",IF(S71="A",IF(H71>=R71,"OK","FAIL"),IF(S71="E",IF(H71<=R71,"OK","FAIL"),IF(S71="B",IF(AND(H71<=R71,H71>=U71),"OK","FAIL"),IF(U71="",IF(H71=S71,"OK","FAIL"),IF(U71="9U",IF(H71<=9,"OK","FAIL"),IF(U71="UP",IF(H71>=15,"OK","FAIL"),IF(U71="DN",IF(H71<=7,"OK","FAIL"))))))))) | U71: =IF(R71="15U","UP",IF(R71="7D","DN",IF(R71="9U","9U",IF(S71="B",11,"")))) -> #N/A
B72: =IF(B71=0,"",B71) | C72: =IF(C71=0,"",C71) | D72: =IF(D71=0,"",D71) | F72: =IF(E72="","",VLOOKUP(E72,報名總表及收費!$I$29:$L$140,4)) | H72: =IF(D72="","", IF(D72=0,"",YEAR(NOW())-D72)) | J72: =IF(E72="","",IF(((VLOOKUP(E72,$L$25:$T$70,5))<G72),"報項時間慢於達標時間",""))&IF(T72="FAIL"," 運動員錯組別","")&IF(MOD(E72,2)=0,""," 項目編號為女子組") | Q72: =IF(O72="E",YEAR(NOW())-$Q$5,IF(O72="A",YEAR(NOW())-$O$5,IF(O72="B",YEAR(NOW())-$P$5,IF(O72=0,"",O72)))) | R72: =IF(E72=0,"",IF(MOD(E72,2)=1,"",VLOOKUP(E72,$L$24:$R$80,6,FALSE))) | S72: =IF(D72=0,"",VLOOKUP(E72,$L$24:$R$80,4,FALSE)) -> #N/A | T72: =IF(R72="","",IF(S72="A",IF(H72>=R72,"OK","FAIL"),IF(S72="E",IF(H72<=R72,"OK","FAIL"),IF(S72="B",IF(AND(H72<=R72,H72>=U72),"OK","FAIL"),IF(U72="",IF(H72=S72,"OK","FAIL"),IF(U72="9U",IF(H72<=9,"OK","FAIL"),IF(U72="UP",IF(H72>=15,"OK","FAIL"),IF(U72="DN",IF(H72<=7,"OK","FAIL"))))))))) | U72: =IF(R72="15U","UP",IF(R72="7D","DN",IF(R72="9U","9U",IF(S72="B",11,"")))) -> #N/A
A73: 男運動員 13 | F73: =IF(E73="","",VLOOKUP(E73,報名總表及收費!$I$29:$L$140,4)) | H73: =IF(D73="","", IF(D73=0,"",YEAR(NOW())-D73)) | J73: =IF(E73="","",IF(((VLOOKUP(E73,$L$25:$T$70,5))<G73),"報項時間慢於達標時間",""))&IF(T73="FAIL"," 運動員錯組別","")&IF(MOD(E73,2)=0,""," 項目編號為女子組") | Q73: =IF(O73="E",YEAR(NOW())-$Q$5,IF(O73="A",YEAR(NOW())-$O$5,IF(O73="B",YEAR(NOW())-$P$5,IF(O73=0,"",O73)))) | R73: =IF(E73=0,"",IF(MOD(E73,2)=1,"",VLOOKUP(E73,$L$24:$R$80,6,FALSE))) | S73: =IF(D73=0,"",VLOOKUP(E73,$L$24:$R$80,4,FALSE)) | T73: =IF(R73="","",IF(S73="A",IF(H73>=R73,"OK","FAIL"),IF(S73="E",IF(H73<=R73,"OK","FAIL"),IF(S73="B",IF(AND(H73<=R73,H73>=U73),"OK","FAIL"),IF(U73="",IF(H73=S73,"OK","FAIL"),IF(U73="9U",IF(H73<=9,"OK","FAIL"),IF(U73="UP",IF(H73>=15,"OK","FAIL"),IF(U73="DN",IF(H73<=7,"OK","FAIL"))))))))) | U73: =IF(R73="15U","UP",IF(R73="7D","DN",IF(R73="9U","9U",IF(S73="B",11,""))))
B74: =IF(B73=0,"",B73) | C74: =IF(C73=0,"",C73) | D74: =IF(D73=0,"",D73) | F74: =IF(E74="","",VLOOKUP(E74,報名總表及收費!$I$29:$L$140,4)) | H74: =IF(D74="","", IF(D74=0,"",YEAR(NOW())-D74)) | J74: =IF(E74="","",IF(((VLOOKUP(E74,$L$25:$T$70,5))<G74),"報項時間慢於達標時間",""))&IF(T74="FAIL"," 運動員錯組別","")&IF(MOD(E74,2)=0,""," 項目編號為女子組") | Q74: =IF(O74="E",YEAR(NOW())-$Q$5,IF(O74="A",YEAR(NOW())-$O$5,IF(O74="B",YEAR(NOW())-$P$5,IF(O74=0,"",O74)))) | R74: =IF(E74=0,"",IF(MOD(E74,2)=1,"",VLOOKUP(E74,$L$24:$R$80,6,FALSE))) | S74: =IF(D74=0,"",VLOOKUP(E74,$L$24:$R$80,4,FALSE)) -> #N/A | T74: =IF(R74="","",IF(S74="A",IF(H74>=R74,"OK","FAIL"),IF(S74="E",IF(H74<=R74,"OK","FAIL"),IF(S74="B",IF(AND(H74<=R74,H74>=U74),"OK","FAIL"),IF(U74="",IF(H74=S74,"OK","FAIL"),IF(U74="9U",IF(H74<=9,"OK","FAIL"),IF(U74="UP",IF(H74>=15,"OK","FAIL"),IF(U74="DN",IF(H74<=7,"OK","FAIL"))))))))) | U74: =IF(R74="15U","UP",IF(R74="7D","DN",IF(R74="9U","9U",IF(S74="B",11,"")))) -> #N/A
B75: =IF(B74=0,"",B74) | C75: =IF(C74=0,"",C74) | D75: =IF(D74=0,"",D74) | F75: =IF(E75="","",VLOOKUP(E75,報名總表及收費!$I$29:$L$140,4)) | H75: =IF(D75="","", IF(D75=0,"",YEAR(NOW())-D75)) | J75: =IF(E75="","",IF(((VLOOKUP(E75,$L$25:$T$70,5))<G75),"報項時間慢於達標時間",""))&IF(T75="FAIL"," 運動員錯組別","")&IF(MOD(E75,2)=0,""," 項目編號為女子組") | Q75: =IF(O75="E",YEAR(NOW())-$Q$5,IF(O75="A",YEAR(NOW())-$O$5,IF(O75="B",YEAR(NOW())-$P$5,IF(O75=0,"",O75)))) | R75: =IF(E75=0,"",IF(MOD(E75,2)=1,"",VLOOKUP(E75,$L$24:$R$80,6,FALSE))) | S75: =IF(D75=0,"",VLOOKUP(E75,$L$24:$R$80,4,FALSE)) -> #N/A | T75: =IF(R75="","",IF(S75="A",IF(H75>=R75,"OK","FAIL"),IF(S75="E",IF(H75<=R75,"OK","FAIL"),IF(S75="B",IF(AND(H75<=R75,H75>=U75),"OK","FAIL"),IF(U75="",IF(H75=S75,"OK","FAIL"),IF(U75="9U",IF(H75<=9,"OK","FAIL"),IF(U75="UP",IF(H75>=15,"OK","FAIL"),IF(U75="DN",IF(H75<=7,"OK","FAIL"))))))))) | U75: =IF(R75="15U","UP",IF(R75="7D","DN",IF(R75="9U","9U",IF(S75="B",11,"")))) -> #N/A
B76: =IF(B75=0,"",B75) | C76: =IF(C75=0,"",C75) | D76: =IF(D75=0,"",D75) | F76: =IF(E76="","",VLOOKUP(E76,報名總表及收費!$I$29:$L$140,4)) | H76: =IF(D76="","", IF(D76=0,"",YEAR(NOW())-D76)) | J76: =IF(E76="","",IF(((VLOOKUP(E76,$L$25:$T$70,5))<G76),"報項時間慢於達標時間",""))&IF(T76="FAIL"," 運動員錯組別","")&IF(MOD(E76,2)=0,""," 項目編號為女子組") | Q76: =IF(O76="E",YEAR(NOW())-$Q$5,IF(O76="A",YEAR(NOW())-$O$5,IF(O76="B",YEAR(NOW())-$P$5,IF(O76=0,"",O76)))) | R76: =IF(E76=0,"",IF(MOD(E76,2)=1,"",VLOOKUP(E76,$L$24:$R$80,6,FALSE))) | S76: =IF(D76=0,"",VLOOKUP(E76,$L$24:$R$80,4,FALSE)) -> #N/A | T76: =IF(R76="","",IF(S76="A",IF(H76>=R76,"OK","FAIL"),IF(S76="E",IF(H76<=R76,"OK","FAIL"),IF(S76="B",IF(AND(H76<=R76,H76>=U76),"OK","FAIL"),IF(U76="",IF(H76=S76,"OK","FAIL"),IF(U76="9U",IF(H76<=9,"OK","FAIL"),IF(U76="UP",IF(H76>=15,"OK","FAIL"),IF(U76="DN",IF(H76<=7,"OK","FAIL"))))))))) | U76: =IF(R76="15U","UP",IF(R76="7D","DN",IF(R76="9U","9U",IF(S76="B",11,"")))) -> #N/A
A77: 男運動員 14 | F77: =IF(E77="","",VLOOKUP(E77,報名總表及收費!$I$29:$L$140,4)) | H77: =IF(D77="","", IF(D77=0,"",YEAR(NOW())-D77)) | J77: =IF(E77="","",IF(((VLOOKUP(E77,$L$25:$T$70,5))<G77),"報項時間慢於達標時間",""))&IF(T77="FAIL"," 運動員錯組別","")&IF(MOD(E77,2)=0,""," 項目編號為女子組") | Q77: =IF(O77="E",YEAR(NOW())-$Q$5,IF(O77="A",YEAR(NOW())-$O$5,IF(O77="B",YEAR(NOW())-$P$5,IF(O77=0,"",O77)))) | R77: =IF(E77=0,"",IF(MOD(E77,2)=1,"",VLOOKUP(E77,$L$24:$R$80,6,FALSE))) | S77: =IF(D77=0,"",VLOOKUP(E77,$L$24:$R$80,4,FALSE)) | T77: =IF(R77="","",IF(S77="A",IF(H77>=R77,"OK","FAIL"),IF(S77="E",IF(H77<=R77,"OK","FAIL"),IF(S77="B",IF(AND(H77<=R77,H77>=U77),"OK","FAIL"),IF(U77="",IF(H77=S77,"OK","FAIL"),IF(U77="9U",IF(H77<=9,"OK","FAIL"),IF(U77="UP",IF(H77>=15,"OK","FAIL"),IF(U77="DN",IF(H77<=7,"OK","FAIL"))))))))) | U77: =IF(R77="15U","UP",IF(R77="7D","DN",IF(R77="9U","9U",IF(S77="B",11,""))))
B78: =IF(B77=0,"",B77) | C78: =IF(C77=0,"",C77) | D78: =IF(D77=0,"",D77) | F78: =IF(E78="","",VLOOKUP(E78,報名總表及收費!$I$29:$L$140,4)) | H78: =IF(D78="","", IF(D78=0,"",YEAR(NOW())-D78)) | J78: =IF(E78="","",IF(((VLOOKUP(E78,$L$25:$T$70,5))<G78),"報項時間慢於達標時間",""))&IF(T78="FAIL"," 運動員錯組別","")&IF(MOD(E78,2)=0,""," 項目編號為女子組") | Q78: =IF(O78="E",YEAR(NOW())-$Q$5,IF(O78="A",YEAR(NOW())-$O$5,IF(O78="B",YEAR(NOW())-$P$5,IF(O78=0,"",O78)))) | R78: =IF(E78=0,"",IF(MOD(E78,2)=1,"",VLOOKUP(E78,$L$24:$R$80,6,FALSE))) | S78: =IF(D78=0,"",VLOOKUP(E78,$L$24:$R$80,4,FALSE)) -> #N/A | T78: =IF(R78="","",IF(S78="A",IF(H78>=R78,"OK","FAIL"),IF(S78="E",IF(H78<=R78,"OK","FAIL"),IF(S78="B",IF(AND(H78<=R78,H78>=U78),"OK","FAIL"),IF(U78="",IF(H78=S78,"OK","FAIL"),IF(U78="9U",IF(H78<=9,"OK","FAIL"),IF(U78="UP",IF(H78>=15,"OK","FAIL"),IF(U78="DN",IF(H78<=7,"OK","FAIL"))))))))) | U78: =IF(R78="15U","UP",IF(R78="7D","DN",IF(R78="9U","9U",IF(S78="B",11,"")))) -> #N/A
B79: =IF(B78=0,"",B78) | C79: =IF(C78=0,"",C78) | D79: =IF(D78=0,"",D78) | F79: =IF(E79="","",VLOOKUP(E79,報名總表及收費!$I$29:$L$140,4)) | H79: =IF(D79="","", IF(D79=0,"",YEAR(NOW())-D79)) | J79: =IF(E79="","",IF(((VLOOKUP(E79,$L$25:$T$70,5))<G79),"報項時間慢於達標時間",""))&IF(T79="FAIL"," 運動員錯組別","")&IF(MOD(E79,2)=0,""," 項目編號為女子組") | Q79: =IF(O79="E",YEAR(NOW())-$Q$5,IF(O79="A",YEAR(NOW())-$O$5,IF(O79="B",YEAR(NOW())-$P$5,IF(O79=0,"",O79)))) | R79: =IF(E79=0,"",IF(MOD(E79,2)=1,"",VLOOKUP(E79,$L$24:$R$80,6,FALSE))) | S79: =IF(D79=0,"",VLOOKUP(E79,$L$24:$R$80,4,FALSE)) -> #N/A | T79: =IF(R79="","",IF(S79="A",IF(H79>=R79,"OK","FAIL"),IF(S79="E",IF(H79<=R79,"OK","FAIL"),IF(S79="B",IF(AND(H79<=R79,H79>=U79),"OK","FAIL"),IF(U79="",IF(H79=S79,"OK","FAIL"),IF(U79="9U",IF(H79<=9,"OK","FAIL"),IF(U79="UP",IF(H79>=15,"OK","FAIL"),IF(U79="DN",IF(H79<=7,"OK","FAIL"))))))))) | U79: =IF(R79="15U","UP",IF(R79="7D","DN",IF(R79="9U","9U",IF(S79="B",11,"")))) -> #N/A
B80: =IF(B79=0,"",B79) | C80: =IF(C79=0,"",C79) | D80: =IF(D79=0,"",D79) | F80: =IF(E80="","",VLOOKUP(E80,報名總表及收費!$I$29:$L$140,4)) | H80: =IF(D80="","", IF(D80=0,"",YEAR(NOW())-D80)) | J80: =IF(E80="","",IF(((VLOOKUP(E80,$L$25:$T$70,5))<G80),"報項時間慢於達標時間",""))&IF(T80="FAIL"," 運動員錯組別","")&IF(MOD(E80,2)=0,""," 項目編號為女子組") | Q80: =IF(O80="E",YEAR(NOW())-$Q$5,IF(O80="A",YEAR(NOW())-$O$5,IF(O80="B",YEAR(NOW())-$P$5,IF(O80=0,"",O80)))) | R80: =IF(E80=0,"",IF(MOD(E80,2)=1,"",VLOOKUP(E80,$L$24:$R$80,6,FALSE))) | S80: =IF(D80=0,"",VLOOKUP(E80,$L$24:$R$80,4,FALSE)) -> #N/A | T80: =IF(R80="","",IF(S80="A",IF(H80>=R80,"OK","FAIL"),IF(S80="E",IF(H80<=R80,"OK","FAIL"),IF(S80="B",IF(AND(H80<=R80,H80>=U80),"OK","FAIL"),IF(U80="",IF(H80=S80,"OK","FAIL"),IF(U80="9U",IF(H80<=9,"OK","FAIL"),IF(U80="UP",IF(H80>=15,"OK","FAIL"),IF(U80="DN",IF(H80<=7,"OK","FAIL"))))))))) | U80: =IF(R80="15U","UP",IF(R80="7D","DN",IF(R80="9U","9U",IF(S80="B",11,"")))) -> #N/A
A81: 男運動員 15 | F81: =IF(E81="","",VLOOKUP(E81,報名總表及收費!$I$29:$L$140,4)) | H81: =IF(D81="","", IF(D81=0,"",YEAR(NOW())-D81)) | J81: =IF(E81="","",IF(((VLOOKUP(E81,$L$25:$T$70,5))<G81),"報項時間慢於達標時間",""))&IF(T81="FAIL"," 運動員錯組別","")&IF(MOD(E81,2)=0,""," 項目編號為女子組") | Q81: =IF(O81="E",YEAR(NOW())-$Q$5,IF(O81="A",YEAR(NOW())-$O$5,IF(O81="B",YEAR(NOW())-$P$5,IF(O81=0,"",O81)))) | R81: =IF(E81=0,"",IF(MOD(E81,2)=1,"",VLOOKUP(E81,$L$24:$R$80,6,FALSE))) | S81: =IF(D81=0,"",VLOOKUP(E81,$L$24:$R$80,4,FALSE)) | T81: =IF(R81="","",IF(S81="A",IF(H81>=R81,"OK","FAIL"),IF(S81="E",IF(H81<=R81,"OK","FAIL"),IF(S81="B",IF(AND(H81<=R81,H81>=U81),"OK","FAIL"),IF(U81="",IF(H81=S81,"OK","FAIL"),IF(U81="9U",IF(H81<=9,"OK","FAIL"),IF(U81="UP",IF(H81>=15,"OK","FAIL"),IF(U81="DN",IF(H81<=7,"OK","FAIL"))))))))) | U81: =IF(R81="15U","UP",IF(R81="7D","DN",IF(R81="9U","9U",IF(S81="B",11,""))))
B82: =IF(B81=0,"",B81) | C82: =IF(C81=0,"",C81) | D82: =IF(D81=0,"",D81) | F82: =IF(E82="","",VLOOKUP(E82,報名總表及收費!$I$29:$L$140,4)) | H82: =IF(D82="","", IF(D82=0,"",YEAR(NOW())-D82)) | J82: =IF(E82="","",IF(((VLOOKUP(E82,$L$25:$T$70,5))<G82),"報項時間慢於達標時間",""))&IF(T82="FAIL"," 運動員錯組別","")&IF(MOD(E82,2)=0,""," 項目編號為女子組") | Q82: =IF(O82="E",YEAR(NOW())-$Q$5,IF(O82="A",YEAR(NOW())-$O$5,IF(O82="B",YEAR(NOW())-$P$5,IF(O82=0,"",O82)))) | R82: =IF(E82=0,"",IF(MOD(E82,2)=1,"",VLOOKUP(E82,$L$24:$R$80,6,FALSE))) | S82: =IF(D82=0,"",VLOOKUP(E82,$L$24:$R$80,4,FALSE)) -> #N/A | T82: =IF(R82="","",IF(S82="A",IF(H82>=R82,"OK","FAIL"),IF(S82="E",IF(H82<=R82,"OK","FAIL"),IF(S82="B",IF(AND(H82<=R82,H82>=U82),"OK","FAIL"),IF(U82="",IF(H82=S82,"OK","FAIL"),IF(U82="9U",IF(H82<=9,"OK","FAIL"),IF(U82="UP",IF(H82>=15,"OK","FAIL"),IF(U82="DN",IF(H82<=7,"OK","FAIL"))))))))) | U82: =IF(R82="15U","UP",IF(R82="7D","DN",IF(R82="9U","9U",IF(S82="B",11,"")))) -> #N/A
B83: =IF(B82=0,"",B82) | C83: =IF(C82=0,"",C82) | D83: =IF(D82=0,"",D82) | F83: =IF(E83="","",VLOOKUP(E83,報名總表及收費!$I$29:$L$140,4)) | H83: =IF(D83="","", IF(D83=0,"",YEAR(NOW())-D83)) | J83: =IF(E83="","",IF(((VLOOKUP(E83,$L$25:$T$70,5))<G83),"報項時間慢於達標時間",""))&IF(T83="FAIL"," 運動員錯組別","")&IF(MOD(E83,2)=0,""," 項目編號為女子組") | Q83: =IF(O83="E",YEAR(NOW())-$Q$5,IF(O83="A",YEAR(NOW())-$O$5,IF(O83="B",YEAR(NOW())-$P$5,IF(O83=0,"",O83)))) | R83: =IF(E83=0,"",IF(MOD(E83,2)=1,"",VLOOKUP(E83,$L$24:$R$80,6,FALSE))) | S83: =IF(D83=0,"",VLOOKUP(E83,$L$24:$R$80,4,FALSE)) -> #N/A | T83: =IF(R83="","",IF(S83="A",IF(H83>=R83,"OK","FAIL"),IF(S83="E",IF(H83<=R83,"OK","FAIL"),IF(S83="B",IF(AND(H83<=R83,H83>=U83),"OK","FAIL"),IF(U83="",IF(H83=S83,"OK","FAIL"),IF(U83="9U",IF(H83<=9,"OK","FAIL"),IF(U83="UP",IF(H83>=15,"OK","FAIL"),IF(U83="DN",IF(H83<=7,"OK","FAIL"))))))))) | U83: =IF(R83="15U","UP",IF(R83="7D","DN",IF(R83="9U","9U",IF(S83="B",11,"")))) -> #N/A
B84: =IF(B83=0,"",B83) | C84: =IF(C83=0,"",C83) | D84: =IF(D83=0,"",D83) | F84: =IF(E84="","",VLOOKUP(E84,報名總表及收費!$I$29:$L$140,4)) | H84: =IF(D84="","", IF(D84=0,"",YEAR(NOW())-D84)) | J84: =IF(E84="","",IF(((VLOOKUP(E84,$L$25:$T$70,5))<G84),"報項時間慢於達標時間",""))&IF(T84="FAIL"," 運動員錯組別","")&IF(MOD(E84,2)=0,""," 項目編號為女子組") | Q84: =IF(O84="E",YEAR(NOW())-$Q$5,IF(O84="A",YEAR(NOW())-$O$5,IF(O84="B",YEAR(NOW())-$P$5,IF(O84=0,"",O84)))) | R84: =IF(E84=0,"",IF(MOD(E84,2)=1,"",VLOOKUP(E84,$L$24:$R$80,6,FALSE))) | S84: =IF(D84=0,"",VLOOKUP(E84,$L$24:$R$80,4,FALSE)) -> #N/A | T84: =IF(R84="","",IF(S84="A",IF(H84>=R84,"OK","FAIL"),IF(S84="E",IF(H84<=R84,"OK","FAIL"),IF(S84="B",IF(AND(H84<=R84,H84>=U84),"OK","FAIL"),IF(U84="",IF(H84=S84,"OK","FAIL"),IF(U84="9U",IF(H84<=9,"OK","FAIL"),IF(U84="UP",IF(H84>=15,"OK","FAIL"),IF(U84="DN",IF(H84<=7,"OK","FAIL"))))))))) | U84: =IF(R84="15U","UP",IF(R84="7D","DN",IF(R84="9U","9U",IF(S84="B",11,"")))) -> #N/A
A85: 男運動員 16 | F85: =IF(E85="","",VLOOKUP(E85,報名總表及收費!$I$29:$L$140,4)) | H85: =IF(D85="","", IF(D85=0,"",YEAR(NOW())-D85)) | J85: =IF(E85="","",IF(((VLOOKUP(E85,$L$25:$T$70,5))<G85),"報項時間慢於達標時間",""))&IF(T85="FAIL"," 運動員錯組別","")&IF(MOD(E85,2)=0,""," 項目編號為女子組") | Q85: =IF(O85="E",YEAR(NOW())-$Q$5,IF(O85="A",YEAR(NOW())-$O$5,IF(O85="B",YEAR(NOW())-$P$5,IF(O85=0,"",O85)))) | R85: =IF(E85=0,"",IF(MOD(E85,2)=1,"",VLOOKUP(E85,$L$24:$R$80,6,FALSE))) | S85: =IF(D85=0,"",VLOOKUP(E85,$L$24:$R$80,4,FALSE)) | T85: =IF(R85="","",IF(S85="A",IF(H85>=R85,"OK","FAIL"),IF(S85="E",IF(H85<=R85,"OK","FAIL"),IF(S85="B",IF(AND(H85<=R85,H85>=U85),"OK","FAIL"),IF(U85="",IF(H85=S85,"OK","FAIL"),IF(U85="9U",IF(H85<=9,"OK","FAIL"),IF(U85="UP",IF(H85>=15,"OK","FAIL"),IF(U85="DN",IF(H85<=7,"OK","FAIL"))))))))) | U85: =IF(R85="15U","UP",IF(R85="7D","DN",IF(R85="9U","9U",IF(S85="B",11,""))))
B86: =IF(B85=0,"",B85) | C86: =IF(C85=0,"",C85) | D86: =IF(D85=0,"",D85) | F86: =IF(E86="","",VLOOKUP(E86,報名總表及收費!$I$29:$L$140,4)) | H86: =IF(D86="","", IF(D86=0,"",YEAR(NOW())-D86)) | J86: =IF(E86="","",IF(((VLOOKUP(E86,$L$25:$T$70,5))<G86),"報項時間慢於達標時間",""))&IF(T86="FAIL"," 運動員錯組別","")&IF(MOD(E86,2)=0,""," 項目編號為女子組") | Q86: =IF(O86="E",YEAR(NOW())-$Q$5,IF(O86="A",YEAR(NOW())-$O$5,IF(O86="B",YEAR(NOW())-$P$5,IF(O86=0,"",O86)))) | R86: =IF(E86=0,"",IF(MOD(E86,2)=1,"",VLOOKUP(E86,$L$24:$R$80,6,FALSE))) | S86: =IF(D86=0,"",VLOOKUP(E86,$L$24:$R$80,4,FALSE)) -> #N/A | T86: =IF(R86="","",IF(S86="A",IF(H86>=R86,"OK","FAIL"),IF(S86="E",IF(H86<=R86,"OK","FAIL"),IF(S86="B",IF(AND(H86<=R86,H86>=U86),"OK","FAIL"),IF(U86="",IF(H86=S86,"OK","FAIL"),IF(U86="9U",IF(H86<=9,"OK","FAIL"),IF(U86="UP",IF(H86>=15,"OK","FAIL"),IF(U86="DN",IF(H86<=7,"OK","FAIL"))))))))) | U86: =IF(R86="15U","UP",IF(R86="7D","DN",IF(R86="9U","9U",IF(S86="B",11,"")))) -> #N/A
B87: =IF(B86=0,"",B86) | C87: =IF(C86=0,"",C86) | D87: =IF(D86=0,"",D86) | F87: =IF(E87="","",VLOOKUP(E87,報名總表及收費!$I$29:$L$140,4)) | H87: =IF(D87="","", IF(D87=0,"",YEAR(NOW())-D87)) | J87: =IF(E87="","",IF(((VLOOKUP(E87,$L$25:$T$70,5))<G87),"報項時間慢於達標時間",""))&IF(T87="FAIL"," 運動員錯組別","")&IF(MOD(E87,2)=0,""," 項目編號為女子組") | Q87: =IF(O87="E",YEAR(NOW())-$Q$5,IF(O87="A",YEAR(NOW())-$O$5,IF(O87="B",YEAR(NOW())-$P$5,IF(O87=0,"",O87)))) | R87: =IF(E87=0,"",IF(MOD(E87,2)=1,"",VLOOKUP(E87,$L$24:$R$80,6,FALSE))) | S87: =IF(D87=0,"",VLOOKUP(E87,$L$24:$R$80,4,FALSE)) -> #N/A | T87: =IF(R87="","",IF(S87="A",IF(H87>=R87,"OK","FAIL"),IF(S87="E",IF(H87<=R87,"OK","FAIL"),IF(S87="B",IF(AND(H87<=R87,H87>=U87),"OK","FAIL"),IF(U87="",IF(H87=S87,"OK","FAIL"),IF(U87="9U",IF(H87<=9,"OK","FAIL"),IF(U87="UP",IF(H87>=15,"OK","FAIL"),IF(U87="DN",IF(H87<=7,"OK","FAIL"))))))))) | U87: =IF(R87="15U","UP",IF(R87="7D","DN",IF(R87="9U","9U",IF(S87="B",11,"")))) -> #N/A
B88: =IF(B87=0,"",B87) | C88: =IF(C87=0,"",C87) | D88: =IF(D87=0,"",D87) | F88: =IF(E88="","",VLOOKUP(E88,報名總表及收費!$I$29:$L$140,4)) | H88: =IF(D88="","", IF(D88=0,"",YEAR(NOW())-D88)) | J88: =IF(E88="","",IF(((VLOOKUP(E88,$L$25:$T$70,5))<G88),"報項時間慢於達標時間",""))&IF(T88="FAIL"," 運動員錯組別","")&IF(MOD(E88,2)=0,""," 項目編號為女子組") | Q88: =IF(O88="E",YEAR(NOW())-$Q$5,IF(O88="A",YEAR(NOW())-$O$5,IF(O88="B",YEAR(NOW())-$P$5,IF(O88=0,"",O88)))) | R88: =IF(E88=0,"",IF(MOD(E88,2)=1,"",VLOOKUP(E88,$L$24:$R$80,6,FALSE))) | S88: =IF(D88=0,"",VLOOKUP(E88,$L$24:$R$80,4,FALSE)) -> #N/A | T88: =IF(R88="","",IF(S88="A",IF(H88>=R88,"OK","FAIL"),IF(S88="E",IF(H88<=R88,"OK","FAIL"),IF(S88="B",IF(AND(H88<=R88,H88>=U88),"OK","FAIL"),IF(U88="",IF(H88=S88,"OK","FAIL"),IF(U88="9U",IF(H88<=9,"OK","FAIL"),IF(U88="UP",IF(H88>=15,"OK","FAIL"),IF(U88="DN",IF(H88<=7,"OK","FAIL"))))))))) | U88: =IF(R88="15U","UP",IF(R88="7D","DN",IF(R88="9U","9U",IF(S88="B",11,"")))) -> #N/A
A89: 男運動員 17 | F89: =IF(E89="","",VLOOKUP(E89,報名總表及收費!$I$29:$L$140,4)) | H89: =IF(D89="","", IF(D89=0,"",YEAR(NOW())-D89)) | J89: =IF(E89="","",IF(((VLOOKUP(E89,$L$25:$T$70,5))<G89),"報項時間慢於達標時間",""))&IF(T89="FAIL"," 運動員錯組別","")&IF(MOD(E89,2)=0,""," 項目編號為女子組") | Q89: =IF(O89="E",YEAR(NOW())-$Q$5,IF(O89="A",YEAR(NOW())-$O$5,IF(O89="B",YEAR(NOW())-$P$5,IF(O89=0,"",O89)))) | R89: =IF(E89=0,"",IF(MOD(E89,2)=1,"",VLOOKUP(E89,$L$24:$R$80,6,FALSE))) | S89: =IF(D89=0,"",VLOOKUP(E89,$L$24:$R$80,4,FALSE)) | T89: =IF(R89="","",IF(S89="A",IF(H89>=R89,"OK","FAIL"),IF(S89="E",IF(H89<=R89,"OK","FAIL"),IF(S89="B",IF(AND(H89<=R89,H89>=U89),"OK","FAIL"),IF(U89="",IF(H89=S89,"OK","FAIL"),IF(U89="9U",IF(H89<=9,"OK","FAIL"),IF(U89="UP",IF(H89>=15,"OK","FAIL"),IF(U89="DN",IF(H89<=7,"OK","FAIL"))))))))) | U89: =IF(R89="15U","UP",IF(R89="7D","DN",IF(R89="9U","9U",IF(S89="B",11,""))))
B90: =IF(B89=0,"",B89) | C90: =IF(C89=0,"",C89) | D90: =IF(D89=0,"",D89) | F90: =IF(E90="","",VLOOKUP(E90,報名總表及收費!$I$29:$L$140,4)) | H90: =IF(D90="","", IF(D90=0,"",YEAR(NOW())-D90)) | J90: =IF(E90="","",IF(((VLOOKUP(E90,$L$25:$T$70,5))<G90),"報項時間慢於達標時間",""))&IF(T90="FAIL"," 運動員錯組別","")&IF(MOD(E90,2)=0,""," 項目編號為女子組") | Q90: =IF(O90="E",YEAR(NOW())-$Q$5,IF(O90="A",YEAR(NOW())-$O$5,IF(O90="B",YEAR(NOW())-$P$5,IF(O90=0,"",O90)))) | R90: =IF(E90=0,"",IF(MOD(E90,2)=1,"",VLOOKUP(E90,$L$24:$R$80,6,FALSE))) | S90: =IF(D90=0,"",VLOOKUP(E90,$L$24:$R$80,4,FALSE)) -> #N/A | T90: =IF(R90="","",IF(S90="A",IF(H90>=R90,"OK","FAIL"),IF(S90="E",IF(H90<=R90,"OK","FAIL"),IF(S90="B",IF(AND(H90<=R90,H90>=U90),"OK","FAIL"),IF(U90="",IF(H90=S90,"OK","FAIL"),IF(U90="9U",IF(H90<=9,"OK","FAIL"),IF(U90="UP",IF(H90>=15,"OK","FAIL"),IF(U90="DN",IF(H90<=7,"OK","FAIL"))))))))) | U90: =IF(R90="15U","UP",IF(R90="7D","DN",IF(R90="9U","9U",IF(S90="B",11,"")))) -> #N/A
B91: =IF(B90=0,"",B90) | C91: =IF(C90=0,"",C90) | D91: =IF(D90=0,"",D90) | F91: =IF(E91="","",VLOOKUP(E91,報名總表及收費!$I$29:$L$140,4)) | H91: =IF(D91="","", IF(D91=0,"",YEAR(NOW())-D91)) | J91: =IF(E91="","",IF(((VLOOKUP(E91,$L$25:$T$70,5))<G91),"報項時間慢於達標時間",""))&IF(T91="FAIL"," 運動員錯組別","")&IF(MOD(E91,2)=0,""," 項目編號為女子組") | Q91: =IF(O91="E",YEAR(NOW())-$Q$5,IF(O91="A",YEAR(NOW())-$O$5,IF(O91="B",YEAR(NOW())-$P$5,IF(O91=0,"",O91)))) | R91: =IF(E91=0,"",IF(MOD(E91,2)=1,"",VLOOKUP(E91,$L$24:$R$80,6,FALSE))) | S91: =IF(D91=0,"",VLOOKUP(E91,$L$24:$R$80,4,FALSE)) -> #N/A | T91: =IF(R91="","",IF(S91="A",IF(H91>=R91,"OK","FAIL"),IF(S91="E",IF(H91<=R91,"OK","FAIL"),IF(S91="B",IF(AND(H91<=R91,H91>=U91),"OK","FAIL"),IF(U91="",IF(H91=S91,"OK","FAIL"),IF(U91="9U",IF(H91<=9,"OK","FAIL"),IF(U91="UP",IF(H91>=15,"OK","FAIL"),IF(U91="DN",IF(H91<=7,"OK","FAIL"))))))))) | U91: =IF(R91="15U","UP",IF(R91="7D","DN",IF(R91="9U","9U",IF(S91="B",11,"")))) -> #N/A
B92: =IF(B91=0,"",B91) | C92: =IF(C91=0,"",C91) | D92: =IF(D91=0,"",D91) | F92: =IF(E92="","",VLOOKUP(E92,報名總表及收費!$I$29:$L$140,4)) | H92: =IF(D92="","", IF(D92=0,"",YEAR(NOW())-D92)) | J92: =IF(E92="","",IF(((VLOOKUP(E92,$L$25:$T$70,5))<G92),"報項時間慢於達標時間",""))&IF(T92="FAIL"," 運動員錯組別","")&IF(MOD(E92,2)=0,""," 項目編號為女子組") | Q92: =IF(O92="E",YEAR(NOW())-$Q$5,IF(O92="A",YEAR(NOW())-$O$5,IF(O92="B",YEAR(NOW())-$P$5,IF(O92=0,"",O92)))) | R92: =IF(E92=0,"",IF(MOD(E92,2)=1,"",VLOOKUP(E92,$L$24:$R$80,6,FALSE))) | S92: =IF(D92=0,"",VLOOKUP(E92,$L$24:$R$80,4,FALSE)) -> #N/A | T92: =IF(R92="","",IF(S92="A",IF(H92>=R92,"OK","FAIL"),IF(S92="E",IF(H92<=R92,"OK","FAIL"),IF(S92="B",IF(AND(H92<=R92,H92>=U92),"OK","FAIL"),IF(U92="",IF(H92=S92,"OK","FAIL"),IF(U92="9U",IF(H92<=9,"OK","FAIL"),IF(U92="UP",IF(H92>=15,"OK","FAIL"),IF(U92="DN",IF(H92<=7,"OK","FAIL"))))))))) | U92: =IF(R92="15U","UP",IF(R92="7D","DN",IF(R92="9U","9U",IF(S92="B",11,"")))) -> #N/A
A93: 男運動員 18 | F93: =IF(E93="","",VLOOKUP(E93,報名總表及收費!$I$29:$L$140,4)) | H93: =IF(D93="","", IF(D93=0,"",YEAR(NOW())-D93)) | J93: =IF(E93="","",IF(((VLOOKUP(E93,$L$25:$T$70,5))<G93),"報項時間慢於達標時間",""))&IF(T93="FAIL"," 運動員錯組別","")&IF(MOD(E93,2)=0,""," 項目編號為女子組") | Q93: =IF(O93="E",YEAR(NOW())-$Q$5,IF(O93="A",YEAR(NOW())-$O$5,IF(O93="B",YEAR(NOW())-$P$5,IF(O93=0,"",O93)))) | R93: =IF(E93=0,"",IF(MOD(E93,2)=1,"",VLOOKUP(E93,$L$24:$R$80,6,FALSE))) | S93: =IF(D93=0,"",VLOOKUP(E93,$L$24:$R$80,4,FALSE)) | T93: =IF(R93="","",IF(S93="A",IF(H93>=R93,"OK","FAIL"),IF(S93="E",IF(H93<=R93,"OK","FAIL"),IF(S93="B",IF(AND(H93<=R93,H93>=U93),"OK","FAIL"),IF(U93="",IF(H93=S93,"OK","FAIL"),IF(U93="9U",IF(H93<=9,"OK","FAIL"),IF(U93="UP",IF(H93>=15,"OK","FAIL"),IF(U93="DN",IF(H93<=7,"OK","FAIL"))))))))) | U93: =IF(R93="15U","UP",IF(R93="7D","DN",IF(R93="9U","9U",IF(S93="B",11,""))))
B94: =IF(B93=0,"",B93) | C94: =IF(C93=0,"",C93) | D94: =IF(D93=0,"",D93) | F94: =IF(E94="","",VLOOKUP(E94,報名總表及收費!$I$29:$L$140,4)) | H94: =IF(D94="","", IF(D94=0,"",YEAR(NOW())-D94)) | J94: =IF(E94="","",IF(((VLOOKUP(E94,$L$25:$T$70,5))<G94),"報項時間慢於達標時間",""))&IF(T94="FAIL"," 運動員錯組別","")&IF(MOD(E94,2)=0,""," 項目編號為女子組") | Q94: =IF(O94="E",YEAR(NOW())-$Q$5,IF(O94="A",YEAR(NOW())-$O$5,IF(O94="B",YEAR(NOW())-$P$5,IF(O94=0,"",O94)))) | R94: =IF(E94=0,"",IF(MOD(E94,2)=1,"",VLOOKUP(E94,$L$24:$R$80,6,FALSE))) | S94: =IF(D94=0,"",VLOOKUP(E94,$L$24:$R$80,4,FALSE)) -> #N/A | T94: =IF(R94="","",IF(S94="A",IF(H94>=R94,"OK","FAIL"),IF(S94="E",IF(H94<=R94,"OK","FAIL"),IF(S94="B",IF(AND(H94<=R94,H94>=U94),"OK","FAIL"),IF(U94="",IF(H94=S94,"OK","FAIL"),IF(U94="9U",IF(H94<=9,"OK","FAIL"),IF(U94="UP",IF(H94>=15,"OK","FAIL"),IF(U94="DN",IF(H94<=7,"OK","FAIL"))))))))) | U94: =IF(R94="15U","UP",IF(R94="7D","DN",IF(R94="9U","9U",IF(S94="B",11,"")))) -> #N/A
B95: =IF(B94=0,"",B94) | C95: =IF(C94=0,"",C94) | D95: =IF(D94=0,"",D94) | F95: =IF(E95="","",VLOOKUP(E95,報名總表及收費!$I$29:$L$140,4)) | H95: =IF(D95="","", IF(D95=0,"",YEAR(NOW())-D95)) | J95: =IF(E95="","",IF(((VLOOKUP(E95,$L$25:$T$70,5))<G95),"報項時間慢於達標時間",""))&IF(T95="FAIL"," 運動員錯組別","")&IF(MOD(E95,2)=0,""," 項目編號為女子組") | Q95: =IF(O95="E",YEAR(NOW())-$Q$5,IF(O95="A",YEAR(NOW())-$O$5,IF(O95="B",YEAR(NOW())-$P$5,IF(O95=0,"",O95)))) | R95: =IF(E95=0,"",IF(MOD(E95,2)=1,"",VLOOKUP(E95,$L$24:$R$80,6,FALSE))) | S95: =IF(D95=0,"",VLOOKUP(E95,$L$24:$R$80,4,FALSE)) -> #N/A | T95: =IF(R95="","",IF(S95="A",IF(H95>=R95,"OK","FAIL"),IF(S95="E",IF(H95<=R95,"OK","FAIL"),IF(S95="B",IF(AND(H95<=R95,H95>=U95),"OK","FAIL"),IF(U95="",IF(H95=S95,"OK","FAIL"),IF(U95="9U",IF(H95<=9,"OK","FAIL"),IF(U95="UP",IF(H95>=15,"OK","FAIL"),IF(U95="DN",IF(H95<=7,"OK","FAIL"))))))))) | U95: =IF(R95="15U","UP",IF(R95="7D","DN",IF(R95="9U","9U",IF(S95="B",11,"")))) -> #N/A
B96: =IF(B95=0,"",B95) | C96: =IF(C95=0,"",C95) | D96: =IF(D95=0,"",D95) | F96: =IF(E96="","",VLOOKUP(E96,報名總表及收費!$I$29:$L$140,4)) | H96: =IF(D96="","", IF(D96=0,"",YEAR(NOW())-D96)) | J96: =IF(E96="","",IF(((VLOOKUP(E96,$L$25:$T$70,5))<G96),"報項時間慢於達標時間",""))&IF(T96="FAIL"," 運動員錯組別","")&IF(MOD(E96,2)=0,""," 項目編號為女子組") | Q96: =IF(O96="E",YEAR(NOW())-$Q$5,IF(O96="A",YEAR(NOW())-$O$5,IF(O96="B",YEAR(NOW())-$P$5,IF(O96=0,"",O96)))) | R96: =IF(E96=0,"",IF(MOD(E96,2)=1,"",VLOOKUP(E96,$L$24:$R$80,6,FALSE))) | S96: =IF(D96=0,"",VLOOKUP(E96,$L$24:$R$80,4,FALSE)) -> #N/A | T96: =IF(R96="","",IF(S96="A",IF(H96>=R96,"OK","FAIL"),IF(S96="E",IF(H96<=R96,"OK","FAIL"),IF(S96="B",IF(AND(H96<=R96,H96>=U96),"OK","FAIL"),IF(U96="",IF(H96=S96,"OK","FAIL"),IF(U96="9U",IF(H96<=9,"OK","FAIL"),IF(U96="UP",IF(H96>=15,"OK","FAIL"),IF(U96="DN",IF(H96<=7,"OK","FAIL"))))))))) | U96: =IF(R96="15U","UP",IF(R96="7D","DN",IF(R96="9U","9U",IF(S96="B",11,"")))) -> #N/A
A97: 男運動員 19 | F97: =IF(E97="","",VLOOKUP(E97,報名總表及收費!$I$29:$L$140,4)) | H97: =IF(D97="","", IF(D97=0,"",YEAR(NOW())-D97)) | J97: =IF(E97="","",IF(((VLOOKUP(E97,$L$25:$T$70,5))<G97),"報項時間慢於達標時間",""))&IF(T97="FAIL"," 運動員錯組別","")&IF(MOD(E97,2)=0,""," 項目編號為女子組") | Q97: =IF(O97="E",YEAR(NOW())-$Q$5,IF(O97="A",YEAR(NOW())-$O$5,IF(O97="B",YEAR(NOW())-$P$5,IF(O97=0,"",O97)))) | R97: =IF(E97=0,"",IF(MOD(E97,2)=1,"",VLOOKUP(E97,$L$24:$R$80,6,FALSE))) | S97: =IF(D97=0,"",VLOOKUP(E97,$L$24:$R$80,4,FALSE)) | T97: =IF(R97="","",IF(S97="A",IF(H97>=R97,"OK","FAIL"),IF(S97="E",IF(H97<=R97,"OK","FAIL"),IF(S97="B",IF(AND(H97<=R97,H97>=U97),"OK","FAIL"),IF(U97="",IF(H97=S97,"OK","FAIL"),IF(U97="9U",IF(H97<=9,"OK","FAIL"),IF(U97="UP",IF(H97>=15,"OK","FAIL"),IF(U97="DN",IF(H97<=7,"OK","FAIL"))))))))) | U97: =IF(R97="15U","UP",IF(R97="7D","DN",IF(R97="9U","9U",IF(S97="B",11,""))))
B98: =IF(B97=0,"",B97) | C98: =IF(C97=0,"",C97) | D98: =IF(D97=0,"",D97) | F98: =IF(E98="","",VLOOKUP(E98,報名總表及收費!$I$29:$L$140,4)) | H98: =IF(D98="","", IF(D98=0,"",YEAR(NOW())-D98)) | J98: =IF(E98="","",IF(((VLOOKUP(E98,$L$25:$T$70,5))<G98),"報項時間慢於達標時間",""))&IF(T98="FAIL"," 運動員錯組別","")&IF(MOD(E98,2)=0,""," 項目編號為女子組") | Q98: =IF(O98="E",YEAR(NOW())-$Q$5,IF(O98="A",YEAR(NOW())-$O$5,IF(O98="B",YEAR(NOW())-$P$5,IF(O98=0,"",O98)))) | R98: =IF(E98=0,"",IF(MOD(E98,2)=1,"",VLOOKUP(E98,$L$24:$R$80,6,FALSE))) | S98: =IF(D98=0,"",VLOOKUP(E98,$L$24:$R$80,4,FALSE)) -> #N/A | T98: =IF(R98="","",IF(S98="A",IF(H98>=R98,"OK","FAIL"),IF(S98="E",IF(H98<=R98,"OK","FAIL"),IF(S98="B",IF(AND(H98<=R98,H98>=U98),"OK","FAIL"),IF(U98="",IF(H98=S98,"OK","FAIL"),IF(U98="9U",IF(H98<=9,"OK","FAIL"),IF(U98="UP",IF(H98>=15,"OK","FAIL"),IF(U98="DN",IF(H98<=7,"OK","FAIL"))))))))) | U98: =IF(R98="15U","UP",IF(R98="7D","DN",IF(R98="9U","9U",IF(S98="B",11,"")))) -> #N/A
B99: =IF(B98=0,"",B98) | C99: =IF(C98=0,"",C98) | D99: =IF(D98=0,"",D98) | F99: =IF(E99="","",VLOOKUP(E99,報名總表及收費!$I$29:$L$140,4)) | H99: =IF(D99="","", IF(D99=0,"",YEAR(NOW())-D99)) | J99: =IF(E99="","",IF(((VLOOKUP(E99,$L$25:$T$70,5))<G99),"報項時間慢於達標時間",""))&IF(T99="FAIL"," 運動員錯組別","")&IF(MOD(E99,2)=0,""," 項目編號為女子組") | Q99: =IF(O99="E",YEAR(NOW())-$Q$5,IF(O99="A",YEAR(NOW())-$O$5,IF(O99="B",YEAR(NOW())-$P$5,IF(O99=0,"",O99)))) | R99: =IF(E99=0,"",IF(MOD(E99,2)=1,"",VLOOKUP(E99,$L$24:$R$80,6,FALSE))) | S99: =IF(D99=0,"",VLOOKUP(E99,$L$24:$R$80,4,FALSE)) -> #N/A | T99: =IF(R99="","",IF(S99="A",IF(H99>=R99,"OK","FAIL"),IF(S99="E",IF(H99<=R99,"OK","FAIL"),IF(S99="B",IF(AND(H99<=R99,H99>=U99),"OK","FAIL"),IF(U99="",IF(H99=S99,"OK","FAIL"),IF(U99="9U",IF(H99<=9,"OK","FAIL"),IF(U99="UP",IF(H99>=15,"OK","FAIL"),IF(U99="DN",IF(H99<=7,"OK","FAIL"))))))))) | U99: =IF(R99="15U","UP",IF(R99="7D","DN",IF(R99="9U","9U",IF(S99="B",11,"")))) -> #N/A
B100: =IF(B99=0,"",B99) | C100: =IF(C99=0,"",C99) | D100: =IF(D99=0,"",D99) | F100: =IF(E100="","",VLOOKUP(E100,報名總表及收費!$I$29:$L$140,4)) | H100: =IF(D100="","", IF(D100=0,"",YEAR(NOW())-D100)) | J100: =IF(E100="","",IF(((VLOOKUP(E100,$L$25:$T$70,5))<G100),"報項時間慢於達標時間",""))&IF(T100="FAIL"," 運動員錯組別","")&IF(MOD(E100,2)=0,""," 項目編號為女子組") | Q100: =IF(O100="E",YEAR(NOW())-$Q$5,IF(O100="A",YEAR(NOW())-$O$5,IF(O100="B",YEAR(NOW())-$P$5,IF(O100=0,"",O100)))) | R100: =IF(E100=0,"",IF(MOD(E100,2)=1,"",VLOOKUP(E100,$L$24:$R$80,6,FALSE))) | S100: =IF(D100=0,"",VLOOKUP(E100,$L$24:$R$80,4,FALSE)) -> #N/A | T100: =IF(R100="","",IF(S100="A",IF(H100>=R100,"OK","FAIL"),IF(S100="E",IF(H100<=R100,"OK","FAIL"),IF(S100="B",IF(AND(H100<=R100,H100>=U100),"OK","FAIL"),IF(U100="",IF(H100=S100,"OK","FAIL"),IF(U100="9U",IF(H100<=9,"OK","FAIL"),IF(U100="UP",IF(H100>=15,"OK","FAIL"),IF(U100="DN",IF(H100<=7,"OK","FAIL"))))))))) | U100: =IF(R100="15U","UP",IF(R100="7D","DN",IF(R100="9U","9U",IF(S100="B",11,"")))) -> #N/A
A101: 男運動員 20 | F101: =IF(E101="","",VLOOKUP(E101,報名總表及收費!$I$29:$L$140,4)) | H101: =IF(D101="","", IF(D101=0,"",YEAR(NOW())-D101)) | J101: =IF(E101="","",IF(((VLOOKUP(E101,$L$25:$T$70,5))<G101),"報項時間慢於達標時間",""))&IF(T101="FAIL"," 運動員錯組別","")&IF(MOD(E101,2)=0,""," 項目編號為女子組") | Q101: =IF(O101="E",YEAR(NOW())-$Q$5,IF(O101="A",YEAR(NOW())-$O$5,IF(O101="B",YEAR(NOW())-$P$5,IF(O101=0,"",O101)))) | R101: =IF(E101=0,"",IF(MOD(E101,2)=1,"",VLOOKUP(E101,$L$24:$R$80,6,FALSE))) | S101: =IF(D101=0,"",VLOOKUP(E101,$L$24:$R$80,4,FALSE)) | T101: =IF(R101="","",IF(S101="A",IF(H101>=R101,"OK","FAIL"),IF(S101="E",IF(H101<=R101,"OK","FAIL"),IF(S101="B",IF(AND(H101<=R101,H101>=U101),"OK","FAIL"),IF(U101="",IF(H101=S101,"OK","FAIL"),IF(U101="9U",IF(H101<=9,"OK","FAIL"),IF(U101="UP",IF(H101>=15,"OK","FAIL"),IF(U101="DN",IF(H101<=7,"OK","FAIL"))))))))) | U101: =IF(R101="15U","UP",IF(R101="7D","DN",IF(R101="9U","9U",IF(S101="B",11,""))))
B102: =IF(B101=0,"",B101) | C102: =IF(C101=0,"",C101) | D102: =IF(D101=0,"",D101) | F102: =IF(E102="","",VLOOKUP(E102,報名總表及收費!$I$29:$L$140,4)) | H102: =IF(D102="","", IF(D102=0,"",YEAR(NOW())-D102)) | J102: =IF(E102="","",IF(((VLOOKUP(E102,$L$25:$T$70,5))<G102),"報項時間慢於達標時間",""))&IF(T102="FAIL"," 運動員錯組別","")&IF(MOD(E102,2)=0,""," 項目編號為女子組") | Q102: =IF(O102="E",YEAR(NOW())-$Q$5,IF(O102="A",YEAR(NOW())-$O$5,IF(O102="B",YEAR(NOW())-$P$5,IF(O102=0,"",O102)))) | R102: =IF(E102=0,"",IF(MOD(E102,2)=1,"",VLOOKUP(E102,$L$24:$R$80,6,FALSE))) | S102: =IF(D102=0,"",VLOOKUP(E102,$L$24:$R$80,4,FALSE)) -> #N/A | T102: =IF(R102="","",IF(S102="A",IF(H102>=R102,"OK","FAIL"),IF(S102="E",IF(H102<=R102,"OK","FAIL"),IF(S102="B",IF(AND(H102<=R102,H102>=U102),"OK","FAIL"),IF(U102="",IF(H102=S102,"OK","FAIL"),IF(U102="9U",IF(H102<=9,"OK","FAIL"),IF(U102="UP",IF(H102>=15,"OK","FAIL"),IF(U102="DN",IF(H102<=7,"OK","FAIL"))))))))) | U102: =IF(R102="15U","UP",IF(R102="7D","DN",IF(R102="9U","9U",IF(S102="B",11,"")))) -> #N/A
B103: =IF(B102=0,"",B102) | C103: =IF(C102=0,"",C102) | D103: =IF(D102=0,"",D102) | F103: =IF(E103="","",VLOOKUP(E103,報名總表及收費!$I$29:$L$140,4)) | H103: =IF(D103="","", IF(D103=0,"",YEAR(NOW())-D103)) | J103: =IF(E103="","",IF(((VLOOKUP(E103,$L$25:$T$70,5))<G103),"報項時間慢於達標時間",""))&IF(T103="FAIL"," 運動員錯組別","")&IF(MOD(E103,2)=0,""," 項目編號為女子組") | Q103: =IF(O103="E",YEAR(NOW())-$Q$5,IF(O103="A",YEAR(NOW())-$O$5,IF(O103="B",YEAR(NOW())-$P$5,IF(O103=0,"",O103)))) | R103: =IF(E103=0,"",IF(MOD(E103,2)=1,"",VLOOKUP(E103,$L$24:$R$80,6,FALSE))) | S103: =IF(D103=0,"",VLOOKUP(E103,$L$24:$R$80,4,FALSE)) -> #N/A | T103: =IF(R103="","",IF(S103="A",IF(H103>=R103,"OK","FAIL"),IF(S103="E",IF(H103<=R103,"OK","FAIL"),IF(S103="B",IF(AND(H103<=R103,H103>=U103),"OK","FAIL"),IF(U103="",IF(H103=S103,"OK","FAIL"),IF(U103="9U",IF(H103<=9,"OK","FAIL"),IF(U103="UP",IF(H103>=15,"OK","FAIL"),IF(U103="DN",IF(H103<=7,"OK","FAIL"))))))))) | U103: =IF(R103="15U","UP",IF(R103="7D","DN",IF(R103="9U","9U",IF(S103="B",11,"")))) -> #N/A
...

Sheet 女
A1: 香港中華業餘游泳聯會 比賽報名表 (女子) | O1: Max Event per club
A2: 填表注意事項: | N2: =COUNTA(I25:I164) -> 0 | O2: =VLOOKUP(F11,報名總表及收費!H1:T7,13,FALSE) -> 4
A3: 1. 請根據所屬性別分別填寫在指定的報名表上(報名表分為男，女)，接力在報名表上方，只需按比賽項目輸入報項時間便可
A4: 2. 請準確及清楚填寫各項資料，所有超額報名、資料不全、錯填資料均被視為無效。無效報名會被拒參賽，報名費怒不退回。 | O4: C | P4: D | Q4: F
A5: ="3. 每個個人項目每團體最多可報"& VLOOKUP(F11,報名總表及收費!H1:T7,13,FALSE) & "個運動員。每名運動員限報個人項目︰"& VLOOKUP(F11,報名總表及收費!H1:T7,12,FALSE) &"，個人項目報名總數可參考報名表右方" -> 3. 每個個人項目每團體最多可報4個運動員。每名運動員限報個人項目︰新秀賽3項，個人項目報名總數可參考報名表右方 | O5: =VLOOKUP($O$8,報名總表及收費!$L$2:$R$7,4,FALSE) -> 0 | P5: =VLOOKUP($O$8,報名總表及收費!$L$2:$R$7,5,FALSE) -> 0 | Q5: =VLOOKUP($O$8,報名總表及收費!$L$2:$R$7,7,FALSE) -> 0
A6: 4. 時間格式以此為準 - 例: 0:26:88 , 請輸入 2688
A7: 5. 只需輸入綠色欄位的資料，其他為自動填寫資料。
A8: 6. 若儲存格出現紅色，請重新檢查該項目是否報錯資料。 | O8: =報名總表及收費!H30 -> 新秀1 | R8: 申請成績証書
A9: 7. 如需申請成績證書，請在"申請成績證書"格上填上"Y"，若不申請可漏空。比賽後申請成績證書，本會將額外收取每張港元10元行政費(即每項每張港元共60元行政費) | R9: Y
A11: 團體名稱: | B11: =IF(報名總表及收費!B10=0,"",報名總表及收費!B10) | E11: 比賽名稱: | F11: =報名總表及收費!F10 -> 屬會新秀游泳比賽(第一天)
A12: 負責人: | B12: =IF(報名總表及收費!B11=0,"",報名總表及收費!B11) | E12: 比賽日期: | F12: =報名總表及收費!F11 -> 46152
A13: 聯絡電話: | B13: =IF(報名總表及收費!B12=0,"",報名總表及收費!B12) | E13: 比賽地點: | F13: =報名總表及收費!F12 -> 大環山游泳池
B15: 接力團體 | E15: 項目編號 | F15: 接力項目 | G15: 報項時間 | J15: 備註 | L15: 團體項目 | M15: 總數
A16: 接力項目 | B16: =IF(報名總表及收費!$B$10=0,"",報名總表及收費!$B$10) | E16: =IF(VLOOKUP(報名總表及收費!$H$30,報名總表及收費!$L$2:$AX$6,22,FALSE)=0,"",VLOOKUP(報名總表及收費!$H$30,報名總表及收費!$L$2:$AX$6,22,FALSE)) -> 33 | F16: =IF(VLOOKUP(報名總表及收費!$H$30,報名總表及收費!$L$2:$AX$6,23,FALSE)=0,"",VLOOKUP(報名總表及收費!$H$30,報名總表及收費!$L$2:$AX$6,23,FALSE)) -> 4X50米四式階梯接力 | J16: =IF(B16="","",IF(G16="","未報名","")) | L16: =E16 -> 33 | M16: =COUNTA(G16) -> 0
B17: =IF(報名總表及收費!$B$10=0,"",報名總表及收費!$B$10) | E17: =IF(VLOOKUP(報名總表及收費!$H$30,報名總表及收費!$L$2:$AX$6,24,FALSE)=0,"",VLOOKUP(報名總表及收費!$H$30,報名總表及收費!$L$2:$AX$6,24,FALSE)) -> 35 | F17: =IF(VLOOKUP(報名總表及收費!$H$30,報名總表及收費!$L$2:$AX$6,25,FALSE)=0,"",VLOOKUP(報名總表及收費!$H$30,報名總表及收費!$L$2:$AX$6,25,FALSE)) -> 4X50米自由式階梯接力 | J17: =IF(B17="","",IF(G17="","未報名","")) | L17: =E17 -> 35 | M17: =COUNTA(G17) -> 0
B18: =IF(E18="","",IF(報名總表及收費!$B$10=0,"",報名總表及收費!$B$10)) | E18: =IF(VLOOKUP(報名總表及收費!$H$30,報名總表及收費!$L$2:$AX$6,26,FALSE)=0,"",VLOOKUP(報名總表及收費!$H$30,報名總表及收費!$L$2:$AX$6,26,FALSE)) | F18: =IF(VLOOKUP(報名總表及收費!$H$30,報名總表及收費!$L$2:$AX$6,27,FALSE)=0,"",VLOOKUP(報名總表及收費!$H$30,報名總表及收費!$L$2:$AX$6,27,FALSE)) | J18: =IF(B18="","",IF(G18="","未報名","")) | L18: =E18 | M18: =COUNTA(G18) -> 0
B19: =IF(E19="","",IF(報名總表及收費!$B$10=0,"",報名總表及收費!$B$10)) | E19: =IF(VLOOKUP(報名總表及收費!$H$30,報名總表及收費!$L$2:$AX$6,28,FALSE)=0,"",VLOOKUP(報名總表及收費!$H$30,報名總表及收費!$L$2:$AX$6,28,FALSE)) | F19: =IF(VLOOKUP(報名總表及收費!$H$30,報名總表及收費!$L$2:$AX$6,29,FALSE)=0,"",VLOOKUP(報名總表及收費!$H$30,報名總表及收費!$L$2:$AX$6,29,FALSE)) | J19: =IF(B19="","",IF(G19="","未報名","")) | L19: =E19 | M19: =COUNTA(G19) -> 0
B20: =IF(E20="","",IF(報名總表及收費!$B$10=0,"",報名總表及收費!$B$10)) | E20: =IF(VLOOKUP(報名總表及收費!$H$30,報名總表及收費!$L$2:$AX$6,30,FALSE)=0,"",VLOOKUP(報名總表及收費!$H$30,報名總表及收費!$L$2:$AX$6,30,FALSE)) | F20: =IF(VLOOKUP(報名總表及收費!$H$30,報名總表及收費!$L$2:$AX$6,31,FALSE)=0,"",VLOOKUP(報名總表及收費!$H$30,報名總表及收費!$L$2:$AX$6,31,FALSE)) | J20: =IF(B20="","",IF(G20="","未報名","")) | L20: =E20 | M20: =COUNTA(G20) -> 0
B21: =IF(E21="","",IF(報名總表及收費!$B$10=0,"",報名總表及收費!$B$10)) | E21: =IF(VLOOKUP(報名總表及收費!$H$30,報名總表及收費!$L$2:$AX$6,32,FALSE)=0,"",VLOOKUP(報名總表及收費!$H$30,報名總表及收費!$L$2:$AX$6,32,FALSE)) | F21: =IF(VLOOKUP(報名總表及收費!$H$30,報名總表及收費!$L$2:$AX$6,33,FALSE)=0,"",VLOOKUP(報名總表及收費!$H$30,報名總表及收費!$L$2:$AX$6,33,FALSE)) | J21: =IF(B21="","",IF(G21="","未報名","")) | L21: =E21 | M21: =COUNTA(G21) -> 0
B23: 姓名 (中) | C23: 姓名 (英) | D23: 出生年份 | E23: 項目編號 | F23: 項目 | G23: 報項時間 | H23: 年齡 | I23: 申請成績證書 | J23: 備註 | O23: 年齡 | P23: 達標時間 | R23: Age Check
A24: 例 | B24: 王一一 | C24: Wong Yat Yat | D24: 1999 | E24: 11 | F24: =IF(E24="","",VLOOKUP(E24,報名總表及收費!$I$29:$L$97,4)) -> 50米蝶泳 | G24: 1228 | H24: =IF(D24=0,"",YEAR(NOW())-D24) -> 27 | I24: Y | L24: 個人項目 | M24: 總數
A25: 女運動員 1 | F25: =IF(E25="","",VLOOKUP(E25,報名總表及收費!$I$29:$L$140,4)) | H25: =IF(D25="","", IF(D25=0,"",YEAR(NOW())-D25)) | J25: =IF(E25="","",IF(((VLOOKUP(E25,$L$25:$Q$67,5))<G25),"報項時間慢於達標時間",""))&IF(T25="FAIL"," 運動員錯組別","")&IF(E25="","",IF(MOD(E25,2)=1,""," 項目編號為男子組")) | L25: 1 | M25: =COUNTIFS($E$25:$E$160,"=1") -> 0 | N25: =IF(M25>$O$2, L25, "OK") -> OK | O25: =VLOOKUP(L25,報名總表及收費!$I$30:$K$118,2) -> 14 | P25: =IF(VLOOKUP(L25,報名總表及收費!$I$30:$K$118,3)=0,"",VLOOKUP(L25,報名總表及收費!$I$30:$K$118,3,FALSE)) | Q25: =IF(O25="D",YEAR(NOW())-$P$5,IF(O25="C",YEAR(NOW())-$O$5,IF(O25="F",YEAR(NOW())-$Q$5,IF(O25=0,"",O25)))) -> 14 | R25: =IF(E25=0,"",IF(MOD(E25,2)=0,"",VLOOKUP(E25,$L$24:$Q$80,6,FALSE))) | S25: =IF(D25=0,"",VLOOKUP(E25,$L$25:$Q$80,4,FALSE)) | T25: =IF(R25="","",IF(S25="C",IF(H25>=R25,"OK","FAIL"),IF(S25="F",IF(H25<=R25,"OK","FAIL"),IF(S25="D",IF(AND(H25<=R25,H25>=U25),"OK","FAIL"),IF(U25="",IF(H25=S25,"OK","FAIL"),IF(U25="9U",IF(H25<=9,"OK","FAIL"),IF(U25="UP",IF(H25>=15,"OK","FAIL"),IF(U25="DN",IF(H25<=7,"OK","FAIL"))))))))) | U25: =IF(R25="15U","UP",IF(R25="7D","DN",IF(R25="9U","9U",IF(S25="D",10,""))))
B26: =IF(B25=0,"",B25) | C26: =IF(C25=0,"",C25) | D26: =IF(D25=0,"",D25) | F26: =IF(E26="","",VLOOKUP(E26,報名總表及收費!$I$29:$L$140,4)) | H26: =IF(D26="","", IF(D26=0,"",YEAR(NOW())-D26)) | J26: =IF(E26="","",IF(((VLOOKUP(E26,$L$25:$Q$67,5))<G26),"報項時間慢於達標時間",""))&IF(T26="FAIL"," 運動員錯組別","")&IF(E26="","",IF(MOD(E26,2)=1,""," 項目編號為男子組")) | L26: 3 | M26: =COUNTIFS($E$25:$E$160,"=3") -> 0 | N26: =IF(M26>$O$2, L26, "OK") -> OK | O26: =VLOOKUP(L26,報名總表及收費!$I$30:$K$118,2) -> 15U | P26: =IF(VLOOKUP(L26,報名總表及收費!$I$30:$K$118,3)=0,"",VLOOKUP(L26,報名總表及收費!$I$30:$K$118,3,FALSE)) | Q26: =IF(O26="D",YEAR(NOW())-$P$5,IF(O26="C",YEAR(NOW())-$O$5,IF(O26="F",YEAR(NOW())-$Q$5,IF(O26=0,"",O26)))) -> 15U | R26: =IF(E26=0,"",IF(MOD(E26,2)=0,"",VLOOKUP(E26,$L$24:$Q$80,6,FALSE))) | S26: =IF(D26=0,"",VLOOKUP(E26,$L$25:$Q$80,4,FALSE)) -> #N/A | T26: =IF(R26="","",IF(S26="C",IF(H26>=R26,"OK","FAIL"),IF(S26="F",IF(H26<=R26,"OK","FAIL"),IF(S26="D",IF(AND(H26<=R26,H26>=U26),"OK","FAIL"),IF(U26="",IF(H26=S26,"OK","FAIL"),IF(U26="9U",IF(H26<=9,"OK","FAIL"),IF(U26="UP",IF(H26>=15,"OK","FAIL"),IF(U26="DN",IF(H26<=7,"OK","FAIL"))))))))) | U26: =IF(R26="15U","UP",IF(R26="7D","DN",IF(R26="9U","9U",IF(S26="D",10,"")))) -> #N/A
B27: =IF(B26=0,"",B26) | C27: =IF(C26=0,"",C26) | D27: =IF(D26=0,"",D26) | F27: =IF(E27="","",VLOOKUP(E27,報名總表及收費!$I$29:$L$140,4)) | H27: =IF(D27="","", IF(D27=0,"",YEAR(NOW())-D27)) | J27: =IF(E27="","",IF(((VLOOKUP(E27,$L$25:$Q$67,5))<G27),"報項時間慢於達標時間",""))&IF(T27="FAIL"," 運動員錯組別","")&IF(E27="","",IF(MOD(E27,2)=1,""," 項目編號為男子組")) | L27: 5 | M27: =COUNTIFS($E$25:$E$160,"=5") -> 0 | N27: =IF(M27>$O$2, L27, "OK") -> OK | O27: =VLOOKUP(L27,報名總表及收費!$I$30:$K$118,2) -> 14 | P27: =IF(VLOOKUP(L27,報名總表及收費!$I$30:$K$118,3)=0,"",VLOOKUP(L27,報名總表及收費!$I$30:$K$118,3,FALSE)) | Q27: =IF(O27="D",YEAR(NOW())-$P$5,IF(O27="C",YEAR(NOW())-$O$5,IF(O27="F",YEAR(NOW())-$Q$5,IF(O27=0,"",O27)))) -> 14 | R27: =IF(E27=0,"",IF(MOD(E27,2)=0,"",VLOOKUP(E27,$L$24:$Q$80,6,FALSE))) | S27: =IF(D27=0,"",VLOOKUP(E27,$L$25:$Q$80,4,FALSE)) -> #N/A | T27: =IF(R27="","",IF(S27="C",IF(H27>=R27,"OK","FAIL"),IF(S27="F",IF(H27<=R27,"OK","FAIL"),IF(S27="D",IF(AND(H27<=R27,H27>=U27),"OK","FAIL"),IF(U27="",IF(H27=S27,"OK","FAIL"),IF(U27="9U",IF(H27<=9,"OK","FAIL"),IF(U27="UP",IF(H27>=15,"OK","FAIL"),IF(U27="DN",IF(H27<=7,"OK","FAIL"))))))))) | U27: =IF(R27="15U","UP",IF(R27="7D","DN",IF(R27="9U","9U",IF(S27="D",10,"")))) -> #N/A
B28: =IF(B27=0,"",B27) | C28: =IF(C27=0,"",C27) | D28: =IF(D27=0,"",D27) | F28: =IF(E28="","",VLOOKUP(E28,報名總表及收費!$I$29:$L$140,4)) | H28: =IF(D28="","", IF(D28=0,"",YEAR(NOW())-D28)) | J28: =IF(E28="","",IF(((VLOOKUP(E28,$L$25:$Q$67,5))<G28),"報項時間慢於達標時間",""))&IF(T28="FAIL"," 運動員錯組別","")&IF(E28="","",IF(MOD(E28,2)=1,""," 項目編號為男子組")) | L28: 7 | M28: =COUNTIFS($E$25:$E$160,"=7") -> 0 | N28: =IF(M28>$O$2, L28, "OK") -> OK | O28: =VLOOKUP(L28,報名總表及收費!$I$30:$K$118,2) -> 15U | P28: =IF(VLOOKUP(L28,報名總表及收費!$I$30:$K$118,3)=0,"",VLOOKUP(L28,報名總表及收費!$I$30:$K$118,3,FALSE)) | Q28: =IF(O28="D",YEAR(NOW())-$P$5,IF(O28="C",YEAR(NOW())-$O$5,IF(O28="F",YEAR(NOW())-$Q$5,IF(O28=0,"",O28)))) -> 15U | R28: =IF(E28=0,"",IF(MOD(E28,2)=0,"",VLOOKUP(E28,$L$24:$Q$80,6,FALSE))) | S28: =IF(D28=0,"",VLOOKUP(E28,$L$25:$Q$80,4,FALSE)) -> #N/A | T28: =IF(R28="","",IF(S28="C",IF(H28>=R28,"OK","FAIL"),IF(S28="F",IF(H28<=R28,"OK","FAIL"),IF(S28="D",IF(AND(H28<=R28,H28>=U28),"OK","FAIL"),IF(U28="",IF(H28=S28,"OK","FAIL"),IF(U28="9U",IF(H28<=9,"OK","FAIL"),IF(U28="UP",IF(H28>=15,"OK","FAIL"),IF(U28="DN",IF(H28<=7,"OK","FAIL"))))))))) | U28: =IF(R28="15U","UP",IF(R28="7D","DN",IF(R28="9U","9U",IF(S28="D",10,"")))) -> #N/A
A29: 女運動員 2 | F29: =IF(E29="","",VLOOKUP(E29,報名總表及收費!$I$29:$L$140,4)) | H29: =IF(D29="","", IF(D29=0,"",YEAR(NOW())-D29)) | J29: =IF(E29="","",IF(((VLOOKUP(E29,$L$25:$Q$67,5))<G29),"報項時間慢於達標時間",""))&IF(T29="FAIL"," 運動員錯組別","")&IF(E29="","",IF(MOD(E29,2)=1,""," 項目編號為男子組")) | L29: 9 | M29: =COUNTIFS($E$25:$E$160,"=9") -> 0 | N29: =IF(M29>$O$2, L29, "OK") -> OK | O29: =VLOOKUP(L29,報名總表及收費!$I$30:$K$118,2) -> 14 | P29: =IF(VLOOKUP(L29,報名總表及收費!$I$30:$K$118,3)=0,"",VLOOKUP(L29,報名總表及收費!$I$30:$K$118,3,FALSE)) | Q29: =IF(O29="D",YEAR(NOW())-$P$5,IF(O29="C",YEAR(NOW())-$O$5,IF(O29="F",YEAR(NOW())-$Q$5,IF(O29=0,"",O29)))) -> 14 | R29: =IF(E29=0,"",IF(MOD(E29,2)=0,"",VLOOKUP(E29,$L$24:$Q$80,6,FALSE))) | S29: =IF(D29=0,"",VLOOKUP(E29,$L$25:$Q$80,4,FALSE)) | T29: =IF(R29="","",IF(S29="C",IF(H29>=R29,"OK","FAIL"),IF(S29="F",IF(H29<=R29,"OK","FAIL"),IF(S29="D",IF(AND(H29<=R29,H29>=U29),"OK","FAIL"),IF(U29="",IF(H29=S29,"OK","FAIL"),IF(U29="9U",IF(H29<=9,"OK","FAIL"),IF(U29="UP",IF(H29>=15,"OK","FAIL"),IF(U29="DN",IF(H29<=7,"OK","FAIL"))))))))) | U29: =IF(R29="15U","UP",IF(R29="7D","DN",IF(R29="9U","9U",IF(S29="D",10,""))))
B30: =IF(B29=0,"",B29) | C30: =IF(C29=0,"",C29) | D30: =IF(D29=0,"",D29) | F30: =IF(E30="","",VLOOKUP(E30,報名總表及收費!$I$29:$L$140,4)) | H30: =IF(D30="","", IF(D30=0,"",YEAR(NOW())-D30)) | J30: =IF(E30="","",IF(((VLOOKUP(E30,$L$25:$Q$67,5))<G30),"報項時間慢於達標時間",""))&IF(T30="FAIL"," 運動員錯組別","")&IF(E30="","",IF(MOD(E30,2)=1,""," 項目編號為男子組")) | L30: 11 | M30: =COUNTIFS($E$25:$E$160,"=11") -> 0 | N30: =IF(M30>$O$2, L30, "OK") -> OK | O30: =VLOOKUP(L30,報名總表及收費!$I$30:$K$118,2) -> 15U | P30: =IF(VLOOKUP(L30,報名總表及收費!$I$30:$K$118,3)=0,"",VLOOKUP(L30,報名總表及收費!$I$30:$K$118,3,FALSE)) | Q30: =IF(O30="D",YEAR(NOW())-$P$5,IF(O30="C",YEAR(NOW())-$O$5,IF(O30="F",YEAR(NOW())-$Q$5,IF(O30=0,"",O30)))) -> 15U | R30: =IF(E30=0,"",IF(MOD(E30,2)=0,"",VLOOKUP(E30,$L$24:$Q$80,6,FALSE))) | S30: =IF(D30=0,"",VLOOKUP(E30,$L$25:$Q$80,4,FALSE)) -> #N/A | T30: =IF(R30="","",IF(S30="C",IF(H30>=R30,"OK","FAIL"),IF(S30="F",IF(H30<=R30,"OK","FAIL"),IF(S30="D",IF(AND(H30<=R30,H30>=U30),"OK","FAIL"),IF(U30="",IF(H30=S30,"OK","FAIL"),IF(U30="9U",IF(H30<=9,"OK","FAIL"),IF(U30="UP",IF(H30>=15,"OK","FAIL"),IF(U30="DN",IF(H30<=7,"OK","FAIL"))))))))) | U30: =IF(R30="15U","UP",IF(R30="7D","DN",IF(R30="9U","9U",IF(S30="D",10,"")))) -> #N/A
B31: =IF(B30=0,"",B30) | C31: =IF(C30=0,"",C30) | D31: =IF(D30=0,"",D30) | F31: =IF(E31="","",VLOOKUP(E31,報名總表及收費!$I$29:$L$140,4)) | H31: =IF(D31="","", IF(D31=0,"",YEAR(NOW())-D31)) | J31: =IF(E31="","",IF(((VLOOKUP(E31,$L$25:$Q$67,5))<G31),"報項時間慢於達標時間",""))&IF(T31="FAIL"," 運動員錯組別","")&IF(E31="","",IF(MOD(E31,2)=1,""," 項目編號為男子組")) | L31: 13 | M31: =COUNTIFS($E$25:$E$160,"=13") -> 0 | N31: =IF(M31>$O$2, L31, "OK") -> OK | O31: =VLOOKUP(L31,報名總表及收費!$I$30:$K$118,2) -> 14 | P31: =IF(VLOOKUP(L31,報名總表及收費!$I$30:$K$118,3)=0,"",VLOOKUP(L31,報名總表及收費!$I$30:$K$118,3,FALSE)) | Q31: =IF(O31="D",YEAR(NOW())-$P$5,IF(O31="C",YEAR(NOW())-$O$5,IF(O31="F",YEAR(NOW())-$Q$5,IF(O31=0,"",O31)))) -> 14 | R31: =IF(E31=0,"",IF(MOD(E31,2)=0,"",VLOOKUP(E31,$L$24:$Q$80,6,FALSE))) | S31: =IF(D31=0,"",VLOOKUP(E31,$L$25:$Q$80,4,FALSE)) -> #N/A | T31: =IF(R31="","",IF(S31="C",IF(H31>=R31,"OK","FAIL"),IF(S31="F",IF(H31<=R31,"OK","FAIL"),IF(S31="D",IF(AND(H31<=R31,H31>=U31),"OK","FAIL"),IF(U31="",IF(H31=S31,"OK","FAIL"),IF(U31="9U",IF(H31<=9,"OK","FAIL"),IF(U31="UP",IF(H31>=15,"OK","FAIL"),IF(U31="DN",IF(H31<=7,"OK","FAIL"))))))))) | U31: =IF(R31="15U","UP",IF(R31="7D","DN",IF(R31="9U","9U",IF(S31="D",10,"")))) -> #N/A
B32: =IF(B31=0,"",B31) | C32: =IF(C31=0,"",C31) | D32: =IF(D31=0,"",D31) | F32: =IF(E32="","",VLOOKUP(E32,報名總表及收費!$I$29:$L$140,4)) | H32: =IF(D32="","", IF(D32=0,"",YEAR(NOW())-D32)) | J32: =IF(E32="","",IF(((VLOOKUP(E32,$L$25:$Q$67,5))<G32),"報項時間慢於達標時間",""))&IF(T32="FAIL"," 運動員錯組別","")&IF(E32="","",IF(MOD(E32,2)=1,""," 項目編號為男子組")) | L32: 15 | M32: =COUNTIFS($E$25:$E$160,"=15") -> 0 | N32: =IF(M32>$O$2, L32, "OK") -> OK | O32: =VLOOKUP(L32,報名總表及收費!$I$30:$K$118,2) -> 15U | P32: =IF(VLOOKUP(L32,報名總表及收費!$I$30:$K$118,3)=0,"",VLOOKUP(L32,報名總表及收費!$I$30:$K$118,3,FALSE)) | Q32: =IF(O32="D",YEAR(NOW())-$P$5,IF(O32="C",YEAR(NOW())-$O$5,IF(O32="F",YEAR(NOW())-$Q$5,IF(O32=0,"",O32)))) -> 15U | R32: =IF(E32=0,"",IF(MOD(E32,2)=0,"",VLOOKUP(E32,$L$24:$Q$80,6,FALSE))) | S32: =IF(D32=0,"",VLOOKUP(E32,$L$25:$Q$80,4,FALSE)) -> #N/A | T32: =IF(R32="","",IF(S32="C",IF(H32>=R32,"OK","FAIL"),IF(S32="F",IF(H32<=R32,"OK","FAIL"),IF(S32="D",IF(AND(H32<=R32,H32>=U32),"OK","FAIL"),IF(U32="",IF(H32=S32,"OK","FAIL"),IF(U32="9U",IF(H32<=9,"OK","FAIL"),IF(U32="UP",IF(H32>=15,"OK","FAIL"),IF(U32="DN",IF(H32<=7,"OK","FAIL"))))))))) | U32: =IF(R32="15U","UP",IF(R32="7D","DN",IF(R32="9U","9U",IF(S32="D",10,"")))) -> #N/A
A33: 女運動員 3 | F33: =IF(E33="","",VLOOKUP(E33,報名總表及收費!$I$29:$L$140,4)) | H33: =IF(D33="","", IF(D33=0,"",YEAR(NOW())-D33)) | J33: =IF(E33="","",IF(((VLOOKUP(E33,$L$25:$Q$67,5))<G33),"報項時間慢於達標時間",""))&IF(T33="FAIL"," 運動員錯組別","")&IF(E33="","",IF(MOD(E33,2)=1,""," 項目編號為男子組")) | L33: 17 | M33: =COUNTIFS($E$25:$E$160,"=17") -> 0 | N33: =IF(M33>$O$2, L33, "OK") -> OK | O33: =VLOOKUP(L33,報名總表及收費!$I$30:$K$118,2) -> 14 | P33: =IF(VLOOKUP(L33,報名總表及收費!$I$30:$K$118,3)=0,"",VLOOKUP(L33,報名總表及收費!$I$30:$K$118,3,FALSE)) | Q33: =IF(O33="D",YEAR(NOW())-$P$5,IF(O33="C",YEAR(NOW())-$O$5,IF(O33="F",YEAR(NOW())-$Q$5,IF(O33=0,"",O33)))) -> 14 | R33: =IF(E33=0,"",IF(MOD(E33,2)=0,"",VLOOKUP(E33,$L$24:$Q$80,6,FALSE))) | S33: =IF(D33=0,"",VLOOKUP(E33,$L$25:$Q$80,4,FALSE)) | T33: =IF(R33="","",IF(S33="C",IF(H33>=R33,"OK","FAIL"),IF(S33="F",IF(H33<=R33,"OK","FAIL"),IF(S33="D",IF(AND(H33<=R33,H33>=U33),"OK","FAIL"),IF(U33="",IF(H33=S33,"OK","FAIL"),IF(U33="9U",IF(H33<=9,"OK","FAIL"),IF(U33="UP",IF(H33>=15,"OK","FAIL"),IF(U33="DN",IF(H33<=7,"OK","FAIL"))))))))) | U33: =IF(R33="15U","UP",IF(R33="7D","DN",IF(R33="9U","9U",IF(S33="D",10,""))))
B34: =IF(B33=0,"",B33) | C34: =IF(C33=0,"",C33) | D34: =IF(D33=0,"",D33) | F34: =IF(E34="","",VLOOKUP(E34,報名總表及收費!$I$29:$L$140,4)) | H34: =IF(D34="","", IF(D34=0,"",YEAR(NOW())-D34)) | J34: =IF(E34="","",IF(((VLOOKUP(E34,$L$25:$Q$67,5))<G34),"報項時間慢於達標時間",""))&IF(T34="FAIL"," 運動員錯組別","")&IF(E34="","",IF(MOD(E34,2)=1,""," 項目編號為男子組")) | L34: 19 | M34: =COUNTIFS($E$25:$E$160,"=19") -> 0 | N34: =IF(M34>$O$2, L34, "OK") -> OK | O34: =VLOOKUP(L34,報名總表及收費!$I$30:$K$118,2) -> 15U | P34: =IF(VLOOKUP(L34,報名總表及收費!$I$30:$K$118,3)=0,"",VLOOKUP(L34,報名總表及收費!$I$30:$K$118,3,FALSE)) | Q34: =IF(O34="D",YEAR(NOW())-$P$5,IF(O34="C",YEAR(NOW())-$O$5,IF(O34="F",YEAR(NOW())-$Q$5,IF(O34=0,"",O34)))) -> 15U | R34: =IF(E34=0,"",IF(MOD(E34,2)=0,"",VLOOKUP(E34,$L$24:$Q$80,6,FALSE))) | S34: =IF(D34=0,"",VLOOKUP(E34,$L$25:$Q$80,4,FALSE)) -> #N/A | T34: =IF(R34="","",IF(S34="C",IF(H34>=R34,"OK","FAIL"),IF(S34="F",IF(H34<=R34,"OK","FAIL"),IF(S34="D",IF(AND(H34<=R34,H34>=U34),"OK","FAIL"),IF(U34="",IF(H34=S34,"OK","FAIL"),IF(U34="9U",IF(H34<=9,"OK","FAIL"),IF(U34="UP",IF(H34>=15,"OK","FAIL"),IF(U34="DN",IF(H34<=7,"OK","FAIL"))))))))) | U34: =IF(R34="15U","UP",IF(R34="7D","DN",IF(R34="9U","9U",IF(S34="D",10,"")))) -> #N/A
B35: =IF(B34=0,"",B34) | C35: =IF(C34=0,"",C34) | D35: =IF(D34=0,"",D34) | F35: =IF(E35="","",VLOOKUP(E35,報名總表及收費!$I$29:$L$140,4)) | H35: =IF(D35="","", IF(D35=0,"",YEAR(NOW())-D35)) | J35: =IF(E35="","",IF(((VLOOKUP(E35,$L$25:$Q$67,5))<G35),"報項時間慢於達標時間",""))&IF(T35="FAIL"," 運動員錯組別","")&IF(E35="","",IF(MOD(E35,2)=1,""," 項目編號為男子組")) | L35: 21 | M35: =COUNTIFS($E$25:$E$160,"=21") -> 0 | N35: =IF(M35>$O$2, L35, "OK") -> OK | O35: =VLOOKUP(L35,報名總表及收費!$I$30:$K$118,2) -> 14 | P35: =IF(VLOOKUP(L35,報名總表及收費!$I$30:$K$118,3)=0,"",VLOOKUP(L35,報名總表及收費!$I$30:$K$118,3,FALSE)) | Q35: =IF(O35="D",YEAR(NOW())-$P$5,IF(O35="C",YEAR(NOW())-$O$5,IF(O35="F",YEAR(NOW())-$Q$5,IF(O35=0,"",O35)))) -> 14 | R35: =IF(E35=0,"",IF(MOD(E35,2)=0,"",VLOOKUP(E35,$L$24:$Q$80,6,FALSE))) | S35: =IF(D35=0,"",VLOOKUP(E35,$L$25:$Q$80,4,FALSE)) -> #N/A | T35: =IF(R35="","",IF(S35="C",IF(H35>=R35,"OK","FAIL"),IF(S35="F",IF(H35<=R35,"OK","FAIL"),IF(S35="D",IF(AND(H35<=R35,H35>=U35),"OK","FAIL"),IF(U35="",IF(H35=S35,"OK","FAIL"),IF(U35="9U",IF(H35<=9,"OK","FAIL"),IF(U35="UP",IF(H35>=15,"OK","FAIL"),IF(U35="DN",IF(H35<=7,"OK","FAIL"))))))))) | U35: =IF(R35="15U","UP",IF(R35="7D","DN",IF(R35="9U","9U",IF(S35="D",10,"")))) -> #N/A
B36: =IF(B35=0,"",B35) | C36: =IF(C35=0,"",C35) | D36: =IF(D35=0,"",D35) | F36: =IF(E36="","",VLOOKUP(E36,報名總表及收費!$I$29:$L$140,4)) | H36: =IF(D36="","", IF(D36=0,"",YEAR(NOW())-D36)) | J36: =IF(E36="","",IF(((VLOOKUP(E36,$L$25:$Q$67,5))<G36),"報項時間慢於達標時間",""))&IF(T36="FAIL"," 運動員錯組別","")&IF(E36="","",IF(MOD(E36,2)=1,""," 項目編號為男子組")) | L36: 23 | M36: =COUNTIFS($E$25:$E$160,"=23") -> 0 | N36: =IF(M36>$O$2, L36, "OK") -> OK | O36: =VLOOKUP(L36,報名總表及收費!$I$30:$K$118,2) -> 15U | P36: =IF(VLOOKUP(L36,報名總表及收費!$I$30:$K$118,3)=0,"",VLOOKUP(L36,報名總表及收費!$I$30:$K$118,3,FALSE)) | Q36: =IF(O36="D",YEAR(NOW())-$P$5,IF(O36="C",YEAR(NOW())-$O$5,IF(O36="F",YEAR(NOW())-$Q$5,IF(O36=0,"",O36)))) -> 15U | R36: =IF(E36=0,"",IF(MOD(E36,2)=0,"",VLOOKUP(E36,$L$24:$Q$80,6,FALSE))) | S36: =IF(D36=0,"",VLOOKUP(E36,$L$25:$Q$80,4,FALSE)) -> #N/A | T36: =IF(R36="","",IF(S36="C",IF(H36>=R36,"OK","FAIL"),IF(S36="F",IF(H36<=R36,"OK","FAIL"),IF(S36="D",IF(AND(H36<=R36,H36>=U36),"OK","FAIL"),IF(U36="",IF(H36=S36,"OK","FAIL"),IF(U36="9U",IF(H36<=9,"OK","FAIL"),IF(U36="UP",IF(H36>=15,"OK","FAIL"),IF(U36="DN",IF(H36<=7,"OK","FAIL"))))))))) | U36: =IF(R36="15U","UP",IF(R36="7D","DN",IF(R36="9U","9U",IF(S36="D",10,"")))) -> #N/A
A37: 女運動員 4 | F37: =IF(E37="","",VLOOKUP(E37,報名總表及收費!$I$29:$L$140,4)) | H37: =IF(D37="","", IF(D37=0,"",YEAR(NOW())-D37)) | J37: =IF(E37="","",IF(((VLOOKUP(E37,$L$25:$Q$67,5))<G37),"報項時間慢於達標時間",""))&IF(T37="FAIL"," 運動員錯組別","")&IF(E37="","",IF(MOD(E37,2)=1,""," 項目編號為男子組")) | L37: 25 | M37: =COUNTIFS($E$25:$E$160,"=25") -> 0 | N37: =IF(M37>$O$2, L37, "OK") -> OK | O37: =VLOOKUP(L37,報名總表及收費!$I$30:$K$118,2) -> 14 | P37: =IF(VLOOKUP(L37,報名總表及收費!$I$30:$K$118,3)=0,"",VLOOKUP(L37,報名總表及收費!$I$30:$K$118,3,FALSE)) | Q37: =IF(O37="D",YEAR(NOW())-$P$5,IF(O37="C",YEAR(NOW())-$O$5,IF(O37="F",YEAR(NOW())-$Q$5,IF(O37=0,"",O37)))) -> 14 | R37: =IF(E37=0,"",IF(MOD(E37,2)=0,"",VLOOKUP(E37,$L$24:$Q$80,6,FALSE))) | S37: =IF(D37=0,"",VLOOKUP(E37,$L$25:$Q$80,4,FALSE)) | T37: =IF(R37="","",IF(S37="C",IF(H37>=R37,"OK","FAIL"),IF(S37="F",IF(H37<=R37,"OK","FAIL"),IF(S37="D",IF(AND(H37<=R37,H37>=U37),"OK","FAIL"),IF(U37="",IF(H37=S37,"OK","FAIL"),IF(U37="9U",IF(H37<=9,"OK","FAIL"),IF(U37="UP",IF(H37>=15,"OK","FAIL"),IF(U37="DN",IF(H37<=7,"OK","FAIL"))))))))) | U37: =IF(R37="15U","UP",IF(R37="7D","DN",IF(R37="9U","9U",IF(S37="D",10,""))))
B38: =IF(B37=0,"",B37) | C38: =IF(C37=0,"",C37) | D38: =IF(D37=0,"",D37) | F38: =IF(E38="","",VLOOKUP(E38,報名總表及收費!$I$29:$L$140,4)) | H38: =IF(D38="","", IF(D38=0,"",YEAR(NOW())-D38)) | J38: =IF(E38="","",IF(((VLOOKUP(E38,$L$25:$Q$67,5))<G38),"報項時間慢於達標時間",""))&IF(T38="FAIL"," 運動員錯組別","")&IF(E38="","",IF(MOD(E38,2)=1,""," 項目編號為男子組")) | L38: 27 | M38: =COUNTIFS($E$25:$E$160,"=27") -> 0 | N38: =IF(M38>$O$2, L38, "OK") -> OK | O38: =VLOOKUP(L38,報名總表及收費!$I$30:$K$118,2) -> 15U | P38: =IF(VLOOKUP(L38,報名總表及收費!$I$30:$K$118,3)=0,"",VLOOKUP(L38,報名總表及收費!$I$30:$K$118,3,FALSE)) | Q38: =IF(O38="D",YEAR(NOW())-$P$5,IF(O38="C",YEAR(NOW())-$O$5,IF(O38="F",YEAR(NOW())-$Q$5,IF(O38=0,"",O38)))) -> 15U | R38: =IF(E38=0,"",IF(MOD(E38,2)=0,"",VLOOKUP(E38,$L$24:$Q$80,6,FALSE))) | S38: =IF(D38=0,"",VLOOKUP(E38,$L$25:$Q$80,4,FALSE)) -> #N/A | T38: =IF(R38="","",IF(S38="C",IF(H38>=R38,"OK","FAIL"),IF(S38="F",IF(H38<=R38,"OK","FAIL"),IF(S38="D",IF(AND(H38<=R38,H38>=U38),"OK","FAIL"),IF(U38="",IF(H38=S38,"OK","FAIL"),IF(U38="9U",IF(H38<=9,"OK","FAIL"),IF(U38="UP",IF(H38>=15,"OK","FAIL"),IF(U38="DN",IF(H38<=7,"OK","FAIL"))))))))) | U38: =IF(R38="15U","UP",IF(R38="7D","DN",IF(R38="9U","9U",IF(S38="D",10,"")))) -> #N/A
B39: =IF(B38=0,"",B38) | C39: =IF(C38=0,"",C38) | D39: =IF(D38=0,"",D38) | F39: =IF(E39="","",VLOOKUP(E39,報名總表及收費!$I$29:$L$140,4)) | H39: =IF(D39="","", IF(D39=0,"",YEAR(NOW())-D39)) | J39: =IF(E39="","",IF(((VLOOKUP(E39,$L$25:$Q$67,5))<G39),"報項時間慢於達標時間",""))&IF(T39="FAIL"," 運動員錯組別","")&IF(E39="","",IF(MOD(E39,2)=1,""," 項目編號為男子組")) | L39: 29 | M39: =COUNTIFS($E$25:$E$160,"=29") -> 0 | N39: =IF(M39>$O$2, L39, "OK") -> OK | O39: =VLOOKUP(L39,報名總表及收費!$I$30:$K$118,2) -> 14 | P39: =IF(VLOOKUP(L39,報名總表及收費!$I$30:$K$118,3)=0,"",VLOOKUP(L39,報名總表及收費!$I$30:$K$118,3,FALSE)) | Q39: =IF(O39="D",YEAR(NOW())-$P$5,IF(O39="C",YEAR(NOW())-$O$5,IF(O39="F",YEAR(NOW())-$Q$5,IF(O39=0,"",O39)))) -> 14 | R39: =IF(E39=0,"",IF(MOD(E39,2)=0,"",VLOOKUP(E39,$L$24:$Q$80,6,FALSE))) | S39: =IF(D39=0,"",VLOOKUP(E39,$L$25:$Q$80,4,FALSE)) -> #N/A | T39: =IF(R39="","",IF(S39="C",IF(H39>=R39,"OK","FAIL"),IF(S39="F",IF(H39<=R39,"OK","FAIL"),IF(S39="D",IF(AND(H39<=R39,H39>=U39),"OK","FAIL"),IF(U39="",IF(H39=S39,"OK","FAIL"),IF(U39="9U",IF(H39<=9,"OK","FAIL"),IF(U39="UP",IF(H39>=15,"OK","FAIL"),IF(U39="DN",IF(H39<=7,"OK","FAIL"))))))))) | U39: =IF(R39="15U","UP",IF(R39="7D","DN",IF(R39="9U","9U",IF(S39="D",10,"")))) -> #N/A
B40: =IF(B39=0,"",B39) | C40: =IF(C39=0,"",C39) | D40: =IF(D39=0,"",D39) | F40: =IF(E40="","",VLOOKUP(E40,報名總表及收費!$I$29:$L$140,4)) | H40: =IF(D40="","", IF(D40=0,"",YEAR(NOW())-D40)) | J40: =IF(E40="","",IF(((VLOOKUP(E40,$L$25:$Q$67,5))<G40),"報項時間慢於達標時間",""))&IF(T40="FAIL"," 運動員錯組別","")&IF(E40="","",IF(MOD(E40,2)=1,""," 項目編號為男子組")) | L40: 31 | M40: =COUNTIFS($E$25:$E$160,"=31") -> 0 | N40: =IF(M40>$O$2, L40, "OK") -> OK | O40: =VLOOKUP(L40,報名總表及收費!$I$30:$K$118,2) -> 15U | P40: =IF(VLOOKUP(L40,報名總表及收費!$I$30:$K$118,3)=0,"",VLOOKUP(L40,報名總表及收費!$I$30:$K$118,3,FALSE)) | Q40: =IF(O40="D",YEAR(NOW())-$P$5,IF(O40="C",YEAR(NOW())-$O$5,IF(O40="F",YEAR(NOW())-$Q$5,IF(O40=0,"",O40)))) -> 15U | R40: =IF(E40=0,"",IF(MOD(E40,2)=0,"",VLOOKUP(E40,$L$24:$Q$80,6,FALSE))) | S40: =IF(D40=0,"",VLOOKUP(E40,$L$25:$Q$80,4,FALSE)) -> #N/A | T40: =IF(R40="","",IF(S40="C",IF(H40>=R40,"OK","FAIL"),IF(S40="F",IF(H40<=R40,"OK","FAIL"),IF(S40="D",IF(AND(H40<=R40,H40>=U40),"OK","FAIL"),IF(U40="",IF(H40=S40,"OK","FAIL"),IF(U40="9U",IF(H40<=9,"OK","FAIL"),IF(U40="UP",IF(H40>=15,"OK","FAIL"),IF(U40="DN",IF(H40<=7,"OK","FAIL"))))))))) | U40: =IF(R40="15U","UP",IF(R40="7D","DN",IF(R40="9U","9U",IF(S40="D",10,"")))) -> #N/A
A41: 女運動員 5 | F41: =IF(E41="","",VLOOKUP(E41,報名總表及收費!$I$29:$L$140,4)) | H41: =IF(D41="","", IF(D41=0,"",YEAR(NOW())-D41)) | J41: =IF(E41="","",IF(((VLOOKUP(E41,$L$25:$Q$67,5))<G41),"報項時間慢於達標時間",""))&IF(T41="FAIL"," 運動員錯組別","")&IF(E41="","",IF(MOD(E41,2)=1,""," 項目編號為男子組")) | L41: 33 | M41: =COUNTIFS($E$25:$E$160,"=33") -> 0 | N41: =IF(M41>$O$2, L41, "OK") -> OK | O41: =VLOOKUP(L41,報名總表及收費!$I$30:$K$118,2) | P41: =IF(VLOOKUP(L41,報名總表及收費!$I$30:$K$118,3)=0,"",VLOOKUP(L41,報名總表及收費!$I$30:$K$118,3,FALSE)) | Q41: =IF(O41="D",YEAR(NOW())-$P$5,IF(O41="C",YEAR(NOW())-$O$5,IF(O41="F",YEAR(NOW())-$Q$5,IF(O41=0,"",O41)))) | R41: =IF(E41=0,"",IF(MOD(E41,2)=0,"",VLOOKUP(E41,$L$24:$Q$80,6,FALSE))) | S41: =IF(D41=0,"",VLOOKUP(E41,$L$25:$Q$80,4,FALSE)) | T41: =IF(R41="","",IF(S41="C",IF(H41>=R41,"OK","FAIL"),IF(S41="F",IF(H41<=R41,"OK","FAIL"),IF(S41="D",IF(AND(H41<=R41,H41>=U41),"OK","FAIL"),IF(U41="",IF(H41=S41,"OK","FAIL"),IF(U41="9U",IF(H41<=9,"OK","FAIL"),IF(U41="UP",IF(H41>=15,"OK","FAIL"),IF(U41="DN",IF(H41<=7,"OK","FAIL"))))))))) | U41: =IF(R41="15U","UP",IF(R41="7D","DN",IF(R41="9U","9U",IF(S41="D",10,""))))
B42: =IF(B41=0,"",B41) | C42: =IF(C41=0,"",C41) | D42: =IF(D41=0,"",D41) | F42: =IF(E42="","",VLOOKUP(E42,報名總表及收費!$I$29:$L$140,4)) | H42: =IF(D42="","", IF(D42=0,"",YEAR(NOW())-D42)) | J42: =IF(E42="","",IF(((VLOOKUP(E42,$L$25:$Q$67,5))<G42),"報項時間慢於達標時間",""))&IF(T42="FAIL"," 運動員錯組別","")&IF(E42="","",IF(MOD(E42,2)=1,""," 項目編號為男子組")) | L42: 35 | M42: =COUNTIFS($E$25:$E$160,"=35") -> 0 | N42: =IF(M42>$O$2, L42, "OK") -> OK | O42: =VLOOKUP(L42,報名總表及收費!$I$30:$K$118,2) | P42: =IF(VLOOKUP(L42,報名總表及收費!$I$30:$K$118,3)=0,"",VLOOKUP(L42,報名總表及收費!$I$30:$K$118,3,FALSE)) | Q42: =IF(O42="D",YEAR(NOW())-$P$5,IF(O42="C",YEAR(NOW())-$O$5,IF(O42="F",YEAR(NOW())-$Q$5,IF(O42=0,"",O42)))) | R42: =IF(E42=0,"",IF(MOD(E42,2)=0,"",VLOOKUP(E42,$L$24:$Q$80,6,FALSE))) | S42: =IF(D42=0,"",VLOOKUP(E42,$L$25:$Q$80,4,FALSE)) -> #N/A | T42: =IF(R42="","",IF(S42="C",IF(H42>=R42,"OK","FAIL"),IF(S42="F",IF(H42<=R42,"OK","FAIL"),IF(S42="D",IF(AND(H42<=R42,H42>=U42),"OK","FAIL"),IF(U42="",IF(H42=S42,"OK","FAIL"),IF(U42="9U",IF(H42<=9,"OK","FAIL"),IF(U42="UP",IF(H42>=15,"OK","FAIL"),IF(U42="DN",IF(H42<=7,"OK","FAIL"))))))))) | U42: =IF(R42="15U","UP",IF(R42="7D","DN",IF(R42="9U","9U",IF(S42="D",10,"")))) -> #N/A
B43: =IF(B42=0,"",B42) | C43: =IF(C42=0,"",C42) | D43: =IF(D42=0,"",D42) | F43: =IF(E43="","",VLOOKUP(E43,報名總表及收費!$I$29:$L$140,4)) | H43: =IF(D43="","", IF(D43=0,"",YEAR(NOW())-D43)) | J43: =IF(E43="","",IF(((VLOOKUP(E43,$L$25:$Q$67,5))<G43),"報項時間慢於達標時間",""))&IF(T43="FAIL"," 運動員錯組別","")&IF(E43="","",IF(MOD(E43,2)=1,""," 項目編號為男子組")) | L43: 37 | M43: =COUNTIFS($E$25:$E$160,"=37") -> 0 | N43: =IF(M43>$O$2, L43, "OK") -> OK | O43: =VLOOKUP(L43,報名總表及收費!$I$30:$K$118,2) -> 12 | P43: =IF(VLOOKUP(L43,報名總表及收費!$I$30:$K$118,3)=0,"",VLOOKUP(L43,報名總表及收費!$I$30:$K$118,3,FALSE)) | Q43: =IF(O43="D",YEAR(NOW())-$P$5,IF(O43="C",YEAR(NOW())-$O$5,IF(O43="F",YEAR(NOW())-$Q$5,IF(O43=0,"",O43)))) -> 12 | R43: =IF(E43=0,"",IF(MOD(E43,2)=0,"",VLOOKUP(E43,$L$24:$Q$80,6,FALSE))) | S43: =IF(D43=0,"",VLOOKUP(E43,$L$25:$Q$80,4,FALSE)) -> #N/A | T43: =IF(R43="","",IF(S43="C",IF(H43>=R43,"OK","FAIL"),IF(S43="F",IF(H43<=R43,"OK","FAIL"),IF(S43="D",IF(AND(H43<=R43,H43>=U43),"OK","FAIL"),IF(U43="",IF(H43=S43,"OK","FAIL"),IF(U43="9U",IF(H43<=9,"OK","FAIL"),IF(U43="UP",IF(H43>=15,"OK","FAIL"),IF(U43="DN",IF(H43<=7,"OK","FAIL"))))))))) | U43: =IF(R43="15U","UP",IF(R43="7D","DN",IF(R43="9U","9U",IF(S43="D",10,"")))) -> #N/A
B44: =IF(B43=0,"",B43) | C44: =IF(C43=0,"",C43) | D44: =IF(D43=0,"",D43) | F44: =IF(E44="","",VLOOKUP(E44,報名總表及收費!$I$29:$L$140,4)) | H44: =IF(D44="","", IF(D44=0,"",YEAR(NOW())-D44)) | J44: =IF(E44="","",IF(((VLOOKUP(E44,$L$25:$Q$67,5))<G44),"報項時間慢於達標時間",""))&IF(T44="FAIL"," 運動員錯組別","")&IF(E44="","",IF(MOD(E44,2)=1,""," 項目編號為男子組")) | L44: 39 | M44: =COUNTIFS($E$25:$E$160,"=39") -> 0 | N44: =IF(M44>$O$2, L44, "OK") -> OK | O44: =VLOOKUP(L44,報名總表及收費!$I$30:$K$118,2) -> 13 | P44: =IF(VLOOKUP(L44,報名總表及收費!$I$30:$K$118,3)=0,"",VLOOKUP(L44,報名總表及收費!$I$30:$K$118,3,FALSE)) | Q44: =IF(O44="D",YEAR(NOW())-$P$5,IF(O44="C",YEAR(NOW())-$O$5,IF(O44="F",YEAR(NOW())-$Q$5,IF(O44=0,"",O44)))) -> 13 | R44: =IF(E44=0,"",IF(MOD(E44,2)=0,"",VLOOKUP(E44,$L$24:$Q$80,6,FALSE))) | S44: =IF(D44=0,"",VLOOKUP(E44,$L$25:$Q$80,4,FALSE)) -> #N/A | T44: =IF(R44="","",IF(S44="C",IF(H44>=R44,"OK","FAIL"),IF(S44="F",IF(H44<=R44,"OK","FAIL"),IF(S44="D",IF(AND(H44<=R44,H44>=U44),"OK","FAIL"),IF(U44="",IF(H44=S44,"OK","FAIL"),IF(U44="9U",IF(H44<=9,"OK","FAIL"),IF(U44="UP",IF(H44>=15,"OK","FAIL"),IF(U44="DN",IF(H44<=7,"OK","FAIL"))))))))) | U44: =IF(R44="15U","UP",IF(R44="7D","DN",IF(R44="9U","9U",IF(S44="D",10,"")))) -> #N/A
A45: 女運動員 6 | F45: =IF(E45="","",VLOOKUP(E45,報名總表及收費!$I$29:$L$140,4)) | H45: =IF(D45="","", IF(D45=0,"",YEAR(NOW())-D45)) | J45: =IF(E45="","",IF(((VLOOKUP(E45,$L$25:$Q$67,5))<G45),"報項時間慢於達標時間",""))&IF(T45="FAIL"," 運動員錯組別","")&IF(E45="","",IF(MOD(E45,2)=1,""," 項目編號為男子組")) | L45: 41 | M45: =COUNTIFS($E$25:$E$160,"=41") -> 0 | N45: =IF(M45>$O$2, L45, "OK") -> OK | O45: =VLOOKUP(L45,報名總表及收費!$I$30:$K$118,2) -> 12 | P45: =IF(VLOOKUP(L45,報名總表及收費!$I$30:$K$118,3)=0,"",VLOOKUP(L45,報名總表及收費!$I$30:$K$118,3,FALSE)) | Q45: =IF(O45="D",YEAR(NOW())-$P$5,IF(O45="C",YEAR(NOW())-$O$5,IF(O45="F",YEAR(NOW())-$Q$5,IF(O45=0,"",O45)))) -> 12 | R45: =IF(E45=0,"",IF(MOD(E45,2)=0,"",VLOOKUP(E45,$L$24:$Q$80,6,FALSE))) | S45: =IF(D45=0,"",VLOOKUP(E45,$L$25:$Q$80,4,FALSE)) | T45: =IF(R45="","",IF(S45="C",IF(H45>=R45,"OK","FAIL"),IF(S45="F",IF(H45<=R45,"OK","FAIL"),IF(S45="D",IF(AND(H45<=R45,H45>=U45),"OK","FAIL"),IF(U45="",IF(H45=S45,"OK","FAIL"),IF(U45="9U",IF(H45<=9,"OK","FAIL"),IF(U45="UP",IF(H45>=15,"OK","FAIL"),IF(U45="DN",IF(H45<=7,"OK","FAIL"))))))))) | U45: =IF(R45="15U","UP",IF(R45="7D","DN",IF(R45="9U","9U",IF(S45="D",10,""))))
B46: =IF(B45=0,"",B45) | C46: =IF(C45=0,"",C45) | D46: =IF(D45=0,"",D45) | F46: =IF(E46="","",VLOOKUP(E46,報名總表及收費!$I$29:$L$140,4)) | H46: =IF(D46="","", IF(D46=0,"",YEAR(NOW())-D46)) | J46: =IF(E46="","",IF(((VLOOKUP(E46,$L$25:$Q$67,5))<G46),"報項時間慢於達標時間",""))&IF(T46="FAIL"," 運動員錯組別","")&IF(E46="","",IF(MOD(E46,2)=1,""," 項目編號為男子組")) | L46: 43 | M46: =COUNTIFS($E$25:$E$160,"=43") -> 0 | N46: =IF(M46>$O$2, L46, "OK") -> OK | O46: =VLOOKUP(L46,報名總表及收費!$I$30:$K$118,2) -> 13 | P46: =IF(VLOOKUP(L46,報名總表及收費!$I$30:$K$118,3)=0,"",VLOOKUP(L46,報名總表及收費!$I$30:$K$118,3,FALSE)) | Q46: =IF(O46="D",YEAR(NOW())-$P$5,IF(O46="C",YEAR(NOW())-$O$5,IF(O46="F",YEAR(NOW())-$Q$5,IF(O46=0,"",O46)))) -> 13 | R46: =IF(E46=0,"",IF(MOD(E46,2)=0,"",VLOOKUP(E46,$L$24:$Q$80,6,FALSE))) | S46: =IF(D46=0,"",VLOOKUP(E46,$L$25:$Q$80,4,FALSE)) -> #N/A | T46: =IF(R46="","",IF(S46="C",IF(H46>=R46,"OK","FAIL"),IF(S46="F",IF(H46<=R46,"OK","FAIL"),IF(S46="D",IF(AND(H46<=R46,H46>=U46),"OK","FAIL"),IF(U46="",IF(H46=S46,"OK","FAIL"),IF(U46="9U",IF(H46<=9,"OK","FAIL"),IF(U46="UP",IF(H46>=15,"OK","FAIL"),IF(U46="DN",IF(H46<=7,"OK","FAIL"))))))))) | U46: =IF(R46="15U","UP",IF(R46="7D","DN",IF(R46="9U","9U",IF(S46="D",10,"")))) -> #N/A
B47: =IF(B46=0,"",B46) | C47: =IF(C46=0,"",C46) | D47: =IF(D46=0,"",D46) | F47: =IF(E47="","",VLOOKUP(E47,報名總表及收費!$I$29:$L$140,4)) | H47: =IF(D47="","", IF(D47=0,"",YEAR(NOW())-D47)) | J47: =IF(E47="","",IF(((VLOOKUP(E47,$L$25:$Q$67,5))<G47),"報項時間慢於達標時間",""))&IF(T47="FAIL"," 運動員錯組別","")&IF(E47="","",IF(MOD(E47,2)=1,""," 項目編號為男子組")) | L47: 45 | M47: =COUNTIFS($E$25:$E$160,"=45") -> 0 | N47: =IF(M47>$O$2, L47, "OK") -> OK | O47: =VLOOKUP(L47,報名總表及收費!$I$30:$K$118,2) -> 12 | P47: =IF(VLOOKUP(L47,報名總表及收費!$I$30:$K$118,3)=0,"",VLOOKUP(L47,報名總表及收費!$I$30:$K$118,3,FALSE)) | Q47: =IF(O47="D",YEAR(NOW())-$P$5,IF(O47="C",YEAR(NOW())-$O$5,IF(O47="F",YEAR(NOW())-$Q$5,IF(O47=0,"",O47)))) -> 12 | R47: =IF(E47=0,"",IF(MOD(E47,2)=0,"",VLOOKUP(E47,$L$24:$Q$80,6,FALSE))) | S47: =IF(D47=0,"",VLOOKUP(E47,$L$25:$Q$80,4,FALSE)) -> #N/A | T47: =IF(R47="","",IF(S47="C",IF(H47>=R47,"OK","FAIL"),IF(S47="F",IF(H47<=R47,"OK","FAIL"),IF(S47="D",IF(AND(H47<=R47,H47>=U47),"OK","FAIL"),IF(U47="",IF(H47=S47,"OK","FAIL"),IF(U47="9U",IF(H47<=9,"OK","FAIL"),IF(U47="UP",IF(H47>=15,"OK","FAIL"),IF(U47="DN",IF(H47<=7,"OK","FAIL"))))))))) | U47: =IF(R47="15U","UP",IF(R47="7D","DN",IF(R47="9U","9U",IF(S47="D",10,"")))) -> #N/A
B48: =IF(B47=0,"",B47) | C48: =IF(C47=0,"",C47) | D48: =IF(D47=0,"",D47) | F48: =IF(E48="","",VLOOKUP(E48,報名總表及收費!$I$29:$L$140,4)) | H48: =IF(D48="","", IF(D48=0,"",YEAR(NOW())-D48)) | J48: =IF(E48="","",IF(((VLOOKUP(E48,$L$25:$Q$67,5))<G48),"報項時間慢於達標時間",""))&IF(T48="FAIL"," 運動員錯組別","")&IF(E48="","",IF(MOD(E48,2)=1,""," 項目編號為男子組")) | L48: 47 | M48: =COUNTIFS($E$25:$E$160,"=47") -> 0 | N48: =IF(M48>$O$2, L48, "OK") -> OK | O48: =VLOOKUP(L48,報名總表及收費!$I$30:$K$118,2) -> 13 | P48: =IF(VLOOKUP(L48,報名總表及收費!$I$30:$K$118,3)=0,"",VLOOKUP(L48,報名總表及收費!$I$30:$K$118,3,FALSE)) | Q48: =IF(O48="D",YEAR(NOW())-$P$5,IF(O48="C",YEAR(NOW())-$O$5,IF(O48="F",YEAR(NOW())-$Q$5,IF(O48=0,"",O48)))) -> 13 | R48: =IF(E48=0,"",IF(MOD(E48,2)=0,"",VLOOKUP(E48,$L$24:$Q$80,6,FALSE))) | S48: =IF(D48=0,"",VLOOKUP(E48,$L$25:$Q$80,4,FALSE)) -> #N/A | T48: =IF(R48="","",IF(S48="C",IF(H48>=R48,"OK","FAIL"),IF(S48="F",IF(H48<=R48,"OK","FAIL"),IF(S48="D",IF(AND(H48<=R48,H48>=U48),"OK","FAIL"),IF(U48="",IF(H48=S48,"OK","FAIL"),IF(U48="9U",IF(H48<=9,"OK","FAIL"),IF(U48="UP",IF(H48>=15,"OK","FAIL"),IF(U48="DN",IF(H48<=7,"OK","FAIL"))))))))) | U48: =IF(R48="15U","UP",IF(R48="7D","DN",IF(R48="9U","9U",IF(S48="D",10,"")))) -> #N/A
A49: 女運動員 7 | F49: =IF(E49="","",VLOOKUP(E49,報名總表及收費!$I$29:$L$140,4)) | H49: =IF(D49="","", IF(D49=0,"",YEAR(NOW())-D49)) | J49: =IF(E49="","",IF(((VLOOKUP(E49,$L$25:$Q$67,5))<G49),"報項時間慢於達標時間",""))&IF(T49="FAIL"," 運動員錯組別","")&IF(E49="","",IF(MOD(E49,2)=1,""," 項目編號為男子組")) | L49: 49 | M49: =COUNTIFS($E$25:$E$160,"=49") -> 0 | N49: =IF(M49>$O$2, L49, "OK") -> OK | O49: =VLOOKUP(L49,報名總表及收費!$I$30:$K$118,2) -> 12 | P49: =IF(VLOOKUP(L49,報名總表及收費!$I$30:$K$118,3)=0,"",VLOOKUP(L49,報名總表及收費!$I$30:$K$118,3,FALSE)) | Q49: =IF(O49="D",YEAR(NOW())-$P$5,IF(O49="C",YEAR(NOW())-$O$5,IF(O49="F",YEAR(NOW())-$Q$5,IF(O49=0,"",O49)))) -> 12 | R49: =IF(E49=0,"",IF(MOD(E49,2)=0,"",VLOOKUP(E49,$L$24:$Q$80,6,FALSE))) | S49: =IF(D49=0,"",VLOOKUP(E49,$L$25:$Q$80,4,FALSE)) | T49: =IF(R49="","",IF(S49="C",IF(H49>=R49,"OK","FAIL"),IF(S49="F",IF(H49<=R49,"OK","FAIL"),IF(S49="D",IF(AND(H49<=R49,H49>=U49),"OK","FAIL"),IF(U49="",IF(H49=S49,"OK","FAIL"),IF(U49="9U",IF(H49<=9,"OK","FAIL"),IF(U49="UP",IF(H49>=15,"OK","FAIL"),IF(U49="DN",IF(H49<=7,"OK","FAIL"))))))))) | U49: =IF(R49="15U","UP",IF(R49="7D","DN",IF(R49="9U","9U",IF(S49="D",10,""))))
B50: =IF(B49=0,"",B49) | C50: =IF(C49=0,"",C49) | D50: =IF(D49=0,"",D49) | F50: =IF(E50="","",VLOOKUP(E50,報名總表及收費!$I$29:$L$140,4)) | H50: =IF(D50="","", IF(D50=0,"",YEAR(NOW())-D50)) | J50: =IF(E50="","",IF(((VLOOKUP(E50,$L$25:$Q$67,5))<G50),"報項時間慢於達標時間",""))&IF(T50="FAIL"," 運動員錯組別","")&IF(E50="","",IF(MOD(E50,2)=1,""," 項目編號為男子組")) | L50: 51 | M50: =COUNTIFS($E$25:$E$160,"=51") -> 0 | N50: =IF(M50>$O$2, L50, "OK") -> OK | O50: =VLOOKUP(L50,報名總表及收費!$I$30:$K$118,2) -> 13 | P50: =IF(VLOOKUP(L50,報名總表及收費!$I$30:$K$118,3)=0,"",VLOOKUP(L50,報名總表及收費!$I$30:$K$118,3,FALSE)) | Q50: =IF(O50="D",YEAR(NOW())-$P$5,IF(O50="C",YEAR(NOW())-$O$5,IF(O50="F",YEAR(NOW())-$Q$5,IF(O50=0,"",O50)))) -> 13 | R50: =IF(E50=0,"",IF(MOD(E50,2)=0,"",VLOOKUP(E50,$L$24:$Q$80,6,FALSE))) | S50: =IF(D50=0,"",VLOOKUP(E50,$L$25:$Q$80,4,FALSE)) -> #N/A | T50: =IF(R50="","",IF(S50="C",IF(H50>=R50,"OK","FAIL"),IF(S50="F",IF(H50<=R50,"OK","FAIL"),IF(S50="D",IF(AND(H50<=R50,H50>=U50),"OK","FAIL"),IF(U50="",IF(H50=S50,"OK","FAIL"),IF(U50="9U",IF(H50<=9,"OK","FAIL"),IF(U50="UP",IF(H50>=15,"OK","FAIL"),IF(U50="DN",IF(H50<=7,"OK","FAIL"))))))))) | U50: =IF(R50="15U","UP",IF(R50="7D","DN",IF(R50="9U","9U",IF(S50="D",10,"")))) -> #N/A
B51: =IF(B50=0,"",B50) | C51: =IF(C50=0,"",C50) | D51: =IF(D50=0,"",D50) | F51: =IF(E51="","",VLOOKUP(E51,報名總表及收費!$I$29:$L$140,4)) | H51: =IF(D51="","", IF(D51=0,"",YEAR(NOW())-D51)) | J51: =IF(E51="","",IF(((VLOOKUP(E51,$L$25:$Q$67,5))<G51),"報項時間慢於達標時間",""))&IF(T51="FAIL"," 運動員錯組別","")&IF(E51="","",IF(MOD(E51,2)=1,""," 項目編號為男子組")) | L51: 53 | M51: =COUNTIFS($E$25:$E$160,"=53") -> 0 | N51: =IF(M51>$O$2, L51, "OK") -> OK | O51: =VLOOKUP(L51,報名總表及收費!$I$30:$K$118,2) -> 12 | P51: =IF(VLOOKUP(L51,報名總表及收費!$I$30:$K$118,3)=0,"",VLOOKUP(L51,報名總表及收費!$I$30:$K$118,3,FALSE)) | Q51: =IF(O51="D",YEAR(NOW())-$P$5,IF(O51="C",YEAR(NOW())-$O$5,IF(O51="F",YEAR(NOW())-$Q$5,IF(O51=0,"",O51)))) -> 12 | R51: =IF(E51=0,"",IF(MOD(E51,2)=0,"",VLOOKUP(E51,$L$24:$Q$80,6,FALSE))) | S51: =IF(D51=0,"",VLOOKUP(E51,$L$25:$Q$80,4,FALSE)) -> #N/A | T51: =IF(R51="","",IF(S51="C",IF(H51>=R51,"OK","FAIL"),IF(S51="F",IF(H51<=R51,"OK","FAIL"),IF(S51="D",IF(AND(H51<=R51,H51>=U51),"OK","FAIL"),IF(U51="",IF(H51=S51,"OK","FAIL"),IF(U51="9U",IF(H51<=9,"OK","FAIL"),IF(U51="UP",IF(H51>=15,"OK","FAIL"),IF(U51="DN",IF(H51<=7,"OK","FAIL"))))))))) | U51: =IF(R51="15U","UP",IF(R51="7D","DN",IF(R51="9U","9U",IF(S51="D",10,"")))) -> #N/A
B52: =IF(B51=0,"",B51) | C52: =IF(C51=0,"",C51) | D52: =IF(D51=0,"",D51) | F52: =IF(E52="","",VLOOKUP(E52,報名總表及收費!$I$29:$L$140,4)) | H52: =IF(D52="","", IF(D52=0,"",YEAR(NOW())-D52)) | J52: =IF(E52="","",IF(((VLOOKUP(E52,$L$25:$Q$67,5))<G52),"報項時間慢於達標時間",""))&IF(T52="FAIL"," 運動員錯組別","")&IF(E52="","",IF(MOD(E52,2)=1,""," 項目編號為男子組")) | L52: 55 | M52: =COUNTIFS($E$25:$E$160,"=55") -> 0 | N52: =IF(M52>$O$2, L52, "OK") -> OK | O52: =VLOOKUP(L52,報名總表及收費!$I$30:$K$118,2) -> 13 | P52: =IF(VLOOKUP(L52,報名總表及收費!$I$30:$K$118,3)=0,"",VLOOKUP(L52,報名總表及收費!$I$30:$K$118,3,FALSE)) | Q52: =IF(O52="D",YEAR(NOW())-$P$5,IF(O52="C",YEAR(NOW())-$O$5,IF(O52="F",YEAR(NOW())-$Q$5,IF(O52=0,"",O52)))) -> 13 | R52: =IF(E52=0,"",IF(MOD(E52,2)=0,"",VLOOKUP(E52,$L$24:$Q$80,6,FALSE))) | S52: =IF(D52=0,"",VLOOKUP(E52,$L$25:$Q$80,4,FALSE)) -> #N/A | T52: =IF(R52="","",IF(S52="C",IF(H52>=R52,"OK","FAIL"),IF(S52="F",IF(H52<=R52,"OK","FAIL"),IF(S52="D",IF(AND(H52<=R52,H52>=U52),"OK","FAIL"),IF(U52="",IF(H52=S52,"OK","FAIL"),IF(U52="9U",IF(H52<=9,"OK","FAIL"),IF(U52="UP",IF(H52>=15,"OK","FAIL"),IF(U52="DN",IF(H52<=7,"OK","FAIL"))))))))) | U52: =IF(R52="15U","UP",IF(R52="7D","DN",IF(R52="9U","9U",IF(S52="D",10,"")))) -> #N/A
A53: 女運動員 8 | F53: =IF(E53="","",VLOOKUP(E53,報名總表及收費!$I$29:$L$140,4)) | H53: =IF(D53="","", IF(D53=0,"",YEAR(NOW())-D53)) | J53: =IF(E53="","",IF(((VLOOKUP(E53,$L$25:$Q$67,5))<G53),"報項時間慢於達標時間",""))&IF(T53="FAIL"," 運動員錯組別","")&IF(E53="","",IF(MOD(E53,2)=1,""," 項目編號為男子組")) | L53: 57 | M53: =COUNTIFS($E$25:$E$160,"=57") -> 0 | N53: =IF(M53>$O$2, L53, "OK") -> OK | O53: =VLOOKUP(L53,報名總表及收費!$I$30:$K$118,2) -> 12 | P53: =IF(VLOOKUP(L53,報名總表及收費!$I$30:$K$118,3)=0,"",VLOOKUP(L53,報名總表及收費!$I$30:$K$118,3,FALSE)) | Q53: =IF(O53="D",YEAR(NOW())-$P$5,IF(O53="C",YEAR(NOW())-$O$5,IF(O53="F",YEAR(NOW())-$Q$5,IF(O53=0,"",O53)))) -> 12 | R53: =IF(E53=0,"",IF(MOD(E53,2)=0,"",VLOOKUP(E53,$L$24:$Q$80,6,FALSE))) | S53: =IF(D53=0,"",VLOOKUP(E53,$L$25:$Q$80,4,FALSE)) | T53: =IF(R53="","",IF(S53="C",IF(H53>=R53,"OK","FAIL"),IF(S53="F",IF(H53<=R53,"OK","FAIL"),IF(S53="D",IF(AND(H53<=R53,H53>=U53),"OK","FAIL"),IF(U53="",IF(H53=S53,"OK","FAIL"),IF(U53="9U",IF(H53<=9,"OK","FAIL"),IF(U53="UP",IF(H53>=15,"OK","FAIL"),IF(U53="DN",IF(H53<=7,"OK","FAIL"))))))))) | U53: =IF(R53="15U","UP",IF(R53="7D","DN",IF(R53="9U","9U",IF(S53="D",10,""))))
B54: =IF(B53=0,"",B53) | C54: =IF(C53=0,"",C53) | D54: =IF(D53=0,"",D53) | F54: =IF(E54="","",VLOOKUP(E54,報名總表及收費!$I$29:$L$140,4)) | H54: =IF(D54="","", IF(D54=0,"",YEAR(NOW())-D54)) | J54: =IF(E54="","",IF(((VLOOKUP(E54,$L$25:$Q$67,5))<G54),"報項時間慢於達標時間",""))&IF(T54="FAIL"," 運動員錯組別","")&IF(E54="","",IF(MOD(E54,2)=1,""," 項目編號為男子組")) | L54: 59 | M54: =COUNTIFS($E$25:$E$160,"=59") -> 0 | N54: =IF(M54>$O$2, L54, "OK") -> OK | O54: =VLOOKUP(L54,報名總表及收費!$I$30:$K$118,2) -> 13 | P54: =IF(VLOOKUP(L54,報名總表及收費!$I$30:$K$118,3)=0,"",VLOOKUP(L54,報名總表及收費!$I$30:$K$118,3,FALSE)) | Q54: =IF(O54="D",YEAR(NOW())-$P$5,IF(O54="C",YEAR(NOW())-$O$5,IF(O54="F",YEAR(NOW())-$Q$5,IF(O54=0,"",O54)))) -> 13 | R54: =IF(E54=0,"",IF(MOD(E54,2)=0,"",VLOOKUP(E54,$L$24:$Q$80,6,FALSE))) | S54: =IF(D54=0,"",VLOOKUP(E54,$L$25:$Q$80,4,FALSE)) -> #N/A | T54: =IF(R54="","",IF(S54="C",IF(H54>=R54,"OK","FAIL"),IF(S54="F",IF(H54<=R54,"OK","FAIL"),IF(S54="D",IF(AND(H54<=R54,H54>=U54),"OK","FAIL"),IF(U54="",IF(H54=S54,"OK","FAIL"),IF(U54="9U",IF(H54<=9,"OK","FAIL"),IF(U54="UP",IF(H54>=15,"OK","FAIL"),IF(U54="DN",IF(H54<=7,"OK","FAIL"))))))))) | U54: =IF(R54="15U","UP",IF(R54="7D","DN",IF(R54="9U","9U",IF(S54="D",10,"")))) -> #N/A
B55: =IF(B54=0,"",B54) | C55: =IF(C54=0,"",C54) | D55: =IF(D54=0,"",D54) | F55: =IF(E55="","",VLOOKUP(E55,報名總表及收費!$I$29:$L$140,4)) | H55: =IF(D55="","", IF(D55=0,"",YEAR(NOW())-D55)) | J55: =IF(E55="","",IF(((VLOOKUP(E55,$L$25:$Q$67,5))<G55),"報項時間慢於達標時間",""))&IF(T55="FAIL"," 運動員錯組別","")&IF(E55="","",IF(MOD(E55,2)=1,""," 項目編號為男子組")) | L55: 61 | M55: =COUNTIFS($E$25:$E$160,"=61") -> 0 | N55: =IF(M55>$O$2, L55, "OK") -> OK | O55: =VLOOKUP(L55,報名總表及收費!$I$30:$K$118,2) -> 12 | P55: =IF(VLOOKUP(L55,報名總表及收費!$I$30:$K$118,3)=0,"",VLOOKUP(L55,報名總表及收費!$I$30:$K$118,3,FALSE)) | Q55: =IF(O55="D",YEAR(NOW())-$P$5,IF(O55="C",YEAR(NOW())-$O$5,IF(O55="F",YEAR(NOW())-$Q$5,IF(O55=0,"",O55)))) -> 12 | R55: =IF(E55=0,"",IF(MOD(E55,2)=0,"",VLOOKUP(E55,$L$24:$Q$80,6,FALSE))) | S55: =IF(D55=0,"",VLOOKUP(E55,$L$25:$Q$80,4,FALSE)) -> #N/A | T55: =IF(R55="","",IF(S55="C",IF(H55>=R55,"OK","FAIL"),IF(S55="F",IF(H55<=R55,"OK","FAIL"),IF(S55="D",IF(AND(H55<=R55,H55>=U55),"OK","FAIL"),IF(U55="",IF(H55=S55,"OK","FAIL"),IF(U55="9U",IF(H55<=9,"OK","FAIL"),IF(U55="UP",IF(H55>=15,"OK","FAIL"),IF(U55="DN",IF(H55<=7,"OK","FAIL"))))))))) | U55: =IF(R55="15U","UP",IF(R55="7D","DN",IF(R55="9U","9U",IF(S55="D",10,"")))) -> #N/A
B56: =IF(B55=0,"",B55) | C56: =IF(C55=0,"",C55) | D56: =IF(D55=0,"",D55) | F56: =IF(E56="","",VLOOKUP(E56,報名總表及收費!$I$29:$L$140,4)) | H56: =IF(D56="","", IF(D56=0,"",YEAR(NOW())-D56)) | J56: =IF(E56="","",IF(((VLOOKUP(E56,$L$25:$Q$67,5))<G56),"報項時間慢於達標時間",""))&IF(T56="FAIL"," 運動員錯組別","")&IF(E56="","",IF(MOD(E56,2)=1,""," 項目編號為男子組")) | L56: 63 | M56: =COUNTIFS($E$25:$E$160,"=63") -> 0 | N56: =IF(M56>$O$2, L56, "OK") -> OK | O56: =VLOOKUP(L56,報名總表及收費!$I$30:$K$118,2) -> 13 | P56: =IF(VLOOKUP(L56,報名總表及收費!$I$30:$K$118,3)=0,"",VLOOKUP(L56,報名總表及收費!$I$30:$K$118,3,FALSE)) | Q56: =IF(O56="D",YEAR(NOW())-$P$5,IF(O56="C",YEAR(NOW())-$O$5,IF(O56="F",YEAR(NOW())-$Q$5,IF(O56=0,"",O56)))) -> 13 | R56: =IF(E56=0,"",IF(MOD(E56,2)=0,"",VLOOKUP(E56,$L$24:$Q$80,6,FALSE))) | S56: =IF(D56=0,"",VLOOKUP(E56,$L$25:$Q$80,4,FALSE)) -> #N/A | T56: =IF(R56="","",IF(S56="C",IF(H56>=R56,"OK","FAIL"),IF(S56="F",IF(H56<=R56,"OK","FAIL"),IF(S56="D",IF(AND(H56<=R56,H56>=U56),"OK","FAIL"),IF(U56="",IF(H56=S56,"OK","FAIL"),IF(U56="9U",IF(H56<=9,"OK","FAIL"),IF(U56="UP",IF(H56>=15,"OK","FAIL"),IF(U56="DN",IF(H56<=7,"OK","FAIL"))))))))) | U56: =IF(R56="15U","UP",IF(R56="7D","DN",IF(R56="9U","9U",IF(S56="D",10,"")))) -> #N/A
A57: 女運動員 9 | F57: =IF(E57="","",VLOOKUP(E57,報名總表及收費!$I$29:$L$140,4)) | H57: =IF(D57="","", IF(D57=0,"",YEAR(NOW())-D57)) | J57: =IF(E57="","",IF(((VLOOKUP(E57,$L$25:$Q$67,5))<G57),"報項時間慢於達標時間",""))&IF(T57="FAIL"," 運動員錯組別","")&IF(E57="","",IF(MOD(E57,2)=1,""," 項目編號為男子組")) | L57: 65 | M57: =COUNTIFS($E$25:$E$160,"=65") -> 0 | N57: =IF(M57>$O$2, L57, "OK") -> OK | O57: =VLOOKUP(L57,報名總表及收費!$I$30:$K$118,2) -> 12 | P57: =IF(VLOOKUP(L57,報名總表及收費!$I$30:$K$118,3)=0,"",VLOOKUP(L57,報名總表及收費!$I$30:$K$118,3,FALSE)) | Q57: =IF(O57="D",YEAR(NOW())-$P$5,IF(O57="C",YEAR(NOW())-$O$5,IF(O57="F",YEAR(NOW())-$Q$5,IF(O57=0,"",O57)))) -> 12 | R57: =IF(E57=0,"",IF(MOD(E57,2)=0,"",VLOOKUP(E57,$L$24:$Q$80,6,FALSE))) | S57: =IF(D57=0,"",VLOOKUP(E57,$L$25:$Q$80,4,FALSE)) | T57: =IF(R57="","",IF(S57="C",IF(H57>=R57,"OK","FAIL"),IF(S57="F",IF(H57<=R57,"OK","FAIL"),IF(S57="D",IF(AND(H57<=R57,H57>=U57),"OK","FAIL"),IF(U57="",IF(H57=S57,"OK","FAIL"),IF(U57="9U",IF(H57<=9,"OK","FAIL"),IF(U57="UP",IF(H57>=15,"OK","FAIL"),IF(U57="DN",IF(H57<=7,"OK","FAIL"))))))))) | U57: =IF(R57="15U","UP",IF(R57="7D","DN",IF(R57="9U","9U",IF(S57="D",10,""))))
B58: =IF(B57=0,"",B57) | C58: =IF(C57=0,"",C57) | D58: =IF(D57=0,"",D57) | F58: =IF(E58="","",VLOOKUP(E58,報名總表及收費!$I$29:$L$140,4)) | H58: =IF(D58="","", IF(D58=0,"",YEAR(NOW())-D58)) | J58: =IF(E58="","",IF(((VLOOKUP(E58,$L$25:$Q$67,5))<G58),"報項時間慢於達標時間",""))&IF(T58="FAIL"," 運動員錯組別","")&IF(E58="","",IF(MOD(E58,2)=1,""," 項目編號為男子組")) | L58: 67 | M58: =COUNTIFS($E$25:$E$160,"=67") -> 0 | N58: =IF(M58>$O$2, L58, "OK") -> OK | O58: =VLOOKUP(L58,報名總表及收費!$I$30:$K$118,2) -> 13 | P58: =IF(VLOOKUP(L58,報名總表及收費!$I$30:$K$118,3)=0,"",VLOOKUP(L58,報名總表及收費!$I$30:$K$118,3,FALSE)) | Q58: =IF(O58="D",YEAR(NOW())-$P$5,IF(O58="C",YEAR(NOW())-$O$5,IF(O58="F",YEAR(NOW())-$Q$5,IF(O58=0,"",O58)))) -> 13 | R58: =IF(E58=0,"",IF(MOD(E58,2)=0,"",VLOOKUP(E58,$L$24:$Q$80,6,FALSE))) | S58: =IF(D58=0,"",VLOOKUP(E58,$L$25:$Q$80,4,FALSE)) -> #N/A | T58: =IF(R58="","",IF(S58="C",IF(H58>=R58,"OK","FAIL"),IF(S58="F",IF(H58<=R58,"OK","FAIL"),IF(S58="D",IF(AND(H58<=R58,H58>=U58),"OK","FAIL"),IF(U58="",IF(H58=S58,"OK","FAIL"),IF(U58="9U",IF(H58<=9,"OK","FAIL"),IF(U58="UP",IF(H58>=15,"OK","FAIL"),IF(U58="DN",IF(H58<=7,"OK","FAIL"))))))))) | U58: =IF(R58="15U","UP",IF(R58="7D","DN",IF(R58="9U","9U",IF(S58="D",10,"")))) -> #N/A
B59: =IF(B58=0,"",B58) | C59: =IF(C58=0,"",C58) | D59: =IF(D58=0,"",D58) | F59: =IF(E59="","",VLOOKUP(E59,報名總表及收費!$I$29:$L$140,4)) | H59: =IF(D59="","", IF(D59=0,"",YEAR(NOW())-D59)) | J59: =IF(E59="","",IF(((VLOOKUP(E59,$L$25:$Q$67,5))<G59),"報項時間慢於達標時間",""))&IF(T59="FAIL"," 運動員錯組別","")&IF(E59="","",IF(MOD(E59,2)=1,""," 項目編號為男子組")) | L59: 69 | M59: =COUNTIFS($E$25:$E$160,"=69") -> 0 | N59: =IF(M59>$O$2, L59, "OK") -> OK | O59: =VLOOKUP(L59,報名總表及收費!$I$30:$K$118,2) | P59: =IF(VLOOKUP(L59,報名總表及收費!$I$30:$K$118,3)=0,"",VLOOKUP(L59,報名總表及收費!$I$30:$K$118,3,FALSE)) | Q59: =IF(O59="D",YEAR(NOW())-$P$5,IF(O59="C",YEAR(NOW())-$O$5,IF(O59="F",YEAR(NOW())-$Q$5,IF(O59=0,"",O59)))) | R59: =IF(E59=0,"",IF(MOD(E59,2)=0,"",VLOOKUP(E59,$L$24:$Q$80,6,FALSE))) | S59: =IF(D59=0,"",VLOOKUP(E59,$L$25:$Q$80,4,FALSE)) -> #N/A | T59: =IF(R59="","",IF(S59="C",IF(H59>=R59,"OK","FAIL"),IF(S59="F",IF(H59<=R59,"OK","FAIL"),IF(S59="D",IF(AND(H59<=R59,H59>=U59),"OK","FAIL"),IF(U59="",IF(H59=S59,"OK","FAIL"),IF(U59="9U",IF(H59<=9,"OK","FAIL"),IF(U59="UP",IF(H59>=15,"OK","FAIL"),IF(U59="DN",IF(H59<=7,"OK","FAIL"))))))))) | U59: =IF(R59="15U","UP",IF(R59="7D","DN",IF(R59="9U","9U",IF(S59="D",10,"")))) -> #N/A
B60: =IF(B59=0,"",B59) | C60: =IF(C59=0,"",C59) | D60: =IF(D59=0,"",D59) | F60: =IF(E60="","",VLOOKUP(E60,報名總表及收費!$I$29:$L$140,4)) | H60: =IF(D60="","", IF(D60=0,"",YEAR(NOW())-D60)) | J60: =IF(E60="","",IF(((VLOOKUP(E60,$L$25:$Q$67,5))<G60),"報項時間慢於達標時間",""))&IF(T60="FAIL"," 運動員錯組別","")&IF(E60="","",IF(MOD(E60,2)=1,""," 項目編號為男子組")) | L60: 71 | M60: =COUNTIFS($E$25:$E$160,"=71") -> 0 | N60: =IF(M60>$O$2, L60, "OK") -> OK | O60: =VLOOKUP(L60,報名總表及收費!$I$30:$K$118,2) | P60: =IF(VLOOKUP(L60,報名總表及收費!$I$30:$K$118,3)=0,"",VLOOKUP(L60,報名總表及收費!$I$30:$K$118,3,FALSE)) | Q60: =IF(O60="D",YEAR(NOW())-$P$5,IF(O60="C",YEAR(NOW())-$O$5,IF(O60="F",YEAR(NOW())-$Q$5,IF(O60=0,"",O60)))) | R60: =IF(E60=0,"",IF(MOD(E60,2)=0,"",VLOOKUP(E60,$L$24:$Q$80,6,FALSE))) | S60: =IF(D60=0,"",VLOOKUP(E60,$L$25:$Q$80,4,FALSE)) -> #N/A | T60: =IF(R60="","",IF(S60="C",IF(H60>=R60,"OK","FAIL"),IF(S60="F",IF(H60<=R60,"OK","FAIL"),IF(S60="D",IF(AND(H60<=R60,H60>=U60),"OK","FAIL"),IF(U60="",IF(H60=S60,"OK","FAIL"),IF(U60="9U",IF(H60<=9,"OK","FAIL"),IF(U60="UP",IF(H60>=15,"OK","FAIL"),IF(U60="DN",IF(H60<=7,"OK","FAIL"))))))))) | U60: =IF(R60="15U","UP",IF(R60="7D","DN",IF(R60="9U","9U",IF(S60="D",10,"")))) -> #N/A
A61: 女運動員 10 | F61: =IF(E61="","",VLOOKUP(E61,報名總表及收費!$I$29:$L$140,4)) | H61: =IF(D61="","", IF(D61=0,"",YEAR(NOW())-D61)) | J61: =IF(E61="","",IF(((VLOOKUP(E61,$L$25:$Q$67,5))<G61),"報項時間慢於達標時間",""))&IF(T61="FAIL"," 運動員錯組別","")&IF(E61="","",IF(MOD(E61,2)=1,""," 項目編號為男子組")) | L61: 73 | M61: =COUNTIFS($E$25:$E$160,"=73") -> 0 | N61: =IF(M61>$O$2, L61, "OK") -> OK | O61: =VLOOKUP(L61,報名總表及收費!$I$30:$K$118,2) | P61: =IF(VLOOKUP(L61,報名總表及收費!$I$30:$K$118,3)=0,"",VLOOKUP(L61,報名總表及收費!$I$30:$K$118,3,FALSE)) | Q61: =IF(O61="D",YEAR(NOW())-$P$5,IF(O61="C",YEAR(NOW())-$O$5,IF(O61="F",YEAR(NOW())-$Q$5,IF(O61=0,"",O61)))) | R61: =IF(E61=0,"",IF(MOD(E61,2)=0,"",VLOOKUP(E61,$L$24:$Q$80,6,FALSE))) | S61: =IF(D61=0,"",VLOOKUP(E61,$L$25:$Q$80,4,FALSE)) | T61: =IF(R61="","",IF(S61="C",IF(H61>=R61,"OK","FAIL"),IF(S61="F",IF(H61<=R61,"OK","FAIL"),IF(S61="D",IF(AND(H61<=R61,H61>=U61),"OK","FAIL"),IF(U61="",IF(H61=S61,"OK","FAIL"),IF(U61="9U",IF(H61<=9,"OK","FAIL"),IF(U61="UP",IF(H61>=15,"OK","FAIL"),IF(U61="DN",IF(H61<=7,"OK","FAIL"))))))))) | U61: =IF(R61="15U","UP",IF(R61="7D","DN",IF(R61="9U","9U",IF(S61="D",10,""))))
B62: =IF(B61=0,"",B61) | C62: =IF(C61=0,"",C61) | D62: =IF(D61=0,"",D61) | F62: =IF(E62="","",VLOOKUP(E62,報名總表及收費!$I$29:$L$140,4)) | H62: =IF(D62="","", IF(D62=0,"",YEAR(NOW())-D62)) | J62: =IF(E62="","",IF(((VLOOKUP(E62,$L$25:$Q$67,5))<G62),"報項時間慢於達標時間",""))&IF(T62="FAIL"," 運動員錯組別","")&IF(E62="","",IF(MOD(E62,2)=1,""," 項目編號為男子組")) | L62: 75 | M62: =COUNTIFS($E$25:$E$160,"=75") -> 0 | N62: =IF(M62>$O$2, L62, "OK") -> OK | O62: =VLOOKUP(L62,報名總表及收費!$I$30:$K$118,2) | P62: =IF(VLOOKUP(L62,報名總表及收費!$I$30:$K$118,3)=0,"",VLOOKUP(L62,報名總表及收費!$I$30:$K$118,3,FALSE)) | Q62: =IF(O62="D",YEAR(NOW())-$P$5,IF(O62="C",YEAR(NOW())-$O$5,IF(O62="F",YEAR(NOW())-$Q$5,IF(O62=0,"",O62)))) | R62: =IF(E62=0,"",IF(MOD(E62,2)=0,"",VLOOKUP(E62,$L$24:$Q$80,6,FALSE))) | S62: =IF(D62=0,"",VLOOKUP(E62,$L$25:$Q$80,4,FALSE)) -> #N/A | T62: =IF(R62="","",IF(S62="C",IF(H62>=R62,"OK","FAIL"),IF(S62="F",IF(H62<=R62,"OK","FAIL"),IF(S62="D",IF(AND(H62<=R62,H62>=U62),"OK","FAIL"),IF(U62="",IF(H62=S62,"OK","FAIL"),IF(U62="9U",IF(H62<=9,"OK","FAIL"),IF(U62="UP",IF(H62>=15,"OK","FAIL"),IF(U62="DN",IF(H62<=7,"OK","FAIL"))))))))) | U62: =IF(R62="15U","UP",IF(R62="7D","DN",IF(R62="9U","9U",IF(S62="D",10,"")))) -> #N/A
B63: =IF(B62=0,"",B62) | C63: =IF(C62=0,"",C62) | D63: =IF(D62=0,"",D62) | F63: =IF(E63="","",VLOOKUP(E63,報名總表及收費!$I$29:$L$140,4)) | H63: =IF(D63="","", IF(D63=0,"",YEAR(NOW())-D63)) | J63: =IF(E63="","",IF(((VLOOKUP(E63,$L$25:$Q$67,5))<G63),"報項時間慢於達標時間",""))&IF(T63="FAIL"," 運動員錯組別","")&IF(E63="","",IF(MOD(E63,2)=1,""," 項目編號為男子組")) | L63: 77 | M63: =COUNTIFS($E$25:$E$160,L63) -> 0 | N63: =IF(M63>$O$2, L63, "OK") -> OK | O63: =VLOOKUP(L63,報名總表及收費!$I$30:$K$118,2) | P63: =IF(VLOOKUP(L63,報名總表及收費!$I$30:$K$118,3)=0,"",VLOOKUP(L63,報名總表及收費!$I$30:$K$118,3,FALSE)) | Q63: =IF(O63="D",YEAR(NOW())-$P$5,IF(O63="C",YEAR(NOW())-$O$5,IF(O63="F",YEAR(NOW())-$Q$5,IF(O63=0,"",O63)))) | R63: =IF(E63=0,"",IF(MOD(E63,2)=0,"",VLOOKUP(E63,$L$24:$Q$80,6,FALSE))) | S63: =IF(D63=0,"",VLOOKUP(E63,$L$25:$Q$80,4,FALSE)) -> #N/A | T63: =IF(R63="","",IF(S63="C",IF(H63>=R63,"OK","FAIL"),IF(S63="F",IF(H63<=R63,"OK","FAIL"),IF(S63="D",IF(AND(H63<=R63,H63>=U63),"OK","FAIL"),IF(U63="",IF(H63=S63,"OK","FAIL"),IF(U63="9U",IF(H63<=9,"OK","FAIL"),IF(U63="UP",IF(H63>=15,"OK","FAIL"),IF(U63="DN",IF(H63<=7,"OK","FAIL"))))))))) | U63: =IF(R63="15U","UP",IF(R63="7D","DN",IF(R63="9U","9U",IF(S63="D",10,"")))) -> #N/A
B64: =IF(B63=0,"",B63) | C64: =IF(C63=0,"",C63) | D64: =IF(D63=0,"",D63) | F64: =IF(E64="","",VLOOKUP(E64,報名總表及收費!$I$29:$L$140,4)) | H64: =IF(D64="","", IF(D64=0,"",YEAR(NOW())-D64)) | J64: =IF(E64="","",IF(((VLOOKUP(E64,$L$25:$Q$67,5))<G64),"報項時間慢於達標時間",""))&IF(T64="FAIL"," 運動員錯組別","")&IF(E64="","",IF(MOD(E64,2)=1,""," 項目編號為男子組")) | L64: 79 | M64: =COUNTIFS($E$25:$E$160,"=79") -> 0 | N64: =IF(M64>$O$2, L64, "OK") -> OK | O64: =VLOOKUP(L64,報名總表及收費!$I$30:$K$118,2) | P64: =IF(VLOOKUP(L64,報名總表及收費!$I$30:$K$118,3)=0,"",VLOOKUP(L64,報名總表及收費!$I$30:$K$118,3,FALSE)) | Q64: =IF(O64="D",YEAR(NOW())-$P$5,IF(O64="C",YEAR(NOW())-$O$5,IF(O64="F",YEAR(NOW())-$Q$5,IF(O64=0,"",O64)))) | R64: =IF(E64=0,"",IF(MOD(E64,2)=0,"",VLOOKUP(E64,$L$24:$Q$80,6,FALSE))) | S64: =IF(D64=0,"",VLOOKUP(E64,$L$25:$Q$80,4,FALSE)) -> #N/A | T64: =IF(R64="","",IF(S64="C",IF(H64>=R64,"OK","FAIL"),IF(S64="F",IF(H64<=R64,"OK","FAIL"),IF(S64="D",IF(AND(H64<=R64,H64>=U64),"OK","FAIL"),IF(U64="",IF(H64=S64,"OK","FAIL"),IF(U64="9U",IF(H64<=9,"OK","FAIL"),IF(U64="UP",IF(H64>=15,"OK","FAIL"),IF(U64="DN",IF(H64<=7,"OK","FAIL"))))))))) | U64: =IF(R64="15U","UP",IF(R64="7D","DN",IF(R64="9U","9U",IF(S64="D",10,"")))) -> #N/A
A65: 女運動員 11 | F65: =IF(E65="","",VLOOKUP(E65,報名總表及收費!$I$29:$L$140,4)) | H65: =IF(D65="","", IF(D65=0,"",YEAR(NOW())-D65)) | J65: =IF(E65="","",IF(((VLOOKUP(E65,$L$25:$Q$67,5))<G65),"報項時間慢於達標時間",""))&IF(T65="FAIL"," 運動員錯組別","")&IF(E65="","",IF(MOD(E65,2)=1,""," 項目編號為男子組")) | L65: 81 | M65: =COUNTIFS($E$25:$E$160,"=81") -> 0 | N65: =IF(M65>$O$2, L65, "OK") -> OK | O65: =VLOOKUP(L65,報名總表及收費!$I$30:$K$118,2) | P65: =IF(VLOOKUP(L65,報名總表及收費!$I$30:$K$118,3)=0,"",VLOOKUP(L65,報名總表及收費!$I$30:$K$118,3,FALSE)) | Q65: =IF(O65="D",YEAR(NOW())-$P$5,IF(O65="C",YEAR(NOW())-$O$5,IF(O65="F",YEAR(NOW())-$Q$5,IF(O65=0,"",O65)))) | R65: =IF(E65=0,"",IF(MOD(E65,2)=0,"",VLOOKUP(E65,$L$24:$Q$80,6,FALSE))) | S65: =IF(D65=0,"",VLOOKUP(E65,$L$25:$Q$80,4,FALSE)) | T65: =IF(R65="","",IF(S65="C",IF(H65>=R65,"OK","FAIL"),IF(S65="F",IF(H65<=R65,"OK","FAIL"),IF(S65="D",IF(AND(H65<=R65,H65>=U65),"OK","FAIL"),IF(U65="",IF(H65=S65,"OK","FAIL"),IF(U65="9U",IF(H65<=9,"OK","FAIL"),IF(U65="UP",IF(H65>=15,"OK","FAIL"),IF(U65="DN",IF(H65<=7,"OK","FAIL"))))))))) | U65: =IF(R65="15U","UP",IF(R65="7D","DN",IF(R65="9U","9U",IF(S65="D",10,""))))
B66: =IF(B65=0,"",B65) | C66: =IF(C65=0,"",C65) | D66: =IF(D65=0,"",D65) | F66: =IF(E66="","",VLOOKUP(E66,報名總表及收費!$I$29:$L$140,4)) | H66: =IF(D66="","", IF(D66=0,"",YEAR(NOW())-D66)) | J66: =IF(E66="","",IF(((VLOOKUP(E66,$L$25:$Q$67,5))<G66),"報項時間慢於達標時間",""))&IF(T66="FAIL"," 運動員錯組別","")&IF(E66="","",IF(MOD(E66,2)=1,""," 項目編號為男子組")) | L66: 83 | M66: =COUNTIFS($E$25:$E$160,"=83") -> 0 | N66: =IF(M66>$O$2, L66, "OK") -> OK | O66: =VLOOKUP(L66,報名總表及收費!$I$30:$K$118,2) | P66: =IF(VLOOKUP(L66,報名總表及收費!$I$30:$K$118,3)=0,"",VLOOKUP(L66,報名總表及收費!$I$30:$K$118,3,FALSE)) | Q66: =IF(O66="D",YEAR(NOW())-$P$5,IF(O66="C",YEAR(NOW())-$O$5,IF(O66="F",YEAR(NOW())-$Q$5,IF(O66=0,"",O66)))) | R66: =IF(E66=0,"",IF(MOD(E66,2)=0,"",VLOOKUP(E66,$L$24:$Q$80,6,FALSE))) | S66: =IF(D66=0,"",VLOOKUP(E66,$L$25:$Q$80,4,FALSE)) -> #N/A | T66: =IF(R66="","",IF(S66="C",IF(H66>=R66,"OK","FAIL"),IF(S66="F",IF(H66<=R66,"OK","FAIL"),IF(S66="D",IF(AND(H66<=R66,H66>=U66),"OK","FAIL"),IF(U66="",IF(H66=S66,"OK","FAIL"),IF(U66="9U",IF(H66<=9,"OK","FAIL"),IF(U66="UP",IF(H66>=15,"OK","FAIL"),IF(U66="DN",IF(H66<=7,"OK","FAIL"))))))))) | U66: =IF(R66="15U","UP",IF(R66="7D","DN",IF(R66="9U","9U",IF(S66="D",10,"")))) -> #N/A
B67: =IF(B66=0,"",B66) | C67: =IF(C66=0,"",C66) | D67: =IF(D66=0,"",D66) | F67: =IF(E67="","",VLOOKUP(E67,報名總表及收費!$I$29:$L$140,4)) | H67: =IF(D67="","", IF(D67=0,"",YEAR(NOW())-D67)) | J67: =IF(E67="","",IF(((VLOOKUP(E67,$L$25:$Q$67,5))<G67),"報項時間慢於達標時間",""))&IF(T67="FAIL"," 運動員錯組別","")&IF(E67="","",IF(MOD(E67,2)=1,""," 項目編號為男子組")) | M67: =SUM(M25:M66) -> 0 | Q67: =IF(O67="D",YEAR(NOW())-$P$5,IF(O67="C",YEAR(NOW())-$O$5,IF(O67="F",YEAR(NOW())-$Q$5,IF(O67=0,"",O67)))) | R67: =IF(E67=0,"",IF(MOD(E67,2)=0,"",VLOOKUP(E67,$L$24:$Q$80,6,FALSE))) | S67: =IF(D67=0,"",VLOOKUP(E67,$L$25:$Q$80,4,FALSE)) -> #N/A | T67: =IF(R67="","",IF(S67="C",IF(H67>=R67,"OK","FAIL"),IF(S67="F",IF(H67<=R67,"OK","FAIL"),IF(S67="D",IF(AND(H67<=R67,H67>=U67),"OK","FAIL"),IF(U67="",IF(H67=S67,"OK","FAIL"),IF(U67="9U",IF(H67<=9,"OK","FAIL"),IF(U67="UP",IF(H67>=15,"OK","FAIL"),IF(U67="DN",IF(H67<=7,"OK","FAIL"))))))))) | U67: =IF(R67="15U","UP",IF(R67="7D","DN",IF(R67="9U","9U",IF(S67="D",10,"")))) -> #N/A
B68: =IF(B67=0,"",B67) | C68: =IF(C67=0,"",C67) | D68: =IF(D67=0,"",D67) | F68: =IF(E68="","",VLOOKUP(E68,報名總表及收費!$I$29:$L$140,4)) | H68: =IF(D68="","", IF(D68=0,"",YEAR(NOW())-D68)) | J68: =IF(E68="","",IF(((VLOOKUP(E68,$L$25:$Q$67,5))<G68),"報項時間慢於達標時間",""))&IF(T68="FAIL"," 運動員錯組別","")&IF(E68="","",IF(MOD(E68,2)=1,""," 項目編號為男子組")) | Q68: =IF(O68="D",YEAR(NOW())-$P$5,IF(O68="C",YEAR(NOW())-$O$5,IF(O68="F",YEAR(NOW())-$Q$5,IF(O68=0,"",O68)))) | R68: =IF(E68=0,"",IF(MOD(E68,2)=0,"",VLOOKUP(E68,$L$24:$Q$80,6,FALSE))) | S68: =IF(D68=0,"",VLOOKUP(E68,$L$25:$Q$80,4,FALSE)) -> #N/A | T68: =IF(R68="","",IF(S68="C",IF(H68>=R68,"OK","FAIL"),IF(S68="F",IF(H68<=R68,"OK","FAIL"),IF(S68="D",IF(AND(H68<=R68,H68>=U68),"OK","FAIL"),IF(U68="",IF(H68=S68,"OK","FAIL"),IF(U68="9U",IF(H68<=9,"OK","FAIL"),IF(U68="UP",IF(H68>=15,"OK","FAIL"),IF(U68="DN",IF(H68<=7,"OK","FAIL"))))))))) | U68: =IF(R68="15U","UP",IF(R68="7D","DN",IF(R68="9U","9U",IF(S68="D",10,"")))) -> #N/A
A69: 女運動員 12 | F69: =IF(E69="","",VLOOKUP(E69,報名總表及收費!$I$29:$L$140,4)) | H69: =IF(D69="","", IF(D69=0,"",YEAR(NOW())-D69)) | J69: =IF(E69="","",IF(((VLOOKUP(E69,$L$25:$Q$67,5))<G69),"報項時間慢於達標時間",""))&IF(T69="FAIL"," 運動員錯組別","")&IF(E69="","",IF(MOD(E69,2)=1,""," 項目編號為男子組")) | Q69: =IF(O69="D",YEAR(NOW())-$P$5,IF(O69="C",YEAR(NOW())-$O$5,IF(O69="F",YEAR(NOW())-$Q$5,IF(O69=0,"",O69)))) | R69: =IF(E69=0,"",IF(MOD(E69,2)=0,"",VLOOKUP(E69,$L$24:$Q$80,6,FALSE))) | S69: =IF(D69=0,"",VLOOKUP(E69,$L$25:$Q$80,4,FALSE)) | T69: =IF(R69="","",IF(S69="C",IF(H69>=R69,"OK","FAIL"),IF(S69="F",IF(H69<=R69,"OK","FAIL"),IF(S69="D",IF(AND(H69<=R69,H69>=U69),"OK","FAIL"),IF(U69="",IF(H69=S69,"OK","FAIL"),IF(U69="9U",IF(H69<=9,"OK","FAIL"),IF(U69="UP",IF(H69>=15,"OK","FAIL"),IF(U69="DN",IF(H69<=7,"OK","FAIL"))))))))) | U69: =IF(R69="15U","UP",IF(R69="7D","DN",IF(R69="9U","9U",IF(S69="D",10,""))))
B70: =IF(B69=0,"",B69) | C70: =IF(C69=0,"",C69) | D70: =IF(D69=0,"",D69) | F70: =IF(E70="","",VLOOKUP(E70,報名總表及收費!$I$29:$L$140,4)) | H70: =IF(D70="","", IF(D70=0,"",YEAR(NOW())-D70)) | J70: =IF(E70="","",IF(((VLOOKUP(E70,$L$25:$Q$67,5))<G70),"報項時間慢於達標時間",""))&IF(T70="FAIL"," 運動員錯組別","")&IF(E70="","",IF(MOD(E70,2)=1,""," 項目編號為男子組")) | Q70: =IF(O70="D",YEAR(NOW())-$P$5,IF(O70="C",YEAR(NOW())-$O$5,IF(O70="F",YEAR(NOW())-$Q$5,IF(O70=0,"",O70)))) | R70: =IF(E70=0,"",IF(MOD(E70,2)=0,"",VLOOKUP(E70,$L$24:$Q$80,6,FALSE))) | S70: =IF(D70=0,"",VLOOKUP(E70,$L$25:$Q$80,4,FALSE)) -> #N/A | T70: =IF(R70="","",IF(S70="C",IF(H70>=R70,"OK","FAIL"),IF(S70="F",IF(H70<=R70,"OK","FAIL"),IF(S70="D",IF(AND(H70<=R70,H70>=U70),"OK","FAIL"),IF(U70="",IF(H70=S70,"OK","FAIL"),IF(U70="9U",IF(H70<=9,"OK","FAIL"),IF(U70="UP",IF(H70>=15,"OK","FAIL"),IF(U70="DN",IF(H70<=7,"OK","FAIL"))))))))) | U70: =IF(R70="15U","UP",IF(R70="7D","DN",IF(R70="9U","9U",IF(S70="D",10,"")))) -> #N/A
B71: =IF(B70=0,"",B70) | C71: =IF(C70=0,"",C70) | D71: =IF(D70=0,"",D70) | F71: =IF(E71="","",VLOOKUP(E71,報名總表及收費!$I$29:$L$140,4)) | H71: =IF(D71="","", IF(D71=0,"",YEAR(NOW())-D71)) | J71: =IF(E71="","",IF(((VLOOKUP(E71,$L$25:$Q$67,5))<G71),"報項時間慢於達標時間",""))&IF(T71="FAIL"," 運動員錯組別","")&IF(E71="","",IF(MOD(E71,2)=1,""," 項目編號為男子組")) | Q71: =IF(O71="D",YEAR(NOW())-$P$5,IF(O71="C",YEAR(NOW())-$O$5,IF(O71="F",YEAR(NOW())-$Q$5,IF(O71=0,"",O71)))) | R71: =IF(E71=0,"",IF(MOD(E71,2)=0,"",VLOOKUP(E71,$L$24:$Q$80,6,FALSE))) | S71: =IF(D71=0,"",VLOOKUP(E71,$L$25:$Q$80,4,FALSE)) -> #N/A | T71: =IF(R71="","",IF(S71="C",IF(H71>=R71,"OK","FAIL"),IF(S71="F",IF(H71<=R71,"OK","FAIL"),IF(S71="D",IF(AND(H71<=R71,H71>=U71),"OK","FAIL"),IF(U71="",IF(H71=S71,"OK","FAIL"),IF(U71="9U",IF(H71<=9,"OK","FAIL"),IF(U71="UP",IF(H71>=15,"OK","FAIL"),IF(U71="DN",IF(H71<=7,"OK","FAIL"))))))))) | U71: =IF(R71="15U","UP",IF(R71="7D","DN",IF(R71="9U","9U",IF(S71="D",10,"")))) -> #N/A
B72: =IF(B71=0,"",B71) | C72: =IF(C71=0,"",C71) | D72: =IF(D71=0,"",D71) | F72: =IF(E72="","",VLOOKUP(E72,報名總表及收費!$I$29:$L$140,4)) | H72: =IF(D72="","", IF(D72=0,"",YEAR(NOW())-D72)) | J72: =IF(E72="","",IF(((VLOOKUP(E72,$L$25:$Q$67,5))<G72),"報項時間慢於達標時間",""))&IF(T72="FAIL"," 運動員錯組別","")&IF(E72="","",IF(MOD(E72,2)=1,""," 項目編號為男子組")) | Q72: =IF(O72="D",YEAR(NOW())-$P$5,IF(O72="C",YEAR(NOW())-$O$5,IF(O72="F",YEAR(NOW())-$Q$5,IF(O72=0,"",O72)))) | R72: =IF(E72=0,"",IF(MOD(E72,2)=0,"",VLOOKUP(E72,$L$24:$Q$80,6,FALSE))) | S72: =IF(D72=0,"",VLOOKUP(E72,$L$25:$Q$80,4,FALSE)) -> #N/A | T72: =IF(R72="","",IF(S72="C",IF(H72>=R72,"OK","FAIL"),IF(S72="F",IF(H72<=R72,"OK","FAIL"),IF(S72="D",IF(AND(H72<=R72,H72>=U72),"OK","FAIL"),IF(U72="",IF(H72=S72,"OK","FAIL"),IF(U72="9U",IF(H72<=9,"OK","FAIL"),IF(U72="UP",IF(H72>=15,"OK","FAIL"),IF(U72="DN",IF(H72<=7,"OK","FAIL"))))))))) | U72: =IF(R72="15U","UP",IF(R72="7D","DN",IF(R72="9U","9U",IF(S72="D",10,"")))) -> #N/A
A73: 女運動員 13 | F73: =IF(E73="","",VLOOKUP(E73,報名總表及收費!$I$29:$L$140,4)) | H73: =IF(D73="","", IF(D73=0,"",YEAR(NOW())-D73)) | J73: =IF(E73="","",IF(((VLOOKUP(E73,$L$25:$Q$67,5))<G73),"報項時間慢於達標時間",""))&IF(T73="FAIL"," 運動員錯組別","")&IF(E73="","",IF(MOD(E73,2)=1,""," 項目編號為男子組")) | Q73: =IF(O73="D",YEAR(NOW())-$P$5,IF(O73="C",YEAR(NOW())-$O$5,IF(O73="F",YEAR(NOW())-$Q$5,IF(O73=0,"",O73)))) | R73: =IF(E73=0,"",IF(MOD(E73,2)=0,"",VLOOKUP(E73,$L$24:$Q$80,6,FALSE))) | S73: =IF(D73=0,"",VLOOKUP(E73,$L$25:$Q$80,4,FALSE)) | T73: =IF(R73="","",IF(S73="C",IF(H73>=R73,"OK","FAIL"),IF(S73="F",IF(H73<=R73,"OK","FAIL"),IF(S73="D",IF(AND(H73<=R73,H73>=U73),"OK","FAIL"),IF(U73="",IF(H73=S73,"OK","FAIL"),IF(U73="9U",IF(H73<=9,"OK","FAIL"),IF(U73="UP",IF(H73>=15,"OK","FAIL"),IF(U73="DN",IF(H73<=7,"OK","FAIL"))))))))) | U73: =IF(R73="15U","UP",IF(R73="7D","DN",IF(R73="9U","9U",IF(S73="D",10,""))))
B74: =IF(B73=0,"",B73) | C74: =IF(C73=0,"",C73) | D74: =IF(D73=0,"",D73) | F74: =IF(E74="","",VLOOKUP(E74,報名總表及收費!$I$29:$L$140,4)) | H74: =IF(D74="","", IF(D74=0,"",YEAR(NOW())-D74)) | J74: =IF(E74="","",IF(((VLOOKUP(E74,$L$25:$Q$67,5))<G74),"報項時間慢於達標時間",""))&IF(T74="FAIL"," 運動員錯組別","")&IF(E74="","",IF(MOD(E74,2)=1,""," 項目編號為男子組")) | Q74: =IF(O74="D",YEAR(NOW())-$P$5,IF(O74="C",YEAR(NOW())-$O$5,IF(O74="F",YEAR(NOW())-$Q$5,IF(O74=0,"",O74)))) | R74: =IF(E74=0,"",IF(MOD(E74,2)=0,"",VLOOKUP(E74,$L$24:$Q$80,6,FALSE))) | S74: =IF(D74=0,"",VLOOKUP(E74,$L$25:$Q$80,4,FALSE)) -> #N/A | T74: =IF(R74="","",IF(S74="C",IF(H74>=R74,"OK","FAIL"),IF(S74="F",IF(H74<=R74,"OK","FAIL"),IF(S74="D",IF(AND(H74<=R74,H74>=U74),"OK","FAIL"),IF(U74="",IF(H74=S74,"OK","FAIL"),IF(U74="9U",IF(H74<=9,"OK","FAIL"),IF(U74="UP",IF(H74>=15,"OK","FAIL"),IF(U74="DN",IF(H74<=7,"OK","FAIL"))))))))) | U74: =IF(R74="15U","UP",IF(R74="7D","DN",IF(R74="9U","9U",IF(S74="D",10,"")))) -> #N/A
B75: =IF(B74=0,"",B74) | C75: =IF(C74=0,"",C74) | D75: =IF(D74=0,"",D74) | F75: =IF(E75="","",VLOOKUP(E75,報名總表及收費!$I$29:$L$140,4)) | H75: =IF(D75="","", IF(D75=0,"",YEAR(NOW())-D75)) | J75: =IF(E75="","",IF(((VLOOKUP(E75,$L$25:$Q$67,5))<G75),"報項時間慢於達標時間",""))&IF(T75="FAIL"," 運動員錯組別","")&IF(E75="","",IF(MOD(E75,2)=1,""," 項目編號為男子組")) | Q75: =IF(O75="D",YEAR(NOW())-$P$5,IF(O75="C",YEAR(NOW())-$O$5,IF(O75="F",YEAR(NOW())-$Q$5,IF(O75=0,"",O75)))) | R75: =IF(E75=0,"",IF(MOD(E75,2)=0,"",VLOOKUP(E75,$L$24:$Q$80,6,FALSE))) | S75: =IF(D75=0,"",VLOOKUP(E75,$L$25:$Q$80,4,FALSE)) -> #N/A | T75: =IF(R75="","",IF(S75="C",IF(H75>=R75,"OK","FAIL"),IF(S75="F",IF(H75<=R75,"OK","FAIL"),IF(S75="D",IF(AND(H75<=R75,H75>=U75),"OK","FAIL"),IF(U75="",IF(H75=S75,"OK","FAIL"),IF(U75="9U",IF(H75<=9,"OK","FAIL"),IF(U75="UP",IF(H75>=15,"OK","FAIL"),IF(U75="DN",IF(H75<=7,"OK","FAIL"))))))))) | U75: =IF(R75="15U","UP",IF(R75="7D","DN",IF(R75="9U","9U",IF(S75="D",10,"")))) -> #N/A
B76: =IF(B75=0,"",B75) | C76: =IF(C75=0,"",C75) | D76: =IF(D75=0,"",D75) | F76: =IF(E76="","",VLOOKUP(E76,報名總表及收費!$I$29:$L$140,4)) | H76: =IF(D76="","", IF(D76=0,"",YEAR(NOW())-D76)) | J76: =IF(E76="","",IF(((VLOOKUP(E76,$L$25:$Q$67,5))<G76),"報項時間慢於達標時間",""))&IF(T76="FAIL"," 運動員錯組別","")&IF(E76="","",IF(MOD(E76,2)=1,""," 項目編號為男子組")) | Q76: =IF(O76="D",YEAR(NOW())-$P$5,IF(O76="C",YEAR(NOW())-$O$5,IF(O76="F",YEAR(NOW())-$Q$5,IF(O76=0,"",O76)))) | R76: =IF(E76=0,"",IF(MOD(E76,2)=0,"",VLOOKUP(E76,$L$24:$Q$80,6,FALSE))) | S76: =IF(D76=0,"",VLOOKUP(E76,$L$25:$Q$80,4,FALSE)) -> #N/A | T76: =IF(R76="","",IF(S76="C",IF(H76>=R76,"OK","FAIL"),IF(S76="F",IF(H76<=R76,"OK","FAIL"),IF(S76="D",IF(AND(H76<=R76,H76>=U76),"OK","FAIL"),IF(U76="",IF(H76=S76,"OK","FAIL"),IF(U76="9U",IF(H76<=9,"OK","FAIL"),IF(U76="UP",IF(H76>=15,"OK","FAIL"),IF(U76="DN",IF(H76<=7,"OK","FAIL"))))))))) | U76: =IF(R76="15U","UP",IF(R76="7D","DN",IF(R76="9U","9U",IF(S76="D",10,"")))) -> #N/A
A77: 女運動員 14 | F77: =IF(E77="","",VLOOKUP(E77,報名總表及收費!$I$29:$L$140,4)) | H77: =IF(D77="","", IF(D77=0,"",YEAR(NOW())-D77)) | J77: =IF(E77="","",IF(((VLOOKUP(E77,$L$25:$Q$67,5))<G77),"報項時間慢於達標時間",""))&IF(T77="FAIL"," 運動員錯組別","")&IF(E77="","",IF(MOD(E77,2)=1,""," 項目編號為男子組")) | Q77: =IF(O77="D",YEAR(NOW())-$P$5,IF(O77="C",YEAR(NOW())-$O$5,IF(O77="F",YEAR(NOW())-$Q$5,IF(O77=0,"",O77)))) | R77: =IF(E77=0,"",IF(MOD(E77,2)=0,"",VLOOKUP(E77,$L$24:$Q$80,6,FALSE))) | S77: =IF(D77=0,"",VLOOKUP(E77,$L$25:$Q$80,4,FALSE)) | T77: =IF(R77="","",IF(S77="C",IF(H77>=R77,"OK","FAIL"),IF(S77="F",IF(H77<=R77,"OK","FAIL"),IF(S77="D",IF(AND(H77<=R77,H77>=U77),"OK","FAIL"),IF(U77="",IF(H77=S77,"OK","FAIL"),IF(U77="9U",IF(H77<=9,"OK","FAIL"),IF(U77="UP",IF(H77>=15,"OK","FAIL"),IF(U77="DN",IF(H77<=7,"OK","FAIL"))))))))) | U77: =IF(R77="15U","UP",IF(R77="7D","DN",IF(R77="9U","9U",IF(S77="D",10,""))))
B78: =IF(B77=0,"",B77) | C78: =IF(C77=0,"",C77) | D78: =IF(D77=0,"",D77) | F78: =IF(E78="","",VLOOKUP(E78,報名總表及收費!$I$29:$L$140,4)) | H78: =IF(D78="","", IF(D78=0,"",YEAR(NOW())-D78)) | J78: =IF(E78="","",IF(((VLOOKUP(E78,$L$25:$Q$67,5))<G78),"報項時間慢於達標時間",""))&IF(T78="FAIL"," 運動員錯組別","")&IF(E78="","",IF(MOD(E78,2)=1,""," 項目編號為男子組")) | Q78: =IF(O78="D",YEAR(NOW())-$P$5,IF(O78="C",YEAR(NOW())-$O$5,IF(O78="F",YEAR(NOW())-$Q$5,IF(O78=0,"",O78)))) | R78: =IF(E78=0,"",IF(MOD(E78,2)=0,"",VLOOKUP(E78,$L$24:$Q$80,6,FALSE))) | S78: =IF(D78=0,"",VLOOKUP(E78,$L$25:$Q$80,4,FALSE)) -> #N/A | T78: =IF(R78="","",IF(S78="C",IF(H78>=R78,"OK","FAIL"),IF(S78="F",IF(H78<=R78,"OK","FAIL"),IF(S78="D",IF(AND(H78<=R78,H78>=U78),"OK","FAIL"),IF(U78="",IF(H78=S78,"OK","FAIL"),IF(U78="9U",IF(H78<=9,"OK","FAIL"),IF(U78="UP",IF(H78>=15,"OK","FAIL"),IF(U78="DN",IF(H78<=7,"OK","FAIL"))))))))) | U78: =IF(R78="15U","UP",IF(R78="7D","DN",IF(R78="9U","9U",IF(S78="D",10,"")))) -> #N/A
B79: =IF(B78=0,"",B78) | C79: =IF(C78=0,"",C78) | D79: =IF(D78=0,"",D78) | F79: =IF(E79="","",VLOOKUP(E79,報名總表及收費!$I$29:$L$140,4)) | H79: =IF(D79="","", IF(D79=0,"",YEAR(NOW())-D79)) | J79: =IF(E79="","",IF(((VLOOKUP(E79,$L$25:$Q$67,5))<G79),"報項時間慢於達標時間",""))&IF(T79="FAIL"," 運動員錯組別","")&IF(E79="","",IF(MOD(E79,2)=1,""," 項目編號為男子組")) | Q79: =IF(O79="D",YEAR(NOW())-$P$5,IF(O79="C",YEAR(NOW())-$O$5,IF(O79="F",YEAR(NOW())-$Q$5,IF(O79=0,"",O79)))) | R79: =IF(E79=0,"",IF(MOD(E79,2)=0,"",VLOOKUP(E79,$L$24:$Q$80,6,FALSE))) | S79: =IF(D79=0,"",VLOOKUP(E79,$L$25:$Q$80,4,FALSE)) -> #N/A | T79: =IF(R79="","",IF(S79="C",IF(H79>=R79,"OK","FAIL"),IF(S79="F",IF(H79<=R79,"OK","FAIL"),IF(S79="D",IF(AND(H79<=R79,H79>=U79),"OK","FAIL"),IF(U79="",IF(H79=S79,"OK","FAIL"),IF(U79="9U",IF(H79<=9,"OK","FAIL"),IF(U79="UP",IF(H79>=15,"OK","FAIL"),IF(U79="DN",IF(H79<=7,"OK","FAIL"))))))))) | U79: =IF(R79="15U","UP",IF(R79="7D","DN",IF(R79="9U","9U",IF(S79="D",10,"")))) -> #N/A
B80: =IF(B79=0,"",B79) | C80: =IF(C79=0,"",C79) | D80: =IF(D79=0,"",D79) | F80: =IF(E80="","",VLOOKUP(E80,報名總表及收費!$I$29:$L$140,4)) | H80: =IF(D80="","", IF(D80=0,"",YEAR(NOW())-D80)) | J80: =IF(E80="","",IF(((VLOOKUP(E80,$L$25:$Q$67,5))<G80),"報項時間慢於達標時間",""))&IF(T80="FAIL"," 運動員錯組別","")&IF(E80="","",IF(MOD(E80,2)=1,""," 項目編號為男子組")) | Q80: =IF(O80="D",YEAR(NOW())-$P$5,IF(O80="C",YEAR(NOW())-$O$5,IF(O80="F",YEAR(NOW())-$Q$5,IF(O80=0,"",O80)))) | R80: =IF(E80=0,"",IF(MOD(E80,2)=0,"",VLOOKUP(E80,$L$24:$Q$80,6,FALSE))) | S80: =IF(D80=0,"",VLOOKUP(E80,$L$25:$Q$80,4,FALSE)) -> #N/A | T80: =IF(R80="","",IF(S80="C",IF(H80>=R80,"OK","FAIL"),IF(S80="F",IF(H80<=R80,"OK","FAIL"),IF(S80="D",IF(AND(H80<=R80,H80>=U80),"OK","FAIL"),IF(U80="",IF(H80=S80,"OK","FAIL"),IF(U80="9U",IF(H80<=9,"OK","FAIL"),IF(U80="UP",IF(H80>=15,"OK","FAIL"),IF(U80="DN",IF(H80<=7,"OK","FAIL"))))))))) | U80: =IF(R80="15U","UP",IF(R80="7D","DN",IF(R80="9U","9U",IF(S80="D",10,"")))) -> #N/A
A81: 女運動員 15 | F81: =IF(E81="","",VLOOKUP(E81,報名總表及收費!$I$29:$L$140,4)) | H81: =IF(D81="","", IF(D81=0,"",YEAR(NOW())-D81)) | J81: =IF(E81="","",IF(((VLOOKUP(E81,$L$25:$Q$67,5))<G81),"報項時間慢於達標時間",""))&IF(T81="FAIL"," 運動員錯組別","")&IF(E81="","",IF(MOD(E81,2)=1,""," 項目編號為男子組")) | Q81: =IF(O81="D",YEAR(NOW())-$P$5,IF(O81="C",YEAR(NOW())-$O$5,IF(O81="F",YEAR(NOW())-$Q$5,IF(O81=0,"",O81)))) | R81: =IF(E81=0,"",IF(MOD(E81,2)=0,"",VLOOKUP(E81,$L$24:$Q$80,6,FALSE))) | S81: =IF(D81=0,"",VLOOKUP(E81,$L$25:$Q$80,4,FALSE)) | T81: =IF(R81="","",IF(S81="C",IF(H81>=R81,"OK","FAIL"),IF(S81="F",IF(H81<=R81,"OK","FAIL"),IF(S81="D",IF(AND(H81<=R81,H81>=U81),"OK","FAIL"),IF(U81="",IF(H81=S81,"OK","FAIL"),IF(U81="9U",IF(H81<=9,"OK","FAIL"),IF(U81="UP",IF(H81>=15,"OK","FAIL"),IF(U81="DN",IF(H81<=7,"OK","FAIL"))))))))) | U81: =IF(R81="15U","UP",IF(R81="7D","DN",IF(R81="9U","9U",IF(S81="D",10,""))))
B82: =IF(B81=0,"",B81) | C82: =IF(C81=0,"",C81) | D82: =IF(D81=0,"",D81) | F82: =IF(E82="","",VLOOKUP(E82,報名總表及收費!$I$29:$L$140,4)) | H82: =IF(D82="","", IF(D82=0,"",YEAR(NOW())-D82)) | J82: =IF(E82="","",IF(((VLOOKUP(E82,$L$25:$Q$67,5))<G82),"報項時間慢於達標時間",""))&IF(T82="FAIL"," 運動員錯組別","")&IF(E82="","",IF(MOD(E82,2)=1,""," 項目編號為男子組")) | Q82: =IF(O82="D",YEAR(NOW())-$P$5,IF(O82="C",YEAR(NOW())-$O$5,IF(O82="F",YEAR(NOW())-$Q$5,IF(O82=0,"",O82)))) | R82: =IF(E82=0,"",IF(MOD(E82,2)=0,"",VLOOKUP(E82,$L$24:$Q$80,6,FALSE))) | S82: =IF(D82=0,"",VLOOKUP(E82,$L$25:$Q$80,4,FALSE)) -> #N/A | T82: =IF(R82="","",IF(S82="C",IF(H82>=R82,"OK","FAIL"),IF(S82="F",IF(H82<=R82,"OK","FAIL"),IF(S82="D",IF(AND(H82<=R82,H82>=U82),"OK","FAIL"),IF(U82="",IF(H82=S82,"OK","FAIL"),IF(U82="9U",IF(H82<=9,"OK","FAIL"),IF(U82="UP",IF(H82>=15,"OK","FAIL"),IF(U82="DN",IF(H82<=7,"OK","FAIL"))))))))) | U82: =IF(R82="15U","UP",IF(R82="7D","DN",IF(R82="9U","9U",IF(S82="D",10,"")))) -> #N/A
B83: =IF(B82=0,"",B82) | C83: =IF(C82=0,"",C82) | D83: =IF(D82=0,"",D82) | F83: =IF(E83="","",VLOOKUP(E83,報名總表及收費!$I$29:$L$140,4)) | H83: =IF(D83="","", IF(D83=0,"",YEAR(NOW())-D83)) | J83: =IF(E83="","",IF(((VLOOKUP(E83,$L$25:$Q$67,5))<G83),"報項時間慢於達標時間",""))&IF(T83="FAIL"," 運動員錯組別","")&IF(E83="","",IF(MOD(E83,2)=1,""," 項目編號為男子組")) | Q83: =IF(O83="D",YEAR(NOW())-$P$5,IF(O83="C",YEAR(NOW())-$O$5,IF(O83="F",YEAR(NOW())-$Q$5,IF(O83=0,"",O83)))) | R83: =IF(E83=0,"",IF(MOD(E83,2)=0,"",VLOOKUP(E83,$L$24:$Q$80,6,FALSE))) | S83: =IF(D83=0,"",VLOOKUP(E83,$L$25:$Q$80,4,FALSE)) -> #N/A | T83: =IF(R83="","",IF(S83="C",IF(H83>=R83,"OK","FAIL"),IF(S83="F",IF(H83<=R83,"OK","FAIL"),IF(S83="D",IF(AND(H83<=R83,H83>=U83),"OK","FAIL"),IF(U83="",IF(H83=S83,"OK","FAIL"),IF(U83="9U",IF(H83<=9,"OK","FAIL"),IF(U83="UP",IF(H83>=15,"OK","FAIL"),IF(U83="DN",IF(H83<=7,"OK","FAIL"))))))))) | U83: =IF(R83="15U","UP",IF(R83="7D","DN",IF(R83="9U","9U",IF(S83="D",10,"")))) -> #N/A
B84: =IF(B83=0,"",B83) | C84: =IF(C83=0,"",C83) | D84: =IF(D83=0,"",D83) | F84: =IF(E84="","",VLOOKUP(E84,報名總表及收費!$I$29:$L$140,4)) | H84: =IF(D84="","", IF(D84=0,"",YEAR(NOW())-D84)) | J84: =IF(E84="","",IF(((VLOOKUP(E84,$L$25:$Q$67,5))<G84),"報項時間慢於達標時間",""))&IF(T84="FAIL"," 運動員錯組別","")&IF(E84="","",IF(MOD(E84,2)=1,""," 項目編號為男子組")) | Q84: =IF(O84="D",YEAR(NOW())-$P$5,IF(O84="C",YEAR(NOW())-$O$5,IF(O84="F",YEAR(NOW())-$Q$5,IF(O84=0,"",O84)))) | R84: =IF(E84=0,"",IF(MOD(E84,2)=0,"",VLOOKUP(E84,$L$24:$Q$80,6,FALSE))) | S84: =IF(D84=0,"",VLOOKUP(E84,$L$25:$Q$80,4,FALSE)) -> #N/A | T84: =IF(R84="","",IF(S84="C",IF(H84>=R84,"OK","FAIL"),IF(S84="F",IF(H84<=R84,"OK","FAIL"),IF(S84="D",IF(AND(H84<=R84,H84>=U84),"OK","FAIL"),IF(U84="",IF(H84=S84,"OK","FAIL"),IF(U84="9U",IF(H84<=9,"OK","FAIL"),IF(U84="UP",IF(H84>=15,"OK","FAIL"),IF(U84="DN",IF(H84<=7,"OK","FAIL"))))))))) | U84: =IF(R84="15U","UP",IF(R84="7D","DN",IF(R84="9U","9U",IF(S84="D",10,"")))) -> #N/A
A85: 女運動員 16 | F85: =IF(E85="","",VLOOKUP(E85,報名總表及收費!$I$29:$L$140,4)) | H85: =IF(D85="","", IF(D85=0,"",YEAR(NOW())-D85)) | J85: =IF(E85="","",IF(((VLOOKUP(E85,$L$25:$Q$67,5))<G85),"報項時間慢於達標時間",""))&IF(T85="FAIL"," 運動員錯組別","")&IF(E85="","",IF(MOD(E85,2)=1,""," 項目編號為男子組")) | Q85: =IF(O85="D",YEAR(NOW())-$P$5,IF(O85="C",YEAR(NOW())-$O$5,IF(O85="F",YEAR(NOW())-$Q$5,IF(O85=0,"",O85)))) | R85: =IF(E85=0,"",IF(MOD(E85,2)=0,"",VLOOKUP(E85,$L$24:$Q$80,6,FALSE))) | S85: =IF(D85=0,"",VLOOKUP(E85,$L$25:$Q$80,4,FALSE)) | T85: =IF(R85="","",IF(S85="C",IF(H85>=R85,"OK","FAIL"),IF(S85="F",IF(H85<=R85,"OK","FAIL"),IF(S85="D",IF(AND(H85<=R85,H85>=U85),"OK","FAIL"),IF(U85="",IF(H85=S85,"OK","FAIL"),IF(U85="9U",IF(H85<=9,"OK","FAIL"),IF(U85="UP",IF(H85>=15,"OK","FAIL"),IF(U85="DN",IF(H85<=7,"OK","FAIL"))))))))) | U85: =IF(R85="15U","UP",IF(R85="7D","DN",IF(R85="9U","9U",IF(S85="D",10,""))))
B86: =IF(B85=0,"",B85) | C86: =IF(C85=0,"",C85) | D86: =IF(D85=0,"",D85) | F86: =IF(E86="","",VLOOKUP(E86,報名總表及收費!$I$29:$L$140,4)) | H86: =IF(D86="","", IF(D86=0,"",YEAR(NOW())-D86)) | J86: =IF(E86="","",IF(((VLOOKUP(E86,$L$25:$Q$67,5))<G86),"報項時間慢於達標時間",""))&IF(T86="FAIL"," 運動員錯組別","")&IF(E86="","",IF(MOD(E86,2)=1,""," 項目編號為男子組")) | Q86: =IF(O86="D",YEAR(NOW())-$P$5,IF(O86="C",YEAR(NOW())-$O$5,IF(O86="F",YEAR(NOW())-$Q$5,IF(O86=0,"",O86)))) | R86: =IF(E86=0,"",IF(MOD(E86,2)=0,"",VLOOKUP(E86,$L$24:$Q$80,6,FALSE))) | S86: =IF(D86=0,"",VLOOKUP(E86,$L$25:$Q$80,4,FALSE)) -> #N/A | T86: =IF(R86="","",IF(S86="C",IF(H86>=R86,"OK","FAIL"),IF(S86="F",IF(H86<=R86,"OK","FAIL"),IF(S86="D",IF(AND(H86<=R86,H86>=U86),"OK","FAIL"),IF(U86="",IF(H86=S86,"OK","FAIL"),IF(U86="9U",IF(H86<=9,"OK","FAIL"),IF(U86="UP",IF(H86>=15,"OK","FAIL"),IF(U86="DN",IF(H86<=7,"OK","FAIL"))))))))) | U86: =IF(R86="15U","UP",IF(R86="7D","DN",IF(R86="9U","9U",IF(S86="D",10,"")))) -> #N/A
B87: =IF(B86=0,"",B86) | C87: =IF(C86=0,"",C86) | D87: =IF(D86=0,"",D86) | F87: =IF(E87="","",VLOOKUP(E87,報名總表及收費!$I$29:$L$140,4)) | H87: =IF(D87="","", IF(D87=0,"",YEAR(NOW())-D87)) | J87: =IF(E87="","",IF(((VLOOKUP(E87,$L$25:$Q$67,5))<G87),"報項時間慢於達標時間",""))&IF(T87="FAIL"," 運動員錯組別","")&IF(E87="","",IF(MOD(E87,2)=1,""," 項目編號為男子組")) | Q87: =IF(O87="D",YEAR(NOW())-$P$5,IF(O87="C",YEAR(NOW())-$O$5,IF(O87="F",YEAR(NOW())-$Q$5,IF(O87=0,"",O87)))) | R87: =IF(E87=0,"",IF(MOD(E87,2)=0,"",VLOOKUP(E87,$L$24:$Q$80,6,FALSE))) | S87: =IF(D87=0,"",VLOOKUP(E87,$L$25:$Q$80,4,FALSE)) -> #N/A | T87: =IF(R87="","",IF(S87="C",IF(H87>=R87,"OK","FAIL"),IF(S87="F",IF(H87<=R87,"OK","FAIL"),IF(S87="D",IF(AND(H87<=R87,H87>=U87),"OK","FAIL"),IF(U87="",IF(H87=S87,"OK","FAIL"),IF(U87="9U",IF(H87<=9,"OK","FAIL"),IF(U87="UP",IF(H87>=15,"OK","FAIL"),IF(U87="DN",IF(H87<=7,"OK","FAIL"))))))))) | U87: =IF(R87="15U","UP",IF(R87="7D","DN",IF(R87="9U","9U",IF(S87="D",10,"")))) -> #N/A
B88: =IF(B87=0,"",B87) | C88: =IF(C87=0,"",C87) | D88: =IF(D87=0,"",D87) | F88: =IF(E88="","",VLOOKUP(E88,報名總表及收費!$I$29:$L$140,4)) | H88: =IF(D88="","", IF(D88=0,"",YEAR(NOW())-D88)) | J88: =IF(E88="","",IF(((VLOOKUP(E88,$L$25:$Q$67,5))<G88),"報項時間慢於達標時間",""))&IF(T88="FAIL"," 運動員錯組別","")&IF(E88="","",IF(MOD(E88,2)=1,""," 項目編號為男子組")) | Q88: =IF(O88="D",YEAR(NOW())-$P$5,IF(O88="C",YEAR(NOW())-$O$5,IF(O88="F",YEAR(NOW())-$Q$5,IF(O88=0,"",O88)))) | R88: =IF(E88=0,"",IF(MOD(E88,2)=0,"",VLOOKUP(E88,$L$24:$Q$80,6,FALSE))) | S88: =IF(D88=0,"",VLOOKUP(E88,$L$25:$Q$80,4,FALSE)) -> #N/A | T88: =IF(R88="","",IF(S88="C",IF(H88>=R88,"OK","FAIL"),IF(S88="F",IF(H88<=R88,"OK","FAIL"),IF(S88="D",IF(AND(H88<=R88,H88>=U88),"OK","FAIL"),IF(U88="",IF(H88=S88,"OK","FAIL"),IF(U88="9U",IF(H88<=9,"OK","FAIL"),IF(U88="UP",IF(H88>=15,"OK","FAIL"),IF(U88="DN",IF(H88<=7,"OK","FAIL"))))))))) | U88: =IF(R88="15U","UP",IF(R88="7D","DN",IF(R88="9U","9U",IF(S88="D",10,"")))) -> #N/A
A89: 女運動員 17 | F89: =IF(E89="","",VLOOKUP(E89,報名總表及收費!$I$29:$L$140,4)) | H89: =IF(D89="","", IF(D89=0,"",YEAR(NOW())-D89)) | J89: =IF(E89="","",IF(((VLOOKUP(E89,$L$25:$Q$67,5))<G89),"報項時間慢於達標時間",""))&IF(T89="FAIL"," 運動員錯組別","")&IF(E89="","",IF(MOD(E89,2)=1,""," 項目編號為男子組")) | Q89: =IF(O89="D",YEAR(NOW())-$P$5,IF(O89="C",YEAR(NOW())-$O$5,IF(O89="F",YEAR(NOW())-$Q$5,IF(O89=0,"",O89)))) | R89: =IF(E89=0,"",IF(MOD(E89,2)=0,"",VLOOKUP(E89,$L$24:$Q$80,6,FALSE))) | S89: =IF(D89=0,"",VLOOKUP(E89,$L$25:$Q$80,4,FALSE)) | T89: =IF(R89="","",IF(S89="C",IF(H89>=R89,"OK","FAIL"),IF(S89="F",IF(H89<=R89,"OK","FAIL"),IF(S89="D",IF(AND(H89<=R89,H89>=U89),"OK","FAIL"),IF(U89="",IF(H89=S89,"OK","FAIL"),IF(U89="9U",IF(H89<=9,"OK","FAIL"),IF(U89="UP",IF(H89>=15,"OK","FAIL"),IF(U89="DN",IF(H89<=7,"OK","FAIL"))))))))) | U89: =IF(R89="15U","UP",IF(R89="7D","DN",IF(R89="9U","9U",IF(S89="D",10,""))))
B90: =IF(B89=0,"",B89) | C90: =IF(C89=0,"",C89) | D90: =IF(D89=0,"",D89) | F90: =IF(E90="","",VLOOKUP(E90,報名總表及收費!$I$29:$L$140,4)) | H90: =IF(D90="","", IF(D90=0,"",YEAR(NOW())-D90)) | J90: =IF(E90="","",IF(((VLOOKUP(E90,$L$25:$Q$67,5))<G90),"報項時間慢於達標時間",""))&IF(T90="FAIL"," 運動員錯組別","")&IF(E90="","",IF(MOD(E90,2)=1,""," 項目編號為男子組")) | Q90: =IF(O90="D",YEAR(NOW())-$P$5,IF(O90="C",YEAR(NOW())-$O$5,IF(O90="F",YEAR(NOW())-$Q$5,IF(O90=0,"",O90)))) | R90: =IF(E90=0,"",IF(MOD(E90,2)=0,"",VLOOKUP(E90,$L$24:$Q$80,6,FALSE))) | S90: =IF(D90=0,"",VLOOKUP(E90,$L$25:$Q$80,4,FALSE)) -> #N/A | T90: =IF(R90="","",IF(S90="C",IF(H90>=R90,"OK","FAIL"),IF(S90="F",IF(H90<=R90,"OK","FAIL"),IF(S90="D",IF(AND(H90<=R90,H90>=U90),"OK","FAIL"),IF(U90="",IF(H90=S90,"OK","FAIL"),IF(U90="9U",IF(H90<=9,"OK","FAIL"),IF(U90="UP",IF(H90>=15,"OK","FAIL"),IF(U90="DN",IF(H90<=7,"OK","FAIL"))))))))) | U90: =IF(R90="15U","UP",IF(R90="7D","DN",IF(R90="9U","9U",IF(S90="D",10,"")))) -> #N/A
B91: =IF(B90=0,"",B90) | C91: =IF(C90=0,"",C90) | D91: =IF(D90=0,"",D90) | F91: =IF(E91="","",VLOOKUP(E91,報名總表及收費!$I$29:$L$140,4)) | H91: =IF(D91="","", IF(D91=0,"",YEAR(NOW())-D91)) | J91: =IF(E91="","",IF(((VLOOKUP(E91,$L$25:$Q$67,5))<G91),"報項時間慢於達標時間",""))&IF(T91="FAIL"," 運動員錯組別","")&IF(E91="","",IF(MOD(E91,2)=1,""," 項目編號為男子組")) | Q91: =IF(O91="D",YEAR(NOW())-$P$5,IF(O91="C",YEAR(NOW())-$O$5,IF(O91="F",YEAR(NOW())-$Q$5,IF(O91=0,"",O91)))) | R91: =IF(E91=0,"",IF(MOD(E91,2)=0,"",VLOOKUP(E91,$L$24:$Q$80,6,FALSE))) | S91: =IF(D91=0,"",VLOOKUP(E91,$L$25:$Q$80,4,FALSE)) -> #N/A | T91: =IF(R91="","",IF(S91="C",IF(H91>=R91,"OK","FAIL"),IF(S91="F",IF(H91<=R91,"OK","FAIL"),IF(S91="D",IF(AND(H91<=R91,H91>=U91),"OK","FAIL"),IF(U91="",IF(H91=S91,"OK","FAIL"),IF(U91="9U",IF(H91<=9,"OK","FAIL"),IF(U91="UP",IF(H91>=15,"OK","FAIL"),IF(U91="DN",IF(H91<=7,"OK","FAIL"))))))))) | U91: =IF(R91="15U","UP",IF(R91="7D","DN",IF(R91="9U","9U",IF(S91="D",10,"")))) -> #N/A
B92: =IF(B91=0,"",B91) | C92: =IF(C91=0,"",C91) | D92: =IF(D91=0,"",D91) | F92: =IF(E92="","",VLOOKUP(E92,報名總表及收費!$I$29:$L$140,4)) | H92: =IF(D92="","", IF(D92=0,"",YEAR(NOW())-D92)) | J92: =IF(E92="","",IF(((VLOOKUP(E92,$L$25:$Q$67,5))<G92),"報項時間慢於達標時間",""))&IF(T92="FAIL"," 運動員錯組別","")&IF(E92="","",IF(MOD(E92,2)=1,""," 項目編號為男子組")) | Q92: =IF(O92="D",YEAR(NOW())-$P$5,IF(O92="C",YEAR(NOW())-$O$5,IF(O92="F",YEAR(NOW())-$Q$5,IF(O92=0,"",O92)))) | R92: =IF(E92=0,"",IF(MOD(E92,2)=0,"",VLOOKUP(E92,$L$24:$Q$80,6,FALSE))) | S92: =IF(D92=0,"",VLOOKUP(E92,$L$25:$Q$80,4,FALSE)) -> #N/A | T92: =IF(R92="","",IF(S92="C",IF(H92>=R92,"OK","FAIL"),IF(S92="F",IF(H92<=R92,"OK","FAIL"),IF(S92="D",IF(AND(H92<=R92,H92>=U92),"OK","FAIL"),IF(U92="",IF(H92=S92,"OK","FAIL"),IF(U92="9U",IF(H92<=9,"OK","FAIL"),IF(U92="UP",IF(H92>=15,"OK","FAIL"),IF(U92="DN",IF(H92<=7,"OK","FAIL"))))))))) | U92: =IF(R92="15U","UP",IF(R92="7D","DN",IF(R92="9U","9U",IF(S92="D",10,"")))) -> #N/A
A93: 女運動員 18 | F93: =IF(E93="","",VLOOKUP(E93,報名總表及收費!$I$29:$L$140,4)) | H93: =IF(D93="","", IF(D93=0,"",YEAR(NOW())-D93)) | J93: =IF(E93="","",IF(((VLOOKUP(E93,$L$25:$Q$67,5))<G93),"報項時間慢於達標時間",""))&IF(T93="FAIL"," 運動員錯組別","")&IF(E93="","",IF(MOD(E93,2)=1,""," 項目編號為男子組")) | Q93: =IF(O93="D",YEAR(NOW())-$P$5,IF(O93="C",YEAR(NOW())-$O$5,IF(O93="F",YEAR(NOW())-$Q$5,IF(O93=0,"",O93)))) | R93: =IF(E93=0,"",IF(MOD(E93,2)=0,"",VLOOKUP(E93,$L$24:$Q$80,6,FALSE))) | S93: =IF(D93=0,"",VLOOKUP(E93,$L$25:$Q$80,4,FALSE)) | T93: =IF(R93="","",IF(S93="C",IF(H93>=R93,"OK","FAIL"),IF(S93="F",IF(H93<=R93,"OK","FAIL"),IF(S93="D",IF(AND(H93<=R93,H93>=U93),"OK","FAIL"),IF(U93="",IF(H93=S93,"OK","FAIL"),IF(U93="9U",IF(H93<=9,"OK","FAIL"),IF(U93="UP",IF(H93>=15,"OK","FAIL"),IF(U93="DN",IF(H93<=7,"OK","FAIL"))))))))) | U93: =IF(R93="15U","UP",IF(R93="7D","DN",IF(R93="9U","9U",IF(S93="D",10,""))))
B94: =IF(B93=0,"",B93) | C94: =IF(C93=0,"",C93) | D94: =IF(D93=0,"",D93) | F94: =IF(E94="","",VLOOKUP(E94,報名總表及收費!$I$29:$L$140,4)) | H94: =IF(D94="","", IF(D94=0,"",YEAR(NOW())-D94)) | J94: =IF(E94="","",IF(((VLOOKUP(E94,$L$25:$Q$67,5))<G94),"報項時間慢於達標時間",""))&IF(T94="FAIL"," 運動員錯組別","")&IF(E94="","",IF(MOD(E94,2)=1,""," 項目編號為男子組")) | Q94: =IF(O94="D",YEAR(NOW())-$P$5,IF(O94="C",YEAR(NOW())-$O$5,IF(O94="F",YEAR(NOW())-$Q$5,IF(O94=0,"",O94)))) | R94: =IF(E94=0,"",IF(MOD(E94,2)=0,"",VLOOKUP(E94,$L$24:$Q$80,6,FALSE))) | S94: =IF(D94=0,"",VLOOKUP(E94,$L$25:$Q$80,4,FALSE)) -> #N/A | T94: =IF(R94="","",IF(S94="C",IF(H94>=R94,"OK","FAIL"),IF(S94="F",IF(H94<=R94,"OK","FAIL"),IF(S94="D",IF(AND(H94<=R94,H94>=U94),"OK","FAIL"),IF(U94="",IF(H94=S94,"OK","FAIL"),IF(U94="9U",IF(H94<=9,"OK","FAIL"),IF(U94="UP",IF(H94>=15,"OK","FAIL"),IF(U94="DN",IF(H94<=7,"OK","FAIL"))))))))) | U94: =IF(R94="15U","UP",IF(R94="7D","DN",IF(R94="9U","9U",IF(S94="D",10,"")))) -> #N/A
B95: =IF(B94=0,"",B94) | C95: =IF(C94=0,"",C94) | D95: =IF(D94=0,"",D94) | F95: =IF(E95="","",VLOOKUP(E95,報名總表及收費!$I$29:$L$140,4)) | H95: =IF(D95="","", IF(D95=0,"",YEAR(NOW())-D95)) | J95: =IF(E95="","",IF(((VLOOKUP(E95,$L$25:$Q$67,5))<G95),"報項時間慢於達標時間",""))&IF(T95="FAIL"," 運動員錯組別","")&IF(E95="","",IF(MOD(E95,2)=1,""," 項目編號為男子組")) | Q95: =IF(O95="D",YEAR(NOW())-$P$5,IF(O95="C",YEAR(NOW())-$O$5,IF(O95="F",YEAR(NOW())-$Q$5,IF(O95=0,"",O95)))) | R95: =IF(E95=0,"",IF(MOD(E95,2)=0,"",VLOOKUP(E95,$L$24:$Q$80,6,FALSE))) | S95: =IF(D95=0,"",VLOOKUP(E95,$L$25:$Q$80,4,FALSE)) -> #N/A | T95: =IF(R95="","",IF(S95="C",IF(H95>=R95,"OK","FAIL"),IF(S95="F",IF(H95<=R95,"OK","FAIL"),IF(S95="D",IF(AND(H95<=R95,H95>=U95),"OK","FAIL"),IF(U95="",IF(H95=S95,"OK","FAIL"),IF(U95="9U",IF(H95<=9,"OK","FAIL"),IF(U95="UP",IF(H95>=15,"OK","FAIL"),IF(U95="DN",IF(H95<=7,"OK","FAIL"))))))))) | U95: =IF(R95="15U","UP",IF(R95="7D","DN",IF(R95="9U","9U",IF(S95="D",10,"")))) -> #N/A
B96: =IF(B95=0,"",B95) | C96: =IF(C95=0,"",C95) | D96: =IF(D95=0,"",D95) | F96: =IF(E96="","",VLOOKUP(E96,報名總表及收費!$I$29:$L$140,4)) | H96: =IF(D96="","", IF(D96=0,"",YEAR(NOW())-D96)) | J96: =IF(E96="","",IF(((VLOOKUP(E96,$L$25:$Q$67,5))<G96),"報項時間慢於達標時間",""))&IF(T96="FAIL"," 運動員錯組別","")&IF(E96="","",IF(MOD(E96,2)=1,""," 項目編號為男子組")) | Q96: =IF(O96="D",YEAR(NOW())-$P$5,IF(O96="C",YEAR(NOW())-$O$5,IF(O96="F",YEAR(NOW())-$Q$5,IF(O96=0,"",O96)))) | R96: =IF(E96=0,"",IF(MOD(E96,2)=0,"",VLOOKUP(E96,$L$24:$Q$80,6,FALSE))) | S96: =IF(D96=0,"",VLOOKUP(E96,$L$25:$Q$80,4,FALSE)) -> #N/A | T96: =IF(R96="","",IF(S96="C",IF(H96>=R96,"OK","FAIL"),IF(S96="F",IF(H96<=R96,"OK","FAIL"),IF(S96="D",IF(AND(H96<=R96,H96>=U96),"OK","FAIL"),IF(U96="",IF(H96=S96,"OK","FAIL"),IF(U96="9U",IF(H96<=9,"OK","FAIL"),IF(U96="UP",IF(H96>=15,"OK","FAIL"),IF(U96="DN",IF(H96<=7,"OK","FAIL"))))))))) | U96: =IF(R96="15U","UP",IF(R96="7D","DN",IF(R96="9U","9U",IF(S96="D",10,"")))) -> #N/A
A97: 女運動員 19 | F97: =IF(E97="","",VLOOKUP(E97,報名總表及收費!$I$29:$L$140,4)) | H97: =IF(D97="","", IF(D97=0,"",YEAR(NOW())-D97)) | J97: =IF(E97="","",IF(((VLOOKUP(E97,$L$25:$Q$67,5))<G97),"報項時間慢於達標時間",""))&IF(T97="FAIL"," 運動員錯組別","")&IF(E97="","",IF(MOD(E97,2)=1,""," 項目編號為男子組")) | Q97: =IF(O97="D",YEAR(NOW())-$P$5,IF(O97="C",YEAR(NOW())-$O$5,IF(O97="F",YEAR(NOW())-$Q$5,IF(O97=0,"",O97)))) | R97: =IF(E97=0,"",IF(MOD(E97,2)=0,"",VLOOKUP(E97,$L$24:$Q$80,6,FALSE))) | S97: =IF(D97=0,"",VLOOKUP(E97,$L$25:$Q$80,4,FALSE)) | T97: =IF(R97="","",IF(S97="C",IF(H97>=R97,"OK","FAIL"),IF(S97="F",IF(H97<=R97,"OK","FAIL"),IF(S97="D",IF(AND(H97<=R97,H97>=U97),"OK","FAIL"),IF(U97="",IF(H97=S97,"OK","FAIL"),IF(U97="9U",IF(H97<=9,"OK","FAIL"),IF(U97="UP",IF(H97>=15,"OK","FAIL"),IF(U97="DN",IF(H97<=7,"OK","FAIL"))))))))) | U97: =IF(R97="15U","UP",IF(R97="7D","DN",IF(R97="9U","9U",IF(S97="D",10,""))))
B98: =IF(B97=0,"",B97) | C98: =IF(C97=0,"",C97) | D98: =IF(D97=0,"",D97) | F98: =IF(E98="","",VLOOKUP(E98,報名總表及收費!$I$29:$L$140,4)) | H98: =IF(D98="","", IF(D98=0,"",YEAR(NOW())-D98)) | J98: =IF(E98="","",IF(((VLOOKUP(E98,$L$25:$Q$67,5))<G98),"報項時間慢於達標時間",""))&IF(T98="FAIL"," 運動員錯組別","")&IF(E98="","",IF(MOD(E98,2)=1,""," 項目編號為男子組")) | Q98: =IF(O98="D",YEAR(NOW())-$P$5,IF(O98="C",YEAR(NOW())-$O$5,IF(O98="F",YEAR(NOW())-$Q$5,IF(O98=0,"",O98)))) | R98: =IF(E98=0,"",IF(MOD(E98,2)=0,"",VLOOKUP(E98,$L$24:$Q$80,6,FALSE))) | S98: =IF(D98=0,"",VLOOKUP(E98,$L$25:$Q$80,4,FALSE)) -> #N/A | T98: =IF(R98="","",IF(S98="C",IF(H98>=R98,"OK","FAIL"),IF(S98="F",IF(H98<=R98,"OK","FAIL"),IF(S98="D",IF(AND(H98<=R98,H98>=U98),"OK","FAIL"),IF(U98="",IF(H98=S98,"OK","FAIL"),IF(U98="9U",IF(H98<=9,"OK","FAIL"),IF(U98="UP",IF(H98>=15,"OK","FAIL"),IF(U98="DN",IF(H98<=7,"OK","FAIL"))))))))) | U98: =IF(R98="15U","UP",IF(R98="7D","DN",IF(R98="9U","9U",IF(S98="D",10,"")))) -> #N/A
B99: =IF(B98=0,"",B98) | C99: =IF(C98=0,"",C98) | D99: =IF(D98=0,"",D98) | F99: =IF(E99="","",VLOOKUP(E99,報名總表及收費!$I$29:$L$140,4)) | H99: =IF(D99="","", IF(D99=0,"",YEAR(NOW())-D99)) | J99: =IF(E99="","",IF(((VLOOKUP(E99,$L$25:$Q$67,5))<G99),"報項時間慢於達標時間",""))&IF(T99="FAIL"," 運動員錯組別","")&IF(E99="","",IF(MOD(E99,2)=1,""," 項目編號為男子組")) | Q99: =IF(O99="D",YEAR(NOW())-$P$5,IF(O99="C",YEAR(NOW())-$O$5,IF(O99="F",YEAR(NOW())-$Q$5,IF(O99=0,"",O99)))) | R99: =IF(E99=0,"",IF(MOD(E99,2)=0,"",VLOOKUP(E99,$L$24:$Q$80,6,FALSE))) | S99: =IF(D99=0,"",VLOOKUP(E99,$L$25:$Q$80,4,FALSE)) -> #N/A | T99: =IF(R99="","",IF(S99="C",IF(H99>=R99,"OK","FAIL"),IF(S99="F",IF(H99<=R99,"OK","FAIL"),IF(S99="D",IF(AND(H99<=R99,H99>=U99),"OK","FAIL"),IF(U99="",IF(H99=S99,"OK","FAIL"),IF(U99="9U",IF(H99<=9,"OK","FAIL"),IF(U99="UP",IF(H99>=15,"OK","FAIL"),IF(U99="DN",IF(H99<=7,"OK","FAIL"))))))))) | U99: =IF(R99="15U","UP",IF(R99="7D","DN",IF(R99="9U","9U",IF(S99="D",10,"")))) -> #N/A
B100: =IF(B99=0,"",B99) | C100: =IF(C99=0,"",C99) | D100: =IF(D99=0,"",D99) | F100: =IF(E100="","",VLOOKUP(E100,報名總表及收費!$I$29:$L$140,4)) | H100: =IF(D100="","", IF(D100=0,"",YEAR(NOW())-D100)) | J100: =IF(E100="","",IF(((VLOOKUP(E100,$L$25:$Q$67,5))<G100),"報項時間慢於達標時間",""))&IF(T100="FAIL"," 運動員錯組別","")&IF(E100="","",IF(MOD(E100,2)=1,""," 項目編號為男子組")) | Q100: =IF(O100="D",YEAR(NOW())-$P$5,IF(O100="C",YEAR(NOW())-$O$5,IF(O100="F",YEAR(NOW())-$Q$5,IF(O100=0,"",O100)))) | R100: =IF(E100=0,"",IF(MOD(E100,2)=0,"",VLOOKUP(E100,$L$24:$Q$80,6,FALSE))) | S100: =IF(D100=0,"",VLOOKUP(E100,$L$25:$Q$80,4,FALSE)) -> #N/A | T100: =IF(R100="","",IF(S100="C",IF(H100>=R100,"OK","FAIL"),IF(S100="F",IF(H100<=R100,"OK","FAIL"),IF(S100="D",IF(AND(H100<=R100,H100>=U100),"OK","FAIL"),IF(U100="",IF(H100=S100,"OK","FAIL"),IF(U100="9U",IF(H100<=9,"OK","FAIL"),IF(U100="UP",IF(H100>=15,"OK","FAIL"),IF(U100="DN",IF(H100<=7,"OK","FAIL"))))))))) | U100: =IF(R100="15U","UP",IF(R100="7D","DN",IF(R100="9U","9U",IF(S100="D",10,"")))) -> #N/A
A101: 女運動員 20 | F101: =IF(E101="","",VLOOKUP(E101,報名總表及收費!$I$29:$L$140,4)) | H101: =IF(D101="","", IF(D101=0,"",YEAR(NOW())-D101)) | J101: =IF(E101="","",IF(((VLOOKUP(E101,$L$25:$Q$67,5))<G101),"報項時間慢於達標時間",""))&IF(T101="FAIL"," 運動員錯組別","")&IF(E101="","",IF(MOD(E101,2)=1,""," 項目編號為男子組")) | Q101: =IF(O101="D",YEAR(NOW())-$P$5,IF(O101="C",YEAR(NOW())-$O$5,IF(O101="F",YEAR(NOW())-$Q$5,IF(O101=0,"",O101)))) | R101: =IF(E101=0,"",IF(MOD(E101,2)=0,"",VLOOKUP(E101,$L$24:$Q$80,6,FALSE))) | S101: =IF(D101=0,"",VLOOKUP(E101,$L$25:$Q$80,4,FALSE)) | T101: =IF(R101="","",IF(S101="C",IF(H101>=R101,"OK","FAIL"),IF(S101="F",IF(H101<=R101,"OK","FAIL"),IF(S101="D",IF(AND(H101<=R101,H101>=U101),"OK","FAIL"),IF(U101="",IF(H101=S101,"OK","FAIL"),IF(U101="9U",IF(H101<=9,"OK","FAIL"),IF(U101="UP",IF(H101>=15,"OK","FAIL"),IF(U101="DN",IF(H101<=7,"OK","FAIL"))))))))) | U101: =IF(R101="15U","UP",IF(R101="7D","DN",IF(R101="9U","9U",IF(S101="D",10,""))))
B102: =IF(B101=0,"",B101) | C102: =IF(C101=0,"",C101) | D102: =IF(D101=0,"",D101) | F102: =IF(E102="","",VLOOKUP(E102,報名總表及收費!$I$29:$L$140,4)) | H102: =IF(D102="","", IF(D102=0,"",YEAR(NOW())-D102)) | J102: =IF(E102="","",IF(((VLOOKUP(E102,$L$25:$Q$67,5))<G102),"報項時間慢於達標時間",""))&IF(T102="FAIL"," 運動員錯組別","")&IF(E102="","",IF(MOD(E102,2)=1,""," 項目編號為男子組")) | Q102: =IF(O102="D",YEAR(NOW())-$P$5,IF(O102="C",YEAR(NOW())-$O$5,IF(O102="F",YEAR(NOW())-$Q$5,IF(O102=0,"",O102)))) | R102: =IF(E102=0,"",IF(MOD(E102,2)=0,"",VLOOKUP(E102,$L$24:$Q$80,6,FALSE))) | S102: =IF(D102=0,"",VLOOKUP(E102,$L$25:$Q$80,4,FALSE)) -> #N/A | T102: =IF(R102="","",IF(S102="C",IF(H102>=R102,"OK","FAIL"),IF(S102="F",IF(H102<=R102,"OK","FAIL"),IF(S102="D",IF(AND(H102<=R102,H102>=U102),"OK","FAIL"),IF(U102="",IF(H102=S102,"OK","FAIL"),IF(U102="9U",IF(H102<=9,"OK","FAIL"),IF(U102="UP",IF(H102>=15,"OK","FAIL"),IF(U102="DN",IF(H102<=7,"OK","FAIL"))))))))) | U102: =IF(R102="15U","UP",IF(R102="7D","DN",IF(R102="9U","9U",IF(S102="D",10,"")))) -> #N/A
B103: =IF(B102=0,"",B102) | C103: =IF(C102=0,"",C102) | D103: =IF(D102=0,"",D102) | F103: =IF(E103="","",VLOOKUP(E103,報名總表及收費!$I$29:$L$140,4)) | H103: =IF(D103="","", IF(D103=0,"",YEAR(NOW())-D103)) | J103: =IF(E103="","",IF(((VLOOKUP(E103,$L$25:$Q$67,5))<G103),"報項時間慢於達標時間",""))&IF(T103="FAIL"," 運動員錯組別","")&IF(E103="","",IF(MOD(E103,2)=1,""," 項目編號為男子組")) | Q103: =IF(O103="D",YEAR(NOW())-$P$5,IF(O103="C",YEAR(NOW())-$O$5,IF(O103="F",YEAR(NOW())-$Q$5,IF(O103=0,"",O103)))) | R103: =IF(E103=0,"",IF(MOD(E103,2)=0,"",VLOOKUP(E103,$L$24:$Q$80,6,FALSE))) | S103: =IF(D103=0,"",VLOOKUP(E103,$L$25:$Q$80,4,FALSE)) -> #N/A | T103: =IF(R103="","",IF(S103="C",IF(H103>=R103,"OK","FAIL"),IF(S103="F",IF(H103<=R103,"OK","FAIL"),IF(S103="D",IF(AND(H103<=R103,H103>=U103),"OK","FAIL"),IF(U103="",IF(H103=S103,"OK","FAIL"),IF(U103="9U",IF(H103<=9,"OK","FAIL"),IF(U103="UP",IF(H103>=15,"OK","FAIL"),IF(U103="DN",IF(H103<=7,"OK","FAIL"))))))))) | U103: =IF(R103="15U","UP",IF(R103="7D","DN",IF(R103="9U","9U",IF(S103="D",10,"")))) -> #N/A
...

Sheet 運動員註冊表
A1: 香港中華業餘游泳聯會
A2: 電子郵件: hkcasa.org.hk@gmail.com
A3: 2026-27年度屬會泳員註冊表
A5: 請注意以下事項︰
A6: 1. 任何時間均接受運動員註冊，請於截止報名比賽日期或之前完成運動員註冊程序
A7: 2. 運動員註冊費為港幣$50元
A8: 3. 運動員註冊後本年度轉會需另行填寫表格
A9: 4. 如有懷疑，本會有權要求屬會提交運動員身份証明文件以茲核實
A10: 5. 本註冊表之泳員資料只供華泳比賽或協辦之比賽使用
A11: 6. 屬會負責人填寫後代表得到泳員/家長同意香港中華業餘游泳聯會於所有比賽資料，包括比賽賽程及成績上顯示泳員之年齡，而所有比賽資料均不受時間約束。
D13: 屬會名稱 | E13: =IF(報名總表及收費!B10=0,"",報名總表及收費!B10)
D14: 遞交日期
D15: 註冊總費用 | E15: =COUNTA(E18:E217)*50 -> 0
B17: 中文姓名 | C17: 英文姓名 | D17: 性別 | E17: 出生日期 (yyyy/mm/dd) | F17: 證件號碼 (只需填英文字母及前 4 位數字)
A18: 1
A19: 2
A20: 3
A21: 4
A22: 5
A23: 6
A24: 7
A25: 8
A26: 9
A27: 10
A28: 11
A29: 12
... A217: 200
